Workbook

Sheet блюда
M7: калорийность д.б.:
A8: Прием пищи | B8: Наименование блюда | D8: Вес блюда | E8: Пищевые вещества (г) на 100 г блюда | H8: Энергетическая ценность (ккал) на 100 г блюда | I8: № рецептуры | N8: всего в сутки | O8: 20%-25% завтрак | Q8: 30%-35% обед
E9: Б | F9: Ж | G9: У | M9: 7-11 лет | N9: 2350 | O9: =N9*0.2 -> 470 | P9: =N9*0.25 -> 587.5 | Q9: =N9*0.3 -> 705 | R9: =N9*0.35 -> 822.5
A10: 1 | B10: 2 | D10: 3 | E10: 4 | F10: 5 | G10: 6 | H10: 7 | M10: 12-18 лет | N10: 2720 | O10: =N10*0.2 -> 544 | P10: =N10*0.25 -> 680 | Q10: =N10*0.3 -> 816 | R10: =N10*0.35 -> 952
B11: Банан | E11: 1.5 | F11: 0.5 | G11: 8 | H11: 95 | I11: 338³
B12: Борщ с капустой, картофелем, мясом птицы и сметаной | E12: 2.78 | F12: 3.18 | G12: 5.25 | H12: 61.17 | I12: 110(1) / 107(1)
B13: Бутерброд с сыром | E13: 9.1 | F13: 14.5 | G13: 12.7 | H13: 223.6 | I13: 3(2)
B14: Бутерброд с маслом | E14: 2.5 | F14: 22.5 | G14: 17.5 | H14: 287.5 | I14: 1(1)
B15: Груша свежая | E15: 0.4 | F15: 0.3 | G15: 10.3 | H15: 46 | I15: 338³
B16: Гуляш | E16: 17.25 | F16: 14 | G16: 4.125 | H16: 211.75 | I16: 260 (2)
B17: Жаркое по-домашнему | E17: 10.2 | F17: 7.9 | G17: 10.25 | H17: 153 | I17: 259 (3)
B18: Запеканка из творога с молоком сгущенным | E18: 16 | F18: 10 | G18: 32 | H18: 292 | I18: 223 (2)
B19: Икра свекольная | E19: 3 | F19: 86 | G19: 126 | H19: 137 | I19: 78 (1)
B20: Какао с молоком | E20: 2.3 | F20: 2.2 | G20: 6.2 | H20: 53.4 | I20: 693 (1)
B21: Какао со сгущеным молоком | E21: 2.4 | F21: 1.5 | G21: 5.7 | H21: 45.3 | I21: 54-2гн-2020 (8)
B22: Капуста тушеная (закуска) | E22: 5 | F22: 8.3 | G22: 25 | H22: 66.7 | I22: 321 (3)
... B28: Каша гречневая рассыпчатая | E28: 5 | F28: 4 | G28: 29 | H28: 175 | I28: 302 (3)
A29: напечатать ттк | B29: Каша манная молочная (на сгущеном молоке) | E29: 3.2 | F29: 1.4 | G29: 23 | H29: 110 | I29: 54-2к-2020 (8)
A30: напечатать ттк | B30: Каша рисовая молочная (на сгущеном молоке) | E30: 2.1 | F30: 1.4 | G30: 21.1 | H30: 99 | I30: 54-4к-2020 (8)
B31: Компот из смеси сухофруктов | E31: 0.3 | F31: 0 | G31: 11.4 | H31: 46.6 | I31: 349 (3)
B32: Коржик молочный | E32: 7 | F32: 8 | G32: 35 | H32: 175 | I32: т/н
B33: Котлеты из курицы | E33: 19.33 | F33: 4.92 | G33: 12.67 | H33: 171.07 | I33: 295 (3)
B34: Кофейный напиток с молоком | E34: 1.9 | F34: 1.8 | G34: 5.6 | H34: 45.4 | I34: 379(3)
B35: Макаронные изделия отварные с маслом | E35: 3.3 | F35: 3.3 | G35: 21.2 | H35: 139 | I35: 203 (2)
B36: Мясо птицы отварное | E36: 20 | F36: 12.5 | G36: 0 | H36: 155 | I36: 487(1)
B37: Печенье | E37: 0.4 | F37: 0.4 | G37: 9.8 | H37: 440 | I37: т/н
A38: напечатать ттк | B38: Печенье овсяное | E38: 7.9 | F38: 4 | G38: 56 | H38: 290 | I38: т/н
A39: напечатать ттк | B39: Плов из птицы | E39: 14 | F39: 4 | G39: 17 | H39: 170 | I39: 291(2)
A40: напечатать ттк | B40: Плюшка "Московская" | E40: 7.9 | F40: 4 | G40: 56 | H40: 290 | I40: т/н
B41: Пряник | E41: 7 | F41: 8 | G41: 35 | H41: 175 | I41: т/н
B42: Рассольник ленинградский с мясом курицы и сметаной | E42: 3 | F42: 3 | G42: 8 | H42: 72 | I42: 132 (1) /107 (1)
B43: Рис отварной с маслом | E43: 2 | F43: 3 | G43: 25 | H43: 142 | I43: 304 (3)
B44: Рыба тушеная в томате с овощами | E44: 1 | F44: 0 | G44: 3 | H44: 92.5 | I44: 229 (6)
B45: Салат из капусты | E45: 2 | F45: 5 | G45: 9 | H45: 88 | I45: 43 (1)
B46: Сок фруктовый (грушевый) | E46: 1 | F46: 0 | G46: 10 | H46: 42.4 | I46: 389 (3)
B47: Сок фруктовый (яблочный) | E47: 0.5 | F47: 0 | G47: 10 | H47: 42.4 | I47: 389(3)
B48: Суп картофельный вермишелевый с мясом птицы | E48: 1 | F48: 1 | G48: 7 | H48: 45 | I48: 140(1) / 107(1)
B49: Суп картофельный с горохом, мясом птицы и сметаной | E49: 5 | F49: 3 | G49: 9 | H49: 86 | I49: 139(1) / 107(1)
B50: Суп картофельный с крупой, мясом курицы и сметаной | E50: 3 | F50: 2 | G50: 8 | H50: 67 | I50: 138(1) / 107(1)
B51: Суп картофельный с мясными фрикадельками | E51: 3 | F51: 2 | G51: 8 | H51: 67 | I51: 137(1) / 112(1)
...

Sheet 7-11 лет, многодетные
A1: МОБУ "Нурминская средняя общеобразовательная школа" Приложение 8 к СанПиН 2.3/2.4.3590-20
A2: Примерное меню и пищевая ценность приготовляемых блюд (лист 1)
A4: Рацион: основной | C4: День: | D4: понедельник | F4: Возраст: | G4: 7-11 | H4: лет
C5: Неделя: | D5: 1
A6: Прием пищи | B6: Наименование блюда | C6: Вес блюда | D6: Пищевые вещества (г) | G6: Энерге- тическая ценность (ккал) | H6: № рецептуры
D7: Б | E7: Ж | F7: У
A8: 1 | B8: 2 | C8: 3 | D8: 4 | E8: 5 | F8: 6 | G8: 7
A9: Завтрак
B10: Каша рисовая молочная (на сгущеном молоке) | C10: 200 | D10: =IFERROR(VLOOKUP($B10,блюда!$B$11:$I$65,4,FALSE)*$C10/100,"") -> 4.2 | E10: =IFERROR(VLOOKUP($B10,блюда!$B$11:$I$65,5,FALSE)*$C10/100,"") -> 2.8 | F10: =IFERROR(VLOOKUP($B10,блюда!$B$11:$I$65,6,FALSE)*$C10/100,"") -> 42.2 | G10: =IFERROR(VLOOKUP($B10,блюда!$B$11:$I$65,7,FALSE)*$C10/100,"") -> 198 | H10: =IFERROR(VLOOKUP($B10,блюда!$B$11:$I$65,8,FALSE),"") -> 54-4к-2020 (8)
B11: Какао со сгущеным молоком | C11: 200 | D11: =IFERROR(VLOOKUP($B11,блюда!$B$11:$I$65,4,FALSE)*$C11/100,"") -> 4.8 | E11: =IFERROR(VLOOKUP($B11,блюда!$B$11:$I$65,5,FALSE)*$C11/100,"") -> 3 | F11: =IFERROR(VLOOKUP($B11,блюда!$B$11:$I$65,6,FALSE)*$C11/100,"") -> 11.4 | G11: =IFERROR(VLOOKUP($B11,блюда!$B$11:$I$65,7,FALSE)*$C11/100,"") -> 90.6 | H11: =IFERROR(VLOOKUP($B11,блюда!$B$11:$I$65,8,FALSE),"") -> 54-2гн-2020 (8)
B12: Печенье | C12: 50 | D12: =IFERROR(VLOOKUP($B12,блюда!$B$11:$I$65,4,FALSE)*$C12/100,"") -> 0.2 | E12: =IFERROR(VLOOKUP($B12,блюда!$B$11:$I$65,5,FALSE)*$C12/100,"") -> 0.2 | F12: =IFERROR(VLOOKUP($B12,блюда!$B$11:$I$65,6,FALSE)*$C12/100,"") -> 4.9 | G12: =IFERROR(VLOOKUP($B12,блюда!$B$11:$I$65,7,FALSE)*$C12/100,"") -> 220 | H12: =IFERROR(VLOOKUP($B12,блюда!$B$11:$I$65,8,FALSE),"") -> т/н
B13: Хлеб пшеничный | C13: 30 | D13: =IFERROR(VLOOKUP($B13,блюда!$B$11:$I$65,4,FALSE)*$C13/100,"") -> 2.7 | E13: =IFERROR(VLOOKUP($B13,блюда!$B$11:$I$65,5,FALSE)*$C13/100,"") -> 0.3 | F13: =IFERROR(VLOOKUP($B13,блюда!$B$11:$I$65,6,FALSE)*$C13/100,"") -> 17.1 | G13: =IFERROR(VLOOKUP($B13,блюда!$B$11:$I$65,7,FALSE)*$C13/100,"") -> 94.8 | H13: =IFERROR(VLOOKUP($B13,блюда!$B$11:$I$65,8,FALSE),"") -> т/н
B14: Хлеб ржаной | C14: 30 | D14: =IFERROR(VLOOKUP($B14,блюда!$B$11:$I$65,4,FALSE)*$C14/100,"") -> 0.3 | E14: =IFERROR(VLOOKUP($B14,блюда!$B$11:$I$65,5,FALSE)*$C14/100,"") -> 0.3 | F14: =IFERROR(VLOOKUP($B14,блюда!$B$11:$I$65,6,FALSE)*$C14/100,"") -> 9.9 | G14: =IFERROR(VLOOKUP($B14,блюда!$B$11:$I$65,7,FALSE)*$C14/100,"") -> 81.9 | H14: =IFERROR(VLOOKUP($B14,блюда!$B$11:$I$65,8,FALSE),"") -> т/н
D15: =IFERROR(VLOOKUP($B15,блюда!$B$11:$I$65,4,FALSE)*$C15/100,"") | E15: =IFERROR(VLOOKUP($B15,блюда!$B$11:$I$65,5,FALSE)*$C15/100,"") | F15: =IFERROR(VLOOKUP($B15,блюда!$B$11:$I$65,6,FALSE)*$C15/100,"") | G15: =IFERROR(VLOOKUP($B15,блюда!$B$11:$I$65,7,FALSE)*$C15/100,"") | H15: =IFERROR(VLOOKUP($B15,блюда!$B$11:$I$65,8,FALSE),"")
A16: Итого за Завтрак | C16: =SUM(C10:C15) -> 510 | D16: =SUM(D10:D15) -> 12.2 | E16: =SUM(E10:E15) -> 6.6 | F16: =SUM(F10:F15) -> 85.5 | G16: =SUM(G10:G15) -> 685.3
A17: Обед
B18: Суп с рыбными консервами | C18: 250 | D18: =IFERROR(VLOOKUP($B18,блюда!$B$11:$I$65,4,FALSE)*$C18/100,"") -> 10 | E18: =IFERROR(VLOOKUP($B18,блюда!$B$11:$I$65,5,FALSE)*$C18/100,"") -> 5 | F18: =IFERROR(VLOOKUP($B18,блюда!$B$11:$I$65,6,FALSE)*$C18/100,"") -> 17.5 | G18: =IFERROR(VLOOKUP($B18,блюда!$B$11:$I$65,7,FALSE)*$C18/100,"") -> 155 | H18: =IFERROR(VLOOKUP($B18,блюда!$B$11:$I$65,8,FALSE),"") -> 87 (5)
B19: Макаронные изделия отварные с маслом | C19: 180 | D19: =IFERROR(VLOOKUP($B19,блюда!$B$11:$I$65,4,FALSE)*$C19/100,"") -> 5.94 | E19: =IFERROR(VLOOKUP($B19,блюда!$B$11:$I$65,5,FALSE)*$C19/100,"") -> 5.94 | F19: =IFERROR(VLOOKUP($B19,блюда!$B$11:$I$65,6,FALSE)*$C19/100,"") -> 38.16 | G19: =IFERROR(VLOOKUP($B19,блюда!$B$11:$I$65,7,FALSE)*$C19/100,"") -> 250.2 | H19: =IFERROR(VLOOKUP($B19,блюда!$B$11:$I$65,8,FALSE),"") -> 203 (2)
B20: Котлеты из курицы | C20: 100 | D20: =IFERROR(VLOOKUP($B20,блюда!$B$11:$I$65,4,FALSE)*$C20/100,"") -> 19.33 | E20: =IFERROR(VLOOKUP($B20,блюда!$B$11:$I$65,5,FALSE)*$C20/100,"") -> 4.92 | F20: =IFERROR(VLOOKUP($B20,блюда!$B$11:$I$65,6,FALSE)*$C20/100,"") -> 12.67 | G20: =IFERROR(VLOOKUP($B20,блюда!$B$11:$I$65,7,FALSE)*$C20/100,"") -> 171.07 | H20: =IFERROR(VLOOKUP($B20,блюда!$B$11:$I$65,8,FALSE),"") -> 295 (3)
B21: Капуста тушеная (закуска) | C21: 60 | D21: =IFERROR(VLOOKUP($B21,блюда!$B$11:$I$65,4,FALSE)*$C21/100,"") -> 3 | E21: =IFERROR(VLOOKUP($B21,блюда!$B$11:$I$65,5,FALSE)*$C21/100,"") -> 4.98 | F21: =IFERROR(VLOOKUP($B21,блюда!$B$11:$I$65,6,FALSE)*$C21/100,"") -> 15 | G21: =IFERROR(VLOOKUP($B21,блюда!$B$11:$I$65,7,FALSE)*$C21/100,"") -> 40.02 | H21: =IFERROR(VLOOKUP($B21,блюда!$B$11:$I$65,8,FALSE),"") -> 321 (3)
B22: Компот из смеси сухофруктов | C22: 200 | D22: =IFERROR(VLOOKUP($B22,блюда!$B$11:$I$65,4,FALSE)*$C22/100,"") -> 0.6 | E22: =IFERROR(VLOOKUP($B22,блюда!$B$11:$I$65,5,FALSE)*$C22/100,"") -> 0 | F22: =IFERROR(VLOOKUP($B22,блюда!$B$11:$I$65,6,FALSE)*$C22/100,"") -> 22.8 | G22: =IFERROR(VLOOKUP($B22,блюда!$B$11:$I$65,7,FALSE)*$C22/100,"") -> 93.2 | H22: =IFERROR(VLOOKUP($B22,блюда!$B$11:$I$65,8,FALSE),"") -> 349 (3)
B23: Хлеб пшеничный | C23: 30 | D23: =IFERROR(VLOOKUP($B23,блюда!$B$11:$I$65,4,FALSE)*$C23/100,"") -> 2.7 | E23: =IFERROR(VLOOKUP($B23,блюда!$B$11:$I$65,5,FALSE)*$C23/100,"") -> 0.3 | F23: =IFERROR(VLOOKUP($B23,блюда!$B$11:$I$65,6,FALSE)*$C23/100,"") -> 17.1 | G23: =IFERROR(VLOOKUP($B23,блюда!$B$11:$I$65,7,FALSE)*$C23/100,"") -> 94.8 | H23: =IFERROR(VLOOKUP($B23,блюда!$B$11:$I$65,8,FALSE),"") -> т/н
B24: Хлеб ржаной | C24: 30 | D24: =IFERROR(VLOOKUP($B24,блюда!$B$11:$I$65,4,FALSE)*$C24/100,"") -> 0.3 | E24: =IFERROR(VLOOKUP($B24,блюда!$B$11:$I$65,5,FALSE)*$C24/100,"") -> 0.3 | F24: =IFERROR(VLOOKUP($B24,блюда!$B$11:$I$65,6,FALSE)*$C24/100,"") -> 9.9 | G24: =IFERROR(VLOOKUP($B24,блюда!$B$11:$I$65,7,FALSE)*$C24/100,"") -> 81.9 | H24: =IFERROR(VLOOKUP($B24,блюда!$B$11:$I$65,8,FALSE),"") -> т/н
A25: Итого за Обед | C25: =SUM(C18:C24) -> 850 | D25: =SUM(D18:D24) -> 41.87 | E25: =SUM(E18:E24) -> 21.44 | F25: =SUM(F18:F24) -> 133.13 | G25: =SUM(G18:G24) -> 886.19
A31: Итого за День | C31: =SUM(C16,C25,C30) -> 1360 | D31: =SUM(D16,D25,D30) -> 54.07 | E31: =SUM(E16,E25,E30) -> 28.04 | F31: =SUM(F16,F25,F30) -> 218.63 | G31: =SUM(G16,G25,G30) -> 1571.49
A39: МОБУ "Нурминская средняя общеобразовательная школа" Приложение 8 к СанПиН 2.3/2.4.3590-20
A40: Примерное меню и пищевая ценность приготовляемых блюд (лист 1)
A42: Рацион: основной | C42: День: | D42: вторник | F42: Возраст: | G42: 7-11 | H42: лет
C43: Неделя: | D43: 1
A44: Прием пищи | B44: Наименование блюда | C44: Вес блюда | D44: Пищевые вещества (г) | G44: Энерге- тическая ценность (ккал) | H44: № рецептуры
D45: Б | E45: Ж | F45: У
A46: 1 | B46: 2 | C46: 3 | D46: 4 | E46: 5 | F46: 6 | G46: 7
A47: Завтрак
B48: Запеканка из творога с молоком сгущенным | C48: 150 | D48: =IFERROR(VLOOKUP($B48,блюда!$B$11:$I$65,4,FALSE)*$C48/100,"") -> 24 | E48: =IFERROR(VLOOKUP($B48,блюда!$B$11:$I$65,5,FALSE)*$C48/100,"") -> 15 | F48: =IFERROR(VLOOKUP($B48,блюда!$B$11:$I$65,6,FALSE)*$C48/100,"") -> 48 | G48: =IFERROR(VLOOKUP($B48,блюда!$B$11:$I$65,7,FALSE)*$C48/100,"") -> 438 | H48: =IFERROR(VLOOKUP($B48,блюда!$B$11:$I$65,8,FALSE),"") -> 223 (2)
B49: Чай черный байховый с сахаром | C49: 200 | D49: =IFERROR(VLOOKUP($B49,блюда!$B$11:$I$65,4,FALSE)*$C49/100,"") -> 0.2 | E49: =IFERROR(VLOOKUP($B49,блюда!$B$11:$I$65,5,FALSE)*$C49/100,"") -> 0 | F49: =IFERROR(VLOOKUP($B49,блюда!$B$11:$I$65,6,FALSE)*$C49/100,"") -> 6.5 | G49: =IFERROR(VLOOKUP($B49,блюда!$B$11:$I$65,7,FALSE)*$C49/100,"") -> 26.4 | H49: =IFERROR(VLOOKUP($B49,блюда!$B$11:$I$65,8,FALSE),"") -> 685 (1)
B50: Хлеб пшеничный | C50: 30 | D50: =IFERROR(VLOOKUP($B50,блюда!$B$11:$I$65,4,FALSE)*$C50/100,"") -> 2.7 | E50: =IFERROR(VLOOKUP($B50,блюда!$B$11:$I$65,5,FALSE)*$C50/100,"") -> 0.3 | F50: =IFERROR(VLOOKUP($B50,блюда!$B$11:$I$65,6,FALSE)*$C50/100,"") -> 17.1 | G50: =IFERROR(VLOOKUP($B50,блюда!$B$11:$I$65,7,FALSE)*$C50/100,"") -> 94.8 | H50: =IFERROR(VLOOKUP($B50,блюда!$B$11:$I$65,8,FALSE),"") -> т/н
B51: Хлеб ржаной | C51: 30 | D51: =IFERROR(VLOOKUP($B51,блюда!$B$11:$I$65,4,FALSE)*$C51/100,"") -> 0.3 | E51: =IFERROR(VLOOKUP($B51,блюда!$B$11:$I$65,5,FALSE)*$C51/100,"") -> 0.3 | F51: =IFERROR(VLOOKUP($B51,блюда!$B$11:$I$65,6,FALSE)*$C51/100,"") -> 9.9 | G51: =IFERROR(VLOOKUP($B51,блюда!$B$11:$I$65,7,FALSE)*$C51/100,"") -> 81.9 | H51: =IFERROR(VLOOKUP($B51,блюда!$B$11:$I$65,8,FALSE),"") -> т/н
D52: =IFERROR(VLOOKUP($B52,блюда!$B$11:$I$65,4,FALSE)*$C52/100,"") | E52: =IFERROR(VLOOKUP($B52,блюда!$B$11:$I$65,5,FALSE)*$C52/100,"") | F52: =IFERROR(VLOOKUP($B52,блюда!$B$11:$I$65,6,FALSE)*$C52/100,"") | G52: =IFERROR(VLOOKUP($B52,блюда!$B$11:$I$65,7,FALSE)*$C52/100,"") | H52: =IFERROR(VLOOKUP($B52,блюда!$B$11:$I$65,8,FALSE),"")
D53: =IFERROR(VLOOKUP($B53,блюда!$B$11:$I$65,4,FALSE)*$C53/100,"") | E53: =IFERROR(VLOOKUP($B53,блюда!$B$11:$I$65,5,FALSE)*$C53/100,"") | F53: =IFERROR(VLOOKUP($B53,блюда!$B$11:$I$65,6,FALSE)*$C53/100,"") | G53: =IFERROR(VLOOKUP($B53,блюда!$B$11:$I$65,7,FALSE)*$C53/100,"") | H53: =IFERROR(VLOOKUP($B53,блюда!$B$11:$I$65,8,FALSE),"")
A54: Итого за Завтрак | C54: =SUM(C48:C53) -> 410 | D54: =SUM(D48:D53) -> 27.2 | E54: =SUM(E48:E53) -> 15.6 | F54: =SUM(F48:F53) -> 81.5 | G54: =SUM(G48:G53) -> 641.1
...

Sheet 12-18 лет, многодетные, сво 
A1: МОБУ "Нурминская средняя общеобразовательная школа" Приложение 8 к СанПиН 2.3/2.4.3590-20
A2: Примерное меню и пищевая ценность приготовляемых блюд (лист 1)
A4: Рацион: основной | C4: День: | D4: понедельник | F4: Возраст: | G4: 12-18 | H4: лет
C5: Неделя: | D5: 1
A6: Прием пищи | B6: Наименование блюда | C6: Вес блюда | D6: Пищевые вещества (г) | G6: Энерге- тическая ценность (ккал) | H6: № рецептуры
D7: Б | E7: Ж | F7: У
A8: 1 | B8: 2 | C8: 3 | D8: 4 | E8: 5 | F8: 6 | G8: 7
A9: Завтрак
D10: =IFERROR(VLOOKUP($B10,блюда!$B$11:$I$65,4,FALSE)*$C10/100,"") | E10: =IFERROR(VLOOKUP($B10,блюда!$B$11:$I$65,5,FALSE)*$C10/100,"") | F10: =IFERROR(VLOOKUP($B10,блюда!$B$11:$I$65,6,FALSE)*$C10/100,"") | G10: =IFERROR(VLOOKUP($B10,блюда!$B$11:$I$65,7,FALSE)*$C10/100,"") | H10: =IFERROR(VLOOKUP($B10,блюда!$B$11:$I$65,8,FALSE),"")
D11: =IFERROR(VLOOKUP($B11,блюда!$B$11:$I$65,4,FALSE)*$C11/100,"") | E11: =IFERROR(VLOOKUP($B11,блюда!$B$11:$I$65,5,FALSE)*$C11/100,"") | F11: =IFERROR(VLOOKUP($B11,блюда!$B$11:$I$65,6,FALSE)*$C11/100,"") | G11: =IFERROR(VLOOKUP($B11,блюда!$B$11:$I$65,7,FALSE)*$C11/100,"") | H11: =IFERROR(VLOOKUP($B11,блюда!$B$11:$I$65,8,FALSE),"")
D12: =IFERROR(VLOOKUP($B12,блюда!$B$11:$I$65,4,FALSE)*$C12/100,"") | E12: =IFERROR(VLOOKUP($B12,блюда!$B$11:$I$65,5,FALSE)*$C12/100,"") | F12: =IFERROR(VLOOKUP($B12,блюда!$B$11:$I$65,6,FALSE)*$C12/100,"") | G12: =IFERROR(VLOOKUP($B12,блюда!$B$11:$I$65,7,FALSE)*$C12/100,"") | H12: =IFERROR(VLOOKUP($B12,блюда!$B$11:$I$65,8,FALSE),"")
D13: =IFERROR(VLOOKUP($B13,блюда!$B$11:$I$65,4,FALSE)*$C13/100,"") | E13: =IFERROR(VLOOKUP($B13,блюда!$B$11:$I$65,5,FALSE)*$C13/100,"") | F13: =IFERROR(VLOOKUP($B13,блюда!$B$11:$I$65,6,FALSE)*$C13/100,"") | G13: =IFERROR(VLOOKUP($B13,блюда!$B$11:$I$65,7,FALSE)*$C13/100,"") | H13: =IFERROR(VLOOKUP($B13,блюда!$B$11:$I$65,8,FALSE),"")
D14: =IFERROR(VLOOKUP($B14,блюда!$B$11:$I$65,4,FALSE)*$C14/100,"") | E14: =IFERROR(VLOOKUP($B14,блюда!$B$11:$I$65,5,FALSE)*$C14/100,"") | F14: =IFERROR(VLOOKUP($B14,блюда!$B$11:$I$65,6,FALSE)*$C14/100,"") | G14: =IFERROR(VLOOKUP($B14,блюда!$B$11:$I$65,7,FALSE)*$C14/100,"") | H14: =IFERROR(VLOOKUP($B14,блюда!$B$11:$I$65,8,FALSE),"")
D15: =IFERROR(VLOOKUP($B15,блюда!$B$11:$I$65,4,FALSE)*$C15/100,"") | E15: =IFERROR(VLOOKUP($B15,блюда!$B$11:$I$65,5,FALSE)*$C15/100,"") | F15: =IFERROR(VLOOKUP($B15,блюда!$B$11:$I$65,6,FALSE)*$C15/100,"") | G15: =IFERROR(VLOOKUP($B15,блюда!$B$11:$I$65,7,FALSE)*$C15/100,"") | H15: =IFERROR(VLOOKUP($B15,блюда!$B$11:$I$65,8,FALSE),"")
A16: Итого за Завтрак | C16: =SUM(C10:C15) -> 0 | D16: =SUM(D10:D15) -> 0 | E16: =SUM(E10:E15) -> 0 | F16: =SUM(F10:F15) -> 0 | G16: =SUM(G10:G15) -> 0
A17: Обед
B18: Суп с рыбными консервами | C18: 250 | D18: =IFERROR(VLOOKUP($B18,блюда!$B$11:$I$65,4,FALSE)*$C18/100,"") -> 10 | E18: =IFERROR(VLOOKUP($B18,блюда!$B$11:$I$65,5,FALSE)*$C18/100,"") -> 5 | F18: =IFERROR(VLOOKUP($B18,блюда!$B$11:$I$65,6,FALSE)*$C18/100,"") -> 17.5 | G18: =IFERROR(VLOOKUP($B18,блюда!$B$11:$I$65,7,FALSE)*$C18/100,"") -> 155 | H18: =IFERROR(VLOOKUP($B18,блюда!$B$11:$I$65,8,FALSE),"") -> 87 (5)
B19: Макаронные изделия отварные с маслом | C19: 180 | D19: =IFERROR(VLOOKUP($B19,блюда!$B$11:$I$65,4,FALSE)*$C19/100,"") -> 5.94 | E19: =IFERROR(VLOOKUP($B19,блюда!$B$11:$I$65,5,FALSE)*$C19/100,"") -> 5.94 | F19: =IFERROR(VLOOKUP($B19,блюда!$B$11:$I$65,6,FALSE)*$C19/100,"") -> 38.16 | G19: =IFERROR(VLOOKUP($B19,блюда!$B$11:$I$65,7,FALSE)*$C19/100,"") -> 250.2 | H19: =IFERROR(VLOOKUP($B19,блюда!$B$11:$I$65,8,FALSE),"") -> 203 (2)
B20: Котлеты из курицы | C20: 100 | D20: =IFERROR(VLOOKUP($B20,блюда!$B$11:$I$65,4,FALSE)*$C20/100,"") -> 19.33 | E20: =IFERROR(VLOOKUP($B20,блюда!$B$11:$I$65,5,FALSE)*$C20/100,"") -> 4.92 | F20: =IFERROR(VLOOKUP($B20,блюда!$B$11:$I$65,6,FALSE)*$C20/100,"") -> 12.67 | G20: =IFERROR(VLOOKUP($B20,блюда!$B$11:$I$65,7,FALSE)*$C20/100,"") -> 171.07 | H20: =IFERROR(VLOOKUP($B20,блюда!$B$11:$I$65,8,FALSE),"") -> 295 (3)
B21: Капуста тушеная (закуска) | C21: 60 | D21: =IFERROR(VLOOKUP($B21,блюда!$B$11:$I$65,4,FALSE)*$C21/100,"") -> 3 | E21: =IFERROR(VLOOKUP($B21,блюда!$B$11:$I$65,5,FALSE)*$C21/100,"") -> 4.98 | F21: =IFERROR(VLOOKUP($B21,блюда!$B$11:$I$65,6,FALSE)*$C21/100,"") -> 15 | G21: =IFERROR(VLOOKUP($B21,блюда!$B$11:$I$65,7,FALSE)*$C21/100,"") -> 40.02 | H21: =IFERROR(VLOOKUP($B21,блюда!$B$11:$I$65,8,FALSE),"") -> 321 (3)
B22: Компот из смеси сухофруктов | C22: 200 | D22: =IFERROR(VLOOKUP($B22,блюда!$B$11:$I$65,4,FALSE)*$C22/100,"") -> 0.6 | E22: =IFERROR(VLOOKUP($B22,блюда!$B$11:$I$65,5,FALSE)*$C22/100,"") -> 0 | F22: =IFERROR(VLOOKUP($B22,блюда!$B$11:$I$65,6,FALSE)*$C22/100,"") -> 22.8 | G22: =IFERROR(VLOOKUP($B22,блюда!$B$11:$I$65,7,FALSE)*$C22/100,"") -> 93.2 | H22: =IFERROR(VLOOKUP($B22,блюда!$B$11:$I$65,8,FALSE),"") -> 349 (3)
B23: Хлеб пшеничный | C23: 30 | D23: =IFERROR(VLOOKUP($B23,блюда!$B$11:$I$65,4,FALSE)*$C23/100,"") -> 2.7 | E23: =IFERROR(VLOOKUP($B23,блюда!$B$11:$I$65,5,FALSE)*$C23/100,"") -> 0.3 | F23: =IFERROR(VLOOKUP($B23,блюда!$B$11:$I$65,6,FALSE)*$C23/100,"") -> 17.1 | G23: =IFERROR(VLOOKUP($B23,блюда!$B$11:$I$65,7,FALSE)*$C23/100,"") -> 94.8 | H23: =IFERROR(VLOOKUP($B23,блюда!$B$11:$I$65,8,FALSE),"") -> т/н
B24: Хлеб ржаной | C24: 30 | D24: =IFERROR(VLOOKUP($B24,блюда!$B$11:$I$65,4,FALSE)*$C24/100,"") -> 0.3 | E24: =IFERROR(VLOOKUP($B24,блюда!$B$11:$I$65,5,FALSE)*$C24/100,"") -> 0.3 | F24: =IFERROR(VLOOKUP($B24,блюда!$B$11:$I$65,6,FALSE)*$C24/100,"") -> 9.9 | G24: =IFERROR(VLOOKUP($B24,блюда!$B$11:$I$65,7,FALSE)*$C24/100,"") -> 81.9 | H24: =IFERROR(VLOOKUP($B24,блюда!$B$11:$I$65,8,FALSE),"") -> т/н
A25: Итого за Обед | C25: =SUM(C18:C24) -> 850 | D25: =SUM(D18:D24) -> 41.87 | E25: =SUM(E18:E24) -> 21.44 | F25: =SUM(F18:F24) -> 133.13 | G25: =SUM(G18:G24) -> 886.19
A26: Итого за День | C26: =SUM(C16,C25) -> 850 | D26: =SUM(D16,D25) -> 41.87 | E26: =SUM(E16,E25) -> 21.44 | F26: =SUM(F16,F25) -> 133.13 | G26: =SUM(G16,G25) -> 886.19
A35: МОБУ "Нурминская средняя общеобразовательная школа" Приложение 8 к СанПиН 2.3/2.4.3590-20
A36: Примерное меню и пищевая ценность приготовляемых блюд (лист 1)
A38: Рацион: основной | C38: День: | D38: вторник | F38: Возраст: | G38: 12-18 | H38: лет
C39: Неделя: | D39: 1
A40: Прием пищи | B40: Наименование блюда | C40: Вес блюда | D40: Пищевые вещества (г) | G40: Энерге- тическая ценность (ккал) | H40: № рецептуры
D41: Б | E41: Ж | F41: У
A42: 1 | B42: 2 | C42: 3 | D42: 4 | E42: 5 | F42: 6 | G42: 7
A43: Завтрак
D44: =IFERROR(VLOOKUP($B44,блюда!$B$11:$I$65,4,FALSE)*$C44/100,"") | E44: =IFERROR(VLOOKUP($B44,блюда!$B$11:$I$65,5,FALSE)*$C44/100,"") | F44: =IFERROR(VLOOKUP($B44,блюда!$B$11:$I$65,6,FALSE)*$C44/100,"") | G44: =IFERROR(VLOOKUP($B44,блюда!$B$11:$I$65,7,FALSE)*$C44/100,"") | H44: =IFERROR(VLOOKUP($B44,блюда!$B$11:$I$65,8,FALSE),"")
D45: =IFERROR(VLOOKUP($B45,блюда!$B$11:$I$65,4,FALSE)*$C45/100,"") | E45: =IFERROR(VLOOKUP($B45,блюда!$B$11:$I$65,5,FALSE)*$C45/100,"") | F45: =IFERROR(VLOOKUP($B45,блюда!$B$11:$I$65,6,FALSE)*$C45/100,"") | G45: =IFERROR(VLOOKUP($B45,блюда!$B$11:$I$65,7,FALSE)*$C45/100,"") | H45: =IFERROR(VLOOKUP($B45,блюда!$B$11:$I$65,8,FALSE),"")
D46: =IFERROR(VLOOKUP($B46,блюда!$B$11:$I$65,4,FALSE)*$C46/100,"") | E46: =IFERROR(VLOOKUP($B46,блюда!$B$11:$I$65,5,FALSE)*$C46/100,"") | F46: =IFERROR(VLOOKUP($B46,блюда!$B$11:$I$65,6,FALSE)*$C46/100,"") | G46: =IFERROR(VLOOKUP($B46,блюда!$B$11:$I$65,7,FALSE)*$C46/100,"") | H46: =IFERROR(VLOOKUP($B46,блюда!$B$11:$I$65,8,FALSE),"")
D47: =IFERROR(VLOOKUP($B47,блюда!$B$11:$I$65,4,FALSE)*$C47/100,"") | E47: =IFERROR(VLOOKUP($B47,блюда!$B$11:$I$65,5,FALSE)*$C47/100,"") | F47: =IFERROR(VLOOKUP($B47,блюда!$B$11:$I$65,6,FALSE)*$C47/100,"") | G47: =IFERROR(VLOOKUP($B47,блюда!$B$11:$I$65,7,FALSE)*$C47/100,"") | H47: =IFERROR(VLOOKUP($B47,блюда!$B$11:$I$65,8,FALSE),"")
D48: =IFERROR(VLOOKUP($B48,блюда!$B$11:$I$65,4,FALSE)*$C48/100,"") | E48: =IFERROR(VLOOKUP($B48,блюда!$B$11:$I$65,5,FALSE)*$C48/100,"") | F48: =IFERROR(VLOOKUP($B48,блюда!$B$11:$I$65,6,FALSE)*$C48/100,"") | G48: =IFERROR(VLOOKUP($B48,блюда!$B$11:$I$65,7,FALSE)*$C48/100,"") | H48: =IFERROR(VLOOKUP($B48,блюда!$B$11:$I$65,8,FALSE),"")
D49: =IFERROR(VLOOKUP($B49,блюда!$B$11:$I$65,4,FALSE)*$C49/100,"") | E49: =IFERROR(VLOOKUP($B49,блюда!$B$11:$I$65,5,FALSE)*$C49/100,"") | F49: =IFERROR(VLOOKUP($B49,блюда!$B$11:$I$65,6,FALSE)*$C49/100,"") | G49: =IFERROR(VLOOKUP($B49,блюда!$B$11:$I$65,7,FALSE)*$C49/100,"") | H49: =IFERROR(VLOOKUP($B49,блюда!$B$11:$I$65,8,FALSE),"")
A50: Итого за Завтрак | C50: =SUM(C44:C49) -> 0 | D50: =SUM(D44:D49) -> 0 | E50: =SUM(E44:E49) -> 0 | F50: =SUM(F44:F49) -> 0 | G50: =SUM(G44:G49) -> 0
...

Sheet 7-11 лет, начальная школа
A1: МОБУ "Нурминская средняя общеобразовательная школа" Приложение 8 к СанПиН 2.3/2.4.3590-20
A2: Примерное меню и пищевая ценность приготовляемых блюд (лист 1)
A4: Рацион: основной | C4: День: | D4: понедельник | F4: Возраст: | G4: 7-11 | H4: лет
C5: Неделя: | D5: 1
A6: Прием пищи | B6: Наименование блюда | C6: Вес блюда | D6: Пищевые вещества (г) | G6: Энерге- тическая ценность (ккал) | H6: № рецептуры
D7: Б | E7: Ж | F7: У
A8: 1 | B8: 2 | C8: 3 | D8: 4 | E8: 5 | F8: 6 | G8: 7
A9: Завтрак
D10: =IFERROR(VLOOKUP($B10,блюда!$B$11:$I$65,4,FALSE)*$C10/100,"") | E10: =IFERROR(VLOOKUP($B10,блюда!$B$11:$I$65,5,FALSE)*$C10/100,"") | F10: =IFERROR(VLOOKUP($B10,блюда!$B$11:$I$65,6,FALSE)*$C10/100,"") | G10: =IFERROR(VLOOKUP($B10,блюда!$B$11:$I$65,7,FALSE)*$C10/100,"") | H10: =IFERROR(VLOOKUP($B10,блюда!$B$11:$I$65,8,FALSE),"")
D11: =IFERROR(VLOOKUP($B11,блюда!$B$11:$I$65,4,FALSE)*$C11/100,"") | E11: =IFERROR(VLOOKUP($B11,блюда!$B$11:$I$65,5,FALSE)*$C11/100,"") | F11: =IFERROR(VLOOKUP($B11,блюда!$B$11:$I$65,6,FALSE)*$C11/100,"") | G11: =IFERROR(VLOOKUP($B11,блюда!$B$11:$I$65,7,FALSE)*$C11/100,"") | H11: =IFERROR(VLOOKUP($B11,блюда!$B$11:$I$65,8,FALSE),"")
D12: =IFERROR(VLOOKUP($B12,блюда!$B$11:$I$65,4,FALSE)*$C12/100,"") | E12: =IFERROR(VLOOKUP($B12,блюда!$B$11:$I$65,5,FALSE)*$C12/100,"") | F12: =IFERROR(VLOOKUP($B12,блюда!$B$11:$I$65,6,FALSE)*$C12/100,"") | G12: =IFERROR(VLOOKUP($B12,блюда!$B$11:$I$65,7,FALSE)*$C12/100,"") | H12: =IFERROR(VLOOKUP($B12,блюда!$B$11:$I$65,8,FALSE),"")
D13: =IFERROR(VLOOKUP($B13,блюда!$B$11:$I$65,4,FALSE)*$C13/100,"") | E13: =IFERROR(VLOOKUP($B13,блюда!$B$11:$I$65,5,FALSE)*$C13/100,"") | F13: =IFERROR(VLOOKUP($B13,блюда!$B$11:$I$65,6,FALSE)*$C13/100,"") | G13: =IFERROR(VLOOKUP($B13,блюда!$B$11:$I$65,7,FALSE)*$C13/100,"") | H13: =IFERROR(VLOOKUP($B13,блюда!$B$11:$I$65,8,FALSE),"")
D14: =IFERROR(VLOOKUP($B14,блюда!$B$11:$I$65,4,FALSE)*$C14/100,"") | E14: =IFERROR(VLOOKUP($B14,блюда!$B$11:$I$65,5,FALSE)*$C14/100,"") | F14: =IFERROR(VLOOKUP($B14,блюда!$B$11:$I$65,6,FALSE)*$C14/100,"") | G14: =IFERROR(VLOOKUP($B14,блюда!$B$11:$I$65,7,FALSE)*$C14/100,"") | H14: =IFERROR(VLOOKUP($B14,блюда!$B$11:$I$65,8,FALSE),"")
D15: =IFERROR(VLOOKUP($B15,блюда!$B$11:$I$65,4,FALSE)*$C15/100,"") | E15: =IFERROR(VLOOKUP($B15,блюда!$B$11:$I$65,5,FALSE)*$C15/100,"") | F15: =IFERROR(VLOOKUP($B15,блюда!$B$11:$I$65,6,FALSE)*$C15/100,"") | G15: =IFERROR(VLOOKUP($B15,блюда!$B$11:$I$65,7,FALSE)*$C15/100,"") | H15: =IFERROR(VLOOKUP($B15,блюда!$B$11:$I$65,8,FALSE),"")
A16: Итого за Завтрак | C16: =SUM(C10:C15) -> 0 | D16: =SUM(D10:D15) -> 0 | E16: =SUM(E10:E15) -> 0 | F16: =SUM(F10:F15) -> 0 | G16: =SUM(G10:G15) -> 0
A17: Обед
B18: Суп с рыбными консервами | C18: 250 | D18: =IFERROR(VLOOKUP($B18,блюда!$B$11:$I$65,4,FALSE)*$C18/100,"") -> 10 | E18: =IFERROR(VLOOKUP($B18,блюда!$B$11:$I$65,5,FALSE)*$C18/100,"") -> 5 | F18: =IFERROR(VLOOKUP($B18,блюда!$B$11:$I$65,6,FALSE)*$C18/100,"") -> 17.5 | G18: =IFERROR(VLOOKUP($B18,блюда!$B$11:$I$65,7,FALSE)*$C18/100,"") -> 155 | H18: =IFERROR(VLOOKUP($B18,блюда!$B$11:$I$65,8,FALSE),"") -> 87 (5)
B19: Макаронные изделия отварные с маслом | C19: 180 | D19: =IFERROR(VLOOKUP($B19,блюда!$B$11:$I$65,4,FALSE)*$C19/100,"") -> 5.94 | E19: =IFERROR(VLOOKUP($B19,блюда!$B$11:$I$65,5,FALSE)*$C19/100,"") -> 5.94 | F19: =IFERROR(VLOOKUP($B19,блюда!$B$11:$I$65,6,FALSE)*$C19/100,"") -> 38.16 | G19: =IFERROR(VLOOKUP($B19,блюда!$B$11:$I$65,7,FALSE)*$C19/100,"") -> 250.2 | H19: =IFERROR(VLOOKUP($B19,блюда!$B$11:$I$65,8,FALSE),"") -> 203 (2)
B20: Котлеты из курицы | C20: 100 | D20: =IFERROR(VLOOKUP($B20,блюда!$B$11:$I$65,4,FALSE)*$C20/100,"") -> 19.33 | E20: =IFERROR(VLOOKUP($B20,блюда!$B$11:$I$65,5,FALSE)*$C20/100,"") -> 4.92 | F20: =IFERROR(VLOOKUP($B20,блюда!$B$11:$I$65,6,FALSE)*$C20/100,"") -> 12.67 | G20: =IFERROR(VLOOKUP($B20,блюда!$B$11:$I$65,7,FALSE)*$C20/100,"") -> 171.07 | H20: =IFERROR(VLOOKUP($B20,блюда!$B$11:$I$65,8,FALSE),"") -> 295 (3)
B21: Капуста тушеная (закуска) | C21: 60 | D21: =IFERROR(VLOOKUP($B21,блюда!$B$11:$I$65,4,FALSE)*$C21/100,"") -> 3 | E21: =IFERROR(VLOOKUP($B21,блюда!$B$11:$I$65,5,FALSE)*$C21/100,"") -> 4.98 | F21: =IFERROR(VLOOKUP($B21,блюда!$B$11:$I$65,6,FALSE)*$C21/100,"") -> 15 | G21: =IFERROR(VLOOKUP($B21,блюда!$B$11:$I$65,7,FALSE)*$C21/100,"") -> 40.02 | H21: =IFERROR(VLOOKUP($B21,блюда!$B$11:$I$65,8,FALSE),"") -> 321 (3)
B22: Компот из смеси сухофруктов | C22: 200 | D22: =IFERROR(VLOOKUP($B22,блюда!$B$11:$I$65,4,FALSE)*$C22/100,"") -> 0.6 | E22: =IFERROR(VLOOKUP($B22,блюда!$B$11:$I$65,5,FALSE)*$C22/100,"") -> 0 | F22: =IFERROR(VLOOKUP($B22,блюда!$B$11:$I$65,6,FALSE)*$C22/100,"") -> 22.8 | G22: =IFERROR(VLOOKUP($B22,блюда!$B$11:$I$65,7,FALSE)*$C22/100,"") -> 93.2 | H22: =IFERROR(VLOOKUP($B22,блюда!$B$11:$I$65,8,FALSE),"") -> 349 (3)
B23: Хлеб пшеничный | C23: 30 | D23: =IFERROR(VLOOKUP($B23,блюда!$B$11:$I$65,4,FALSE)*$C23/100,"") -> 2.7 | E23: =IFERROR(VLOOKUP($B23,блюда!$B$11:$I$65,5,FALSE)*$C23/100,"") -> 0.3 | F23: =IFERROR(VLOOKUP($B23,блюда!$B$11:$I$65,6,FALSE)*$C23/100,"") -> 17.1 | G23: =IFERROR(VLOOKUP($B23,блюда!$B$11:$I$65,7,FALSE)*$C23/100,"") -> 94.8 | H23: =IFERROR(VLOOKUP($B23,блюда!$B$11:$I$65,8,FALSE),"") -> т/н
B24: Хлеб ржаной | C24: 30 | D24: =IFERROR(VLOOKUP($B24,блюда!$B$11:$I$65,4,FALSE)*$C24/100,"") -> 0.3 | E24: =IFERROR(VLOOKUP($B24,блюда!$B$11:$I$65,5,FALSE)*$C24/100,"") -> 0.3 | F24: =IFERROR(VLOOKUP($B24,блюда!$B$11:$I$65,6,FALSE)*$C24/100,"") -> 9.9 | G24: =IFERROR(VLOOKUP($B24,блюда!$B$11:$I$65,7,FALSE)*$C24/100,"") -> 81.9 | H24: =IFERROR(VLOOKUP($B24,блюда!$B$11:$I$65,8,FALSE),"") -> т/н
A25: Итого за Обед | C25: =SUM(C18:C24) -> 850 | D25: =SUM(D18:D24) -> 41.87 | E25: =SUM(E18:E24) -> 21.44 | F25: =SUM(F18:F24) -> 133.13 | G25: =SUM(G18:G24) -> 886.19
A26: Итого за День | C26: =SUM(C16,C25) -> 850 | D26: =SUM(D16,D25) -> 41.87 | E26: =SUM(E16,E25) -> 21.44 | F26: =SUM(F16,F25) -> 133.13 | G26: =SUM(G16,G25) -> 886.19
A35: МОБУ "Нурминская средняя общеобразовательная школа" Приложение 8 к СанПиН 2.3/2.4.3590-20
A36: Примерное меню и пищевая ценность приготовляемых блюд (лист 1)
A38: Рацион: основной | C38: День: | D38: вторник | F38: Возраст: | G38: 7-11 | H38: лет
C39: Неделя: | D39: 1
A40: Прием пищи | B40: Наименование блюда | C40: Вес блюда | D40: Пищевые вещества (г) | G40: Энерге- тическая ценность (ккал) | H40: № рецептуры
D41: Б | E41: Ж | F41: У
A42: 1 | B42: 2 | C42: 3 | D42: 4 | E42: 5 | F42: 6 | G42: 7
A43: Завтрак
D44: =IFERROR(VLOOKUP($B44,блюда!$B$11:$I$65,4,FALSE)*$C44/100,"") | E44: =IFERROR(VLOOKUP($B44,блюда!$B$11:$I$65,5,FALSE)*$C44/100,"") | F44: =IFERROR(VLOOKUP($B44,блюда!$B$11:$I$65,6,FALSE)*$C44/100,"") | G44: =IFERROR(VLOOKUP($B44,блюда!$B$11:$I$65,7,FALSE)*$C44/100,"") | H44: =IFERROR(VLOOKUP($B44,блюда!$B$11:$I$65,8,FALSE),"")
D45: =IFERROR(VLOOKUP($B45,блюда!$B$11:$I$65,4,FALSE)*$C45/100,"") | E45: =IFERROR(VLOOKUP($B45,блюда!$B$11:$I$65,5,FALSE)*$C45/100,"") | F45: =IFERROR(VLOOKUP($B45,блюда!$B$11:$I$65,6,FALSE)*$C45/100,"") | G45: =IFERROR(VLOOKUP($B45,блюда!$B$11:$I$65,7,FALSE)*$C45/100,"") | H45: =IFERROR(VLOOKUP($B45,блюда!$B$11:$I$65,8,FALSE),"")
D46: =IFERROR(VLOOKUP($B46,блюда!$B$11:$I$65,4,FALSE)*$C46/100,"") | E46: =IFERROR(VLOOKUP($B46,блюда!$B$11:$I$65,5,FALSE)*$C46/100,"") | F46: =IFERROR(VLOOKUP($B46,блюда!$B$11:$I$65,6,FALSE)*$C46/100,"") | G46: =IFERROR(VLOOKUP($B46,блюда!$B$11:$I$65,7,FALSE)*$C46/100,"") | H46: =IFERROR(VLOOKUP($B46,блюда!$B$11:$I$65,8,FALSE),"")
D47: =IFERROR(VLOOKUP($B47,блюда!$B$11:$I$65,4,FALSE)*$C47/100,"") | E47: =IFERROR(VLOOKUP($B47,блюда!$B$11:$I$65,5,FALSE)*$C47/100,"") | F47: =IFERROR(VLOOKUP($B47,блюда!$B$11:$I$65,6,FALSE)*$C47/100,"") | G47: =IFERROR(VLOOKUP($B47,блюда!$B$11:$I$65,7,FALSE)*$C47/100,"") | H47: =IFERROR(VLOOKUP($B47,блюда!$B$11:$I$65,8,FALSE),"")
D48: =IFERROR(VLOOKUP($B48,блюда!$B$11:$I$65,4,FALSE)*$C48/100,"") | E48: =IFERROR(VLOOKUP($B48,блюда!$B$11:$I$65,5,FALSE)*$C48/100,"") | F48: =IFERROR(VLOOKUP($B48,блюда!$B$11:$I$65,6,FALSE)*$C48/100,"") | G48: =IFERROR(VLOOKUP($B48,блюда!$B$11:$I$65,7,FALSE)*$C48/100,"") | H48: =IFERROR(VLOOKUP($B48,блюда!$B$11:$I$65,8,FALSE),"")
D49: =IFERROR(VLOOKUP($B49,блюда!$B$11:$I$65,4,FALSE)*$C49/100,"") | E49: =IFERROR(VLOOKUP($B49,блюда!$B$11:$I$65,5,FALSE)*$C49/100,"") | F49: =IFERROR(VLOOKUP($B49,блюда!$B$11:$I$65,6,FALSE)*$C49/100,"") | G49: =IFERROR(VLOOKUP($B49,блюда!$B$11:$I$65,7,FALSE)*$C49/100,"") | H49: =IFERROR(VLOOKUP($B49,блюда!$B$11:$I$65,8,FALSE),"")
A50: Итого за Завтрак | C50: =SUM(C44:C49) -> 0 | D50: =SUM(D44:D49) -> 0 | E50: =SUM(E44:E49) -> 0 | F50: =SUM(F44:F49) -> 0 | G50: =SUM(G44:G49) -> 0
...

Sheet 12-18 лет, овз, сво
A1: МОБУ "Нурминская средняя общеобразовательная школа" Приложение 8 к СанПиН 2.3/2.4.3590-20
A2: Примерное меню и пищевая ценность приготовляемых блюд (лист 1)
A4: Рацион: основной | C4: День: | D4: понедельник | F4: Возраст: | G4: 12-18 | H4: лет
C5: Неделя: | D5: 1
A6: Прием пищи | B6: Наименование блюда | C6: Вес блюда | D6: Пищевые вещества (г) | G6: Энерге- тическая ценность (ккал) | H6: № рецептуры
D7: Б | E7: Ж | F7: У
A8: 1 | B8: 2 | C8: 3 | D8: 4 | E8: 5 | F8: 6 | G8: 7
A9: Завтрак
D10: =IFERROR(VLOOKUP($B10,блюда!$B$11:$I$65,4,FALSE)*$C10/100,"") | E10: =IFERROR(VLOOKUP($B10,блюда!$B$11:$I$65,5,FALSE)*$C10/100,"") | F10: =IFERROR(VLOOKUP($B10,блюда!$B$11:$I$65,6,FALSE)*$C10/100,"") | G10: =IFERROR(VLOOKUP($B10,блюда!$B$11:$I$65,7,FALSE)*$C10/100,"") | H10: =IFERROR(VLOOKUP($B10,блюда!$B$11:$I$65,8,FALSE),"")
D11: =IFERROR(VLOOKUP($B11,блюда!$B$11:$I$65,4,FALSE)*$C11/100,"") | E11: =IFERROR(VLOOKUP($B11,блюда!$B$11:$I$65,5,FALSE)*$C11/100,"") | F11: =IFERROR(VLOOKUP($B11,блюда!$B$11:$I$65,6,FALSE)*$C11/100,"") | G11: =IFERROR(VLOOKUP($B11,блюда!$B$11:$I$65,7,FALSE)*$C11/100,"") | H11: =IFERROR(VLOOKUP($B11,блюда!$B$11:$I$65,8,FALSE),"")
D12: =IFERROR(VLOOKUP($B12,блюда!$B$11:$I$65,4,FALSE)*$C12/100,"") | E12: =IFERROR(VLOOKUP($B12,блюда!$B$11:$I$65,5,FALSE)*$C12/100,"") | F12: =IFERROR(VLOOKUP($B12,блюда!$B$11:$I$65,6,FALSE)*$C12/100,"") | G12: =IFERROR(VLOOKUP($B12,блюда!$B$11:$I$65,7,FALSE)*$C12/100,"") | H12: =IFERROR(VLOOKUP($B12,блюда!$B$11:$I$65,8,FALSE),"")
D13: =IFERROR(VLOOKUP($B13,блюда!$B$11:$I$65,4,FALSE)*$C13/100,"") | E13: =IFERROR(VLOOKUP($B13,блюда!$B$11:$I$65,5,FALSE)*$C13/100,"") | F13: =IFERROR(VLOOKUP($B13,блюда!$B$11:$I$65,6,FALSE)*$C13/100,"") | G13: =IFERROR(VLOOKUP($B13,блюда!$B$11:$I$65,7,FALSE)*$C13/100,"") | H13: =IFERROR(VLOOKUP($B13,блюда!$B$11:$I$65,8,FALSE),"")
D14: =IFERROR(VLOOKUP($B14,блюда!$B$11:$I$65,4,FALSE)*$C14/100,"") | E14: =IFERROR(VLOOKUP($B14,блюда!$B$11:$I$65,5,FALSE)*$C14/100,"") | F14: =IFERROR(VLOOKUP($B14,блюда!$B$11:$I$65,6,FALSE)*$C14/100,"") | G14: =IFERROR(VLOOKUP($B14,блюда!$B$11:$I$65,7,FALSE)*$C14/100,"") | H14: =IFERROR(VLOOKUP($B14,блюда!$B$11:$I$65,8,FALSE),"")
D15: =IFERROR(VLOOKUP($B15,блюда!$B$11:$I$65,4,FALSE)*$C15/100,"") | E15: =IFERROR(VLOOKUP($B15,блюда!$B$11:$I$65,5,FALSE)*$C15/100,"") | F15: =IFERROR(VLOOKUP($B15,блюда!$B$11:$I$65,6,FALSE)*$C15/100,"") | G15: =IFERROR(VLOOKUP($B15,блюда!$B$11:$I$65,7,FALSE)*$C15/100,"") | H15: =IFERROR(VLOOKUP($B15,блюда!$B$11:$I$65,8,FALSE),"")
A16: Итого за Завтрак | C16: =SUM(C10:C15) -> 0 | D16: =SUM(D10:D15) -> 0 | E16: =SUM(E10:E15) -> 0 | F16: =SUM(F10:F15) -> 0 | G16: =SUM(G10:G15) -> 0
A17: Обед
B18: Суп с рыбными консервами | C18: 250 | D18: =IFERROR(VLOOKUP($B18,блюда!$B$11:$I$65,4,FALSE)*$C18/100,"") -> 10 | E18: =IFERROR(VLOOKUP($B18,блюда!$B$11:$I$65,5,FALSE)*$C18/100,"") -> 5 | F18: =IFERROR(VLOOKUP($B18,блюда!$B$11:$I$65,6,FALSE)*$C18/100,"") -> 17.5 | G18: =IFERROR(VLOOKUP($B18,блюда!$B$11:$I$65,7,FALSE)*$C18/100,"") -> 155 | H18: =IFERROR(VLOOKUP($B18,блюда!$B$11:$I$65,8,FALSE),"") -> 87 (5)
B19: Макаронные изделия отварные с маслом | C19: 180 | D19: =IFERROR(VLOOKUP($B19,блюда!$B$11:$I$65,4,FALSE)*$C19/100,"") -> 5.94 | E19: =IFERROR(VLOOKUP($B19,блюда!$B$11:$I$65,5,FALSE)*$C19/100,"") -> 5.94 | F19: =IFERROR(VLOOKUP($B19,блюда!$B$11:$I$65,6,FALSE)*$C19/100,"") -> 38.16 | G19: =IFERROR(VLOOKUP($B19,блюда!$B$11:$I$65,7,FALSE)*$C19/100,"") -> 250.2 | H19: =IFERROR(VLOOKUP($B19,блюда!$B$11:$I$65,8,FALSE),"") -> 203 (2)
B20: Котлеты из курицы | C20: 100 | D20: =IFERROR(VLOOKUP($B20,блюда!$B$11:$I$65,4,FALSE)*$C20/100,"") -> 19.33 | E20: =IFERROR(VLOOKUP($B20,блюда!$B$11:$I$65,5,FALSE)*$C20/100,"") -> 4.92 | F20: =IFERROR(VLOOKUP($B20,блюда!$B$11:$I$65,6,FALSE)*$C20/100,"") -> 12.67 | G20: =IFERROR(VLOOKUP($B20,блюда!$B$11:$I$65,7,FALSE)*$C20/100,"") -> 171.07 | H20: =IFERROR(VLOOKUP($B20,блюда!$B$11:$I$65,8,FALSE),"") -> 295 (3)
B21: Капуста тушеная (закуска) | C21: 60 | D21: =IFERROR(VLOOKUP($B21,блюда!$B$11:$I$65,4,FALSE)*$C21/100,"") -> 3 | E21: =IFERROR(VLOOKUP($B21,блюда!$B$11:$I$65,5,FALSE)*$C21/100,"") -> 4.98 | F21: =IFERROR(VLOOKUP($B21,блюда!$B$11:$I$65,6,FALSE)*$C21/100,"") -> 15 | G21: =IFERROR(VLOOKUP($B21,блюда!$B$11:$I$65,7,FALSE)*$C21/100,"") -> 40.02 | H21: =IFERROR(VLOOKUP($B21,блюда!$B$11:$I$65,8,FALSE),"") -> 321 (3)
B22: Компот из смеси сухофруктов | C22: 200 | D22: =IFERROR(VLOOKUP($B22,блюда!$B$11:$I$65,4,FALSE)*$C22/100,"") -> 0.6 | E22: =IFERROR(VLOOKUP($B22,блюда!$B$11:$I$65,5,FALSE)*$C22/100,"") -> 0 | F22: =IFERROR(VLOOKUP($B22,блюда!$B$11:$I$65,6,FALSE)*$C22/100,"") -> 22.8 | G22: =IFERROR(VLOOKUP($B22,блюда!$B$11:$I$65,7,FALSE)*$C22/100,"") -> 93.2 | H22: =IFERROR(VLOOKUP($B22,блюда!$B$11:$I$65,8,FALSE),"") -> 349 (3)
B23: Хлеб пшеничный | C23: 30 | D23: =IFERROR(VLOOKUP($B23,блюда!$B$11:$I$65,4,FALSE)*$C23/100,"") -> 2.7 | E23: =IFERROR(VLOOKUP($B23,блюда!$B$11:$I$65,5,FALSE)*$C23/100,"") -> 0.3 | F23: =IFERROR(VLOOKUP($B23,блюда!$B$11:$I$65,6,FALSE)*$C23/100,"") -> 17.1 | G23: =IFERROR(VLOOKUP($B23,блюда!$B$11:$I$65,7,FALSE)*$C23/100,"") -> 94.8 | H23: =IFERROR(VLOOKUP($B23,блюда!$B$11:$I$65,8,FALSE),"") -> т/н
B24: Хлеб ржаной | C24: 30 | D24: =IFERROR(VLOOKUP($B24,блюда!$B$11:$I$65,4,FALSE)*$C24/100,"") -> 0.3 | E24: =IFERROR(VLOOKUP($B24,блюда!$B$11:$I$65,5,FALSE)*$C24/100,"") -> 0.3 | F24: =IFERROR(VLOOKUP($B24,блюда!$B$11:$I$65,6,FALSE)*$C24/100,"") -> 9.9 | G24: =IFERROR(VLOOKUP($B24,блюда!$B$11:$I$65,7,FALSE)*$C24/100,"") -> 81.9 | H24: =IFERROR(VLOOKUP($B24,блюда!$B$11:$I$65,8,FALSE),"") -> т/н
A25: Итого за Обед | C25: =SUM(C18:C24) -> 850 | D25: =SUM(D18:D24) -> 41.87 | E25: =SUM(E18:E24) -> 21.44 | F25: =SUM(F18:F24) -> 133.13 | G25: =SUM(G18:G24) -> 886.19
A26: Итого за День | C26: =SUM(C16,C25) -> 850 | D26: =SUM(D16,D25) -> 41.87 | E26: =SUM(E16,E25) -> 21.44 | F26: =SUM(F16,F25) -> 133.13 | G26: =SUM(G16,G25) -> 886.19
A35: МОБУ "Нурминская средняя общеобразовательная школа" Приложение 8 к СанПиН 2.3/2.4.3590-20
A36: Примерное меню и пищевая ценность приготовляемых блюд (лист 1)
A38: Рацион: основной | C38: День: | D38: вторник | F38: Возраст: | G38: 12-18 | H38: лет
C39: Неделя: | D39: 1
A40: Прием пищи | B40: Наименование блюда | C40: Вес блюда | D40: Пищевые вещества (г) | G40: Энерге- тическая ценность (ккал) | H40: № рецептуры
D41: Б | E41: Ж | F41: У
A42: 1 | B42: 2 | C42: 3 | D42: 4 | E42: 5 | F42: 6 | G42: 7
A43: Завтрак
D44: =IFERROR(VLOOKUP($B44,блюда!$B$11:$I$65,4,FALSE)*$C44/100,"") | E44: =IFERROR(VLOOKUP($B44,блюда!$B$11:$I$65,5,FALSE)*$C44/100,"") | F44: =IFERROR(VLOOKUP($B44,блюда!$B$11:$I$65,6,FALSE)*$C44/100,"") | G44: =IFERROR(VLOOKUP($B44,блюда!$B$11:$I$65,7,FALSE)*$C44/100,"") | H44: =IFERROR(VLOOKUP($B44,блюда!$B$11:$I$65,8,FALSE),"")
D45: =IFERROR(VLOOKUP($B45,блюда!$B$11:$I$65,4,FALSE)*$C45/100,"") | E45: =IFERROR(VLOOKUP($B45,блюда!$B$11:$I$65,5,FALSE)*$C45/100,"") | F45: =IFERROR(VLOOKUP($B45,блюда!$B$11:$I$65,6,FALSE)*$C45/100,"") | G45: =IFERROR(VLOOKUP($B45,блюда!$B$11:$I$65,7,FALSE)*$C45/100,"") | H45: =IFERROR(VLOOKUP($B45,блюда!$B$11:$I$65,8,FALSE),"")
D46: =IFERROR(VLOOKUP($B46,блюда!$B$11:$I$65,4,FALSE)*$C46/100,"") | E46: =IFERROR(VLOOKUP($B46,блюда!$B$11:$I$65,5,FALSE)*$C46/100,"") | F46: =IFERROR(VLOOKUP($B46,блюда!$B$11:$I$65,6,FALSE)*$C46/100,"") | G46: =IFERROR(VLOOKUP($B46,блюда!$B$11:$I$65,7,FALSE)*$C46/100,"") | H46: =IFERROR(VLOOKUP($B46,блюда!$B$11:$I$65,8,FALSE),"")
D47: =IFERROR(VLOOKUP($B47,блюда!$B$11:$I$65,4,FALSE)*$C47/100,"") | E47: =IFERROR(VLOOKUP($B47,блюда!$B$11:$I$65,5,FALSE)*$C47/100,"") | F47: =IFERROR(VLOOKUP($B47,блюда!$B$11:$I$65,6,FALSE)*$C47/100,"") | G47: =IFERROR(VLOOKUP($B47,блюда!$B$11:$I$65,7,FALSE)*$C47/100,"") | H47: =IFERROR(VLOOKUP($B47,блюда!$B$11:$I$65,8,FALSE),"")
D48: =IFERROR(VLOOKUP($B48,блюда!$B$11:$I$65,4,FALSE)*$C48/100,"") | E48: =IFERROR(VLOOKUP($B48,блюда!$B$11:$I$65,5,FALSE)*$C48/100,"") | F48: =IFERROR(VLOOKUP($B48,блюда!$B$11:$I$65,6,FALSE)*$C48/100,"") | G48: =IFERROR(VLOOKUP($B48,блюда!$B$11:$I$65,7,FALSE)*$C48/100,"") | H48: =IFERROR(VLOOKUP($B48,блюда!$B$11:$I$65,8,FALSE),"")
D49: =IFERROR(VLOOKUP($B49,блюда!$B$11:$I$65,4,FALSE)*$C49/100,"") | E49: =IFERROR(VLOOKUP($B49,блюда!$B$11:$I$65,5,FALSE)*$C49/100,"") | F49: =IFERROR(VLOOKUP($B49,блюда!$B$11:$I$65,6,FALSE)*$C49/100,"") | G49: =IFERROR(VLOOKUP($B49,блюда!$B$11:$I$65,7,FALSE)*$C49/100,"") | H49: =IFERROR(VLOOKUP($B49,блюда!$B$11:$I$65,8,FALSE),"")
A50: Итого за Завтрак | C50: =SUM(C44:C49) -> 0 | D50: =SUM(D44:D49) -> 0 | E50: =SUM(E44:E49) -> 0 | F50: =SUM(F44:F49) -> 0 | G50: =SUM(G44:G49) -> 0
...

Sheet платные
A1: МОБУ "Нурминская средняя общеобразовательная школа" Приложение 8 к СанПиН 2.3/2.4.3590-20
A2: Примерное меню и пищевая ценность приготовляемых блюд (лист 1)
A4: Рацион: основной | C4: День: | D4: понедельник | F4: Возраст: | G4: 12-18 | H4: лет
C5: Неделя: | D5: 1
A6: Прием пищи | B6: Наименование блюда | C6: Вес блюда | D6: Пищевые вещества (г) | G6: Энерге- тическая ценность (ккал) | H6: № рецептуры
D7: Б | E7: Ж | F7: У
A8: 1 | B8: 2 | C8: 3 | D8: 4 | E8: 5 | F8: 6 | G8: 7
A9: Завтрак
B10: Каша рисовая молочная (на сгущеном молоке) | C10: 200 | D10: =IFERROR(VLOOKUP($B10,блюда!$B$11:$I$65,4,FALSE)*$C10/100,"") -> 4.2 | E10: =IFERROR(VLOOKUP($B10,блюда!$B$11:$I$65,5,FALSE)*$C10/100,"") -> 2.8 | F10: =IFERROR(VLOOKUP($B10,блюда!$B$11:$I$65,6,FALSE)*$C10/100,"") -> 42.2 | G10: =IFERROR(VLOOKUP($B10,блюда!$B$11:$I$65,7,FALSE)*$C10/100,"") -> 198 | H10: =IFERROR(VLOOKUP($B10,блюда!$B$11:$I$65,8,FALSE),"") -> 54-4к-2020 (8)
B11: Какао со сгущеным молоком | C11: 200 | D11: =IFERROR(VLOOKUP($B11,блюда!$B$11:$I$65,4,FALSE)*$C11/100,"") -> 4.8 | E11: =IFERROR(VLOOKUP($B11,блюда!$B$11:$I$65,5,FALSE)*$C11/100,"") -> 3 | F11: =IFERROR(VLOOKUP($B11,блюда!$B$11:$I$65,6,FALSE)*$C11/100,"") -> 11.4 | G11: =IFERROR(VLOOKUP($B11,блюда!$B$11:$I$65,7,FALSE)*$C11/100,"") -> 90.6 | H11: =IFERROR(VLOOKUP($B11,блюда!$B$11:$I$65,8,FALSE),"") -> 54-2гн-2020 (8)
B12: Печенье | C12: 50 | D12: =IFERROR(VLOOKUP($B12,блюда!$B$11:$I$65,4,FALSE)*$C12/100,"") -> 0.2 | E12: =IFERROR(VLOOKUP($B12,блюда!$B$11:$I$65,5,FALSE)*$C12/100,"") -> 0.2 | F12: =IFERROR(VLOOKUP($B12,блюда!$B$11:$I$65,6,FALSE)*$C12/100,"") -> 4.9 | G12: =IFERROR(VLOOKUP($B12,блюда!$B$11:$I$65,7,FALSE)*$C12/100,"") -> 220 | H12: =IFERROR(VLOOKUP($B12,блюда!$B$11:$I$65,8,FALSE),"") -> т/н
B13: Хлеб пшеничный | C13: 30 | D13: =IFERROR(VLOOKUP($B13,блюда!$B$11:$I$65,4,FALSE)*$C13/100,"") -> 2.7 | E13: =IFERROR(VLOOKUP($B13,блюда!$B$11:$I$65,5,FALSE)*$C13/100,"") -> 0.3 | F13: =IFERROR(VLOOKUP($B13,блюда!$B$11:$I$65,6,FALSE)*$C13/100,"") -> 17.1 | G13: =IFERROR(VLOOKUP($B13,блюда!$B$11:$I$65,7,FALSE)*$C13/100,"") -> 94.8 | H13: =IFERROR(VLOOKUP($B13,блюда!$B$11:$I$65,8,FALSE),"") -> т/н
B14: Хлеб ржаной | C14: 30 | D14: =IFERROR(VLOOKUP($B14,блюда!$B$11:$I$65,4,FALSE)*$C14/100,"") -> 0.3 | E14: =IFERROR(VLOOKUP($B14,блюда!$B$11:$I$65,5,FALSE)*$C14/100,"") -> 0.3 | F14: =IFERROR(VLOOKUP($B14,блюда!$B$11:$I$65,6,FALSE)*$C14/100,"") -> 9.9 | G14: =IFERROR(VLOOKUP($B14,блюда!$B$11:$I$65,7,FALSE)*$C14/100,"") -> 81.9 | H14: =IFERROR(VLOOKUP($B14,блюда!$B$11:$I$65,8,FALSE),"") -> т/н
D15: =IFERROR(VLOOKUP($B15,блюда!$B$11:$I$65,4,FALSE)*$C15/100,"") | E15: =IFERROR(VLOOKUP($B15,блюда!$B$11:$I$65,5,FALSE)*$C15/100,"") | F15: =IFERROR(VLOOKUP($B15,блюда!$B$11:$I$65,6,FALSE)*$C15/100,"") | G15: =IFERROR(VLOOKUP($B15,блюда!$B$11:$I$65,7,FALSE)*$C15/100,"") | H15: =IFERROR(VLOOKUP($B15,блюда!$B$11:$I$65,8,FALSE),"")
A16: Итого за Завтрак | C16: =SUM(C10:C15) -> 510 | D16: =SUM(D10:D15) -> 12.2 | E16: =SUM(E10:E15) -> 6.6 | F16: =SUM(F10:F15) -> 85.5 | G16: =SUM(G10:G15) -> 685.3
A17: Обед
B18: Суп с рыбными консервами | C18: 250 | D18: =IFERROR(VLOOKUP($B18,блюда!$B$11:$I$65,4,FALSE)*$C18/100,"") -> 10 | E18: =IFERROR(VLOOKUP($B18,блюда!$B$11:$I$65,5,FALSE)*$C18/100,"") -> 5 | F18: =IFERROR(VLOOKUP($B18,блюда!$B$11:$I$65,6,FALSE)*$C18/100,"") -> 17.5 | G18: =IFERROR(VLOOKUP($B18,блюда!$B$11:$I$65,7,FALSE)*$C18/100,"") -> 155 | H18: =IFERROR(VLOOKUP($B18,блюда!$B$11:$I$65,8,FALSE),"") -> 87 (5)
B19: Макаронные изделия отварные с маслом | C19: 180 | D19: =IFERROR(VLOOKUP($B19,блюда!$B$11:$I$65,4,FALSE)*$C19/100,"") -> 5.94 | E19: =IFERROR(VLOOKUP($B19,блюда!$B$11:$I$65,5,FALSE)*$C19/100,"") -> 5.94 | F19: =IFERROR(VLOOKUP($B19,блюда!$B$11:$I$65,6,FALSE)*$C19/100,"") -> 38.16 | G19: =IFERROR(VLOOKUP($B19,блюда!$B$11:$I$65,7,FALSE)*$C19/100,"") -> 250.2 | H19: =IFERROR(VLOOKUP($B19,блюда!$B$11:$I$65,8,FALSE),"") -> 203 (2)
B20: Котлеты из курицы | C20: 100 | D20: =IFERROR(VLOOKUP($B20,блюда!$B$11:$I$65,4,FALSE)*$C20/100,"") -> 19.33 | E20: =IFERROR(VLOOKUP($B20,блюда!$B$11:$I$65,5,FALSE)*$C20/100,"") -> 4.92 | F20: =IFERROR(VLOOKUP($B20,блюда!$B$11:$I$65,6,FALSE)*$C20/100,"") -> 12.67 | G20: =IFERROR(VLOOKUP($B20,блюда!$B$11:$I$65,7,FALSE)*$C20/100,"") -> 171.07 | H20: =IFERROR(VLOOKUP($B20,блюда!$B$11:$I$65,8,FALSE),"") -> 295 (3)
B21: Капуста тушеная (закуска) | C21: 60 | D21: =IFERROR(VLOOKUP($B21,блюда!$B$11:$I$65,4,FALSE)*$C21/100,"") -> 3 | E21: =IFERROR(VLOOKUP($B21,блюда!$B$11:$I$65,5,FALSE)*$C21/100,"") -> 4.98 | F21: =IFERROR(VLOOKUP($B21,блюда!$B$11:$I$65,6,FALSE)*$C21/100,"") -> 15 | G21: =IFERROR(VLOOKUP($B21,блюда!$B$11:$I$65,7,FALSE)*$C21/100,"") -> 40.02 | H21: =IFERROR(VLOOKUP($B21,блюда!$B$11:$I$65,8,FALSE),"") -> 321 (3)
B22: Компот из смеси сухофруктов | C22: 200 | D22: =IFERROR(VLOOKUP($B22,блюда!$B$11:$I$65,4,FALSE)*$C22/100,"") -> 0.6 | E22: =IFERROR(VLOOKUP($B22,блюда!$B$11:$I$65,5,FALSE)*$C22/100,"") -> 0 | F22: =IFERROR(VLOOKUP($B22,блюда!$B$11:$I$65,6,FALSE)*$C22/100,"") -> 22.8 | G22: =IFERROR(VLOOKUP($B22,блюда!$B$11:$I$65,7,FALSE)*$C22/100,"") -> 93.2 | H22: =IFERROR(VLOOKUP($B22,блюда!$B$11:$I$65,8,FALSE),"") -> 349 (3)
B23: Хлеб пшеничный | C23: 30 | D23: =IFERROR(VLOOKUP($B23,блюда!$B$11:$I$65,4,FALSE)*$C23/100,"") -> 2.7 | E23: =IFERROR(VLOOKUP($B23,блюда!$B$11:$I$65,5,FALSE)*$C23/100,"") -> 0.3 | F23: =IFERROR(VLOOKUP($B23,блюда!$B$11:$I$65,6,FALSE)*$C23/100,"") -> 17.1 | G23: =IFERROR(VLOOKUP($B23,блюда!$B$11:$I$65,7,FALSE)*$C23/100,"") -> 94.8 | H23: =IFERROR(VLOOKUP($B23,блюда!$B$11:$I$65,8,FALSE),"") -> т/н
B24: Хлеб ржаной | C24: 30 | D24: =IFERROR(VLOOKUP($B24,блюда!$B$11:$I$65,4,FALSE)*$C24/100,"") -> 0.3 | E24: =IFERROR(VLOOKUP($B24,блюда!$B$11:$I$65,5,FALSE)*$C24/100,"") -> 0.3 | F24: =IFERROR(VLOOKUP($B24,блюда!$B$11:$I$65,6,FALSE)*$C24/100,"") -> 9.9 | G24: =IFERROR(VLOOKUP($B24,блюда!$B$11:$I$65,7,FALSE)*$C24/100,"") -> 81.9 | H24: =IFERROR(VLOOKUP($B24,блюда!$B$11:$I$65,8,FALSE),"") -> т/н
A25: Итого за Обед | C25: =SUM(C18:C24) -> 850 | D25: =SUM(D18:D24) -> 41.87 | E25: =SUM(E18:E24) -> 21.44 | F25: =SUM(F18:F24) -> 133.13 | G25: =SUM(G18:G24) -> 886.19
A26: Итого за День | C26: =SUM(C16,C25) -> 1360 | D26: =SUM(D16,D25) -> 54.07 | E26: =SUM(E16,E25) -> 28.04 | F26: =SUM(F16,F25) -> 218.63 | G26: =SUM(G16,G25) -> 1571.49
A35: МОБУ "Нурминская средняя общеобразовательная школа" Приложение 8 к СанПиН 2.3/2.4.3590-20
A36: Примерное меню и пищевая ценность приготовляемых блюд (лист 1)
A38: Рацион: основной | C38: День: | D38: вторник | F38: Возраст: | G38: 12-18 | H38: лет
C39: Неделя: | D39: 1
A40: Прием пищи | B40: Наименование блюда | C40: Вес блюда | D40: Пищевые вещества (г) | G40: Энерге- тическая ценность (ккал) | H40: № рецептуры
D41: Б | E41: Ж | F41: У
A42: 1 | B42: 2 | C42: 3 | D42: 4 | E42: 5 | F42: 6 | G42: 7
A43: Завтрак
B44: Запеканка из творога с молоком сгущенным | C44: 150 | D44: =IFERROR(VLOOKUP($B44,блюда!$B$11:$I$65,4,FALSE)*$C44/100,"") -> 24 | E44: =IFERROR(VLOOKUP($B44,блюда!$B$11:$I$65,5,FALSE)*$C44/100,"") -> 15 | F44: =IFERROR(VLOOKUP($B44,блюда!$B$11:$I$65,6,FALSE)*$C44/100,"") -> 48 | G44: =IFERROR(VLOOKUP($B44,блюда!$B$11:$I$65,7,FALSE)*$C44/100,"") -> 438 | H44: =IFERROR(VLOOKUP($B44,блюда!$B$11:$I$65,8,FALSE),"") -> 223 (2)
B45: Чай черный байховый с сахаром | C45: 200 | D45: =IFERROR(VLOOKUP($B45,блюда!$B$11:$I$65,4,FALSE)*$C45/100,"") -> 0.2 | E45: =IFERROR(VLOOKUP($B45,блюда!$B$11:$I$65,5,FALSE)*$C45/100,"") -> 0 | F45: =IFERROR(VLOOKUP($B45,блюда!$B$11:$I$65,6,FALSE)*$C45/100,"") -> 6.5 | G45: =IFERROR(VLOOKUP($B45,блюда!$B$11:$I$65,7,FALSE)*$C45/100,"") -> 26.4 | H45: =IFERROR(VLOOKUP($B45,блюда!$B$11:$I$65,8,FALSE),"") -> 685 (1)
B46: Хлеб пшеничный | C46: 30 | D46: =IFERROR(VLOOKUP($B46,блюда!$B$11:$I$65,4,FALSE)*$C46/100,"") -> 2.7 | E46: =IFERROR(VLOOKUP($B46,блюда!$B$11:$I$65,5,FALSE)*$C46/100,"") -> 0.3 | F46: =IFERROR(VLOOKUP($B46,блюда!$B$11:$I$65,6,FALSE)*$C46/100,"") -> 17.1 | G46: =IFERROR(VLOOKUP($B46,блюда!$B$11:$I$65,7,FALSE)*$C46/100,"") -> 94.8 | H46: =IFERROR(VLOOKUP($B46,блюда!$B$11:$I$65,8,FALSE),"") -> т/н
B47: Хлеб ржаной | C47: 30 | D47: =IFERROR(VLOOKUP($B47,блюда!$B$11:$I$65,4,FALSE)*$C47/100,"") -> 0.3 | E47: =IFERROR(VLOOKUP($B47,блюда!$B$11:$I$65,5,FALSE)*$C47/100,"") -> 0.3 | F47: =IFERROR(VLOOKUP($B47,блюда!$B$11:$I$65,6,FALSE)*$C47/100,"") -> 9.9 | G47: =IFERROR(VLOOKUP($B47,блюда!$B$11:$I$65,7,FALSE)*$C47/100,"") -> 81.9 | H47: =IFERROR(VLOOKUP($B47,блюда!$B$11:$I$65,8,FALSE),"") -> т/н
D48: =IFERROR(VLOOKUP($B48,блюда!$B$11:$I$65,4,FALSE)*$C48/100,"") | E48: =IFERROR(VLOOKUP($B48,блюда!$B$11:$I$65,5,FALSE)*$C48/100,"") | F48: =IFERROR(VLOOKUP($B48,блюда!$B$11:$I$65,6,FALSE)*$C48/100,"") | G48: =IFERROR(VLOOKUP($B48,блюда!$B$11:$I$65,7,FALSE)*$C48/100,"") | H48: =IFERROR(VLOOKUP($B48,блюда!$B$11:$I$65,8,FALSE),"")
D49: =IFERROR(VLOOKUP($B49,блюда!$B$11:$I$65,4,FALSE)*$C49/100,"") | E49: =IFERROR(VLOOKUP($B49,блюда!$B$11:$I$65,5,FALSE)*$C49/100,"") | F49: =IFERROR(VLOOKUP($B49,блюда!$B$11:$I$65,6,FALSE)*$C49/100,"") | G49: =IFERROR(VLOOKUP($B49,блюда!$B$11:$I$65,7,FALSE)*$C49/100,"") | H49: =IFERROR(VLOOKUP($B49,блюда!$B$11:$I$65,8,FALSE),"")
A50: Итого за Завтрак | C50: =SUM(C44:C49) -> 410 | D50: =SUM(D44:D49) -> 27.2 | E50: =SUM(E44:E49) -> 15.6 | F50: =SUM(F44:F49) -> 81.5 | G50: =SUM(G44:G49) -> 641.1
...
