Workbook

Sheet блюда
M7: калорийность д.б.:
A8: Прием пищи | B8: Наименование блюда | D8: Вес блюда | E8: Пищевые вещества (г) на 100 г блюда | H8: Энергетическая ценность (ккал) на 100 г блюда | I8: № рецептуры | N8: всего в сутки | O8: 20%-25% завтрак | Q8: 30%-35% обед
E9: Б | F9: Ж | G9: У | M9: 7-11 лет | N9: 2350 | O9: =N9*0.2 -> 470 | P9: =N9*0.25 -> 587.5 | Q9: =N9*0.3 -> 705 | R9: =N9*0.35 -> 822.5
A10: 1 | B10: 2 | D10: 3 | E10: 4 | F10: 5 | G10: 6 | H10: 7 | M10: 12-18 лет | N10: 2720 | O10: =N10*0.2 -> 544 | P10: =N10*0.25 -> 680 | Q10: =N10*0.3 -> 816 | R10: =N10*0.35 -> 952
B11: Банан | E11: 1.5 | F11: 0.5 | G11: 8 | H11: 95 | I11: 338³
B12: Борщ с капустой, картофелем, мясом птицы и сметаной | E12: 2.78 | F12: 3.18 | G12: 5.25 | H12: 61.17 | I12: 110(1) / 107(1)
B13: Бутерброд с сыром | E13: 9.1 | F13: 14.5 | G13: 12.7 | H13: 223.6 | I13: 3(2)
B14: Бутерброд с маслом | E14: 2.5 | F14: 22.5 | G14: 17.5 | H14: 287.5 | I14: 1(1)
B15: Груша свежая | E15: 0.4 | F15: 0.3 | G15: 10.3 | H15: 46 | I15: 338³
B16: Гуляш | E16: 17.25 | F16: 14 | G16: 4.125 | H16: 211.75 | I16: 260 (2)
B17: Жаркое по-домашнему | E17: 10.2 | F17: 7.9 | G17: 10.25 | H17: 153 | I17: 259 (3)
B18: Запеканка из творога с молоком сгущенным | E18: 16 | F18: 10 | G18: 32 | H18: 292 | I18: 223 (2)
B19: Икра свекольная | E19: 3 | F19: 86 | G19: 126 | H19: 137 | I19: 78 (1)
B20: Какао с молоком | E20: 2.3 | F20: 2.2 | G20: 6.2 | H20: 53.4 | I20: 693 (1)
B21: Какао со сгущеным молоком | E21: 2.4 | F21: 1.5 | G21: 5.7 | H21: 45.3 | I21: 54-2гн-2020 (8)
B22: Капуста тушеная (закуска) | E22: 5 | F22: 8.3 | G22: 25 | H22: 66.7 | I22: 321 (3)
... B28: Каша гречневая рассыпчатая | E28: 5 | F28: 4 | G28: 29 | H28: 175 | I28: 302 (3)
A29: напечатать ттк | B29: Каша манная молочная (на сгущеном молоке) | E29: 3.2 | F29: 1.4 | G29: 23 | H29: 110 | I29: 54-2к-2020 (8)
A30: напечатать ттк | B30: Каша рисовая молочная (на сгущеном молоке) | E30: 2.1 | F30: 1.4 | G30: 21.1 | H30: 99 | I30: 54-4к-2020 (8)
B31: Компот из смеси сухофруктов | E31: 0.3 | F31: 0 | G31: 11.4 | H31: 46.6 | I31: 349 (3)
B32: Коржик молочный | E32: 7 | F32: 8 | G32: 35 | H32: 175 | I32: т/н
B33: Котлеты из курицы | E33: 19.33 | F33: 4.92 | G33: 12.67 | H33: 171.07 | I33: 295 (3)
B34: Кофейный напиток с молоком | E34: 1.9 | F34: 1.8 | G34: 5.6 | H34: 45.4 | I34: 379(3)
B35: Макаронные изделия отварные с маслом | E35: 3.3 | F35: 3.3 | G35: 21.2 | H35: 139 | I35: 203 (2)
B36: Мясо птицы отварное | E36: 20 | F36: 12.5 | G36: 0 | H36: 155 | I36: 487(1)
B37: Печенье | E37: 0.4 | F37: 0.4 | G37: 9.8 | H37: 440 | I37: т/н
A38: напечатать ттк | B38: Печенье овсяное | E38: 7.9 | F38: 4 | G38: 56 | H38: 290 | I38: т/н
A39: напечатать ттк | B39: Плов из птицы | E39: 14 | F39: 4 | G39: 17 | H39: 170 | I39: 291(2)
A40: напечатать ттк | B40: Плюшка "Московская" | E40: 7.9 | F40: 4 | G40: 56 | H40: 290 | I40: т/н
B41: Пряник | E41: 7 | F41: 8 | G41: 35 | H41: 175 | I41: т/н
B42: Рассольник ленинградский с мясом курицы и сметаной | E42: 3 | F42: 3 | G42: 8 | H42: 72 | I42: 132 (1) /107 (1)
B43: Рис отварной с маслом | E43: 2 | F43: 3 | G43: 25 | H43: 142 | I43: 304 (3)
B44: Рыба тушеная в томате с овощами | E44: 1 | F44: 0 | G44: 3 | H44: 92.5 | I44: 229 (6)
B45: Салат из капусты | E45: 2 | F45: 5 | G45: 9 | H45: 88 | I45: 43 (1)
B46: Сок фруктовый (грушевый) | E46: 1 | F46: 0 | G46: 10 | H46: 42.4 | I46: 389 (3)
B47: Сок фруктовый (яблочный) | E47: 0.5 | F47: 0 | G47: 10 | H47: 42.4 | I47: 389(3)
B48: Суп картофельный вермишелевый с мясом птицы | E48: 1 | F48: 1 | G48: 7 | H48: 45 | I48: 140(1) / 107(1)
B49: Суп картофельный с горохом, мясом птицы и сметаной | E49: 5 | F49: 3 | G49: 9 | H49: 86 | I49: 139(1) / 107(1)
B50: Суп картофельный с крупой, мясом курицы и сметаной | E50: 3 | F50: 2 | G50: 8 | H50: 67 | I50: 138(1) / 107(1)
B51: Суп картофельный с мясными фрикадельками | E51: 3 | F51: 2 | G51: 8 | H51: 67 | I51: 137(1) / 112(1)
B52: Суп крестьянский с крупой, мясом тушеным и сметаной | E52: 2 | F52: 2 | G52: 6 | H52: 50 | I52: 134 (1)
... B55: Суп с рыбными консервами | E55: 4 | F55: 2 | G55: 7 | H55: 62 | I55: 87 (5)
A56: напечатать ттк | B56: Тефтели с рисом (паровые) | E56: 9 | F56: 8 | G56: 6 | H56: 140 | I56: 669 (9)
A57: напечатать ттк | B57: Филе птицы тушеное в соусе с овощами | E57: 11.78 | F57: 11.6 | G57: 3.08 | H57: 162.39 | I57: 302 (4) / 587 (1)
B58: Хлеб пшеничный | E58: 9 | F58: 1 | G58: 57 | H58: 316 | I58: т/н
B59: Хлеб ржаной | E59: 1 | F59: 1 | G59: 33 | H59: 273 | I59: т/н
B60: Чай черный байховый с лимоном и сахаром | E60: 0.15 | F60: 0 | G60: 3.35 | H60: 13.8 | I60: 686 (1)
B61: Чай черный байховый с молоком и сахаром | E61: 1 | F61: 1 | G61: 4 | H61: 26 | I61: 378 (3)
B62: Чай черный байховый с сахаром | E62: 0.1 | F62: 0 | G62: 3.25 | H62: 13.2 | I62: 685 (1)
B63: Щи из свежей капусты с картофелем, мясом тушеным и сметаной | E63: 2 | F63: 3 | G63: 3 | H63: 47 | I63: 124(1)
B64: Яблоко свежее | E64: 0.4 | F64: 0.4 | G64: 9.8 | H64: 44 | I64: 338³
B65: Яйцо вареное | E65: 12.5 | F65: 12.5 | G65: 0.75 | H65: 157.5 | I65: 337 (1)
A75: (1) | B75: Сборник технических нормативов - Сборник рецептур блюд и кулинарных изделий для предприятий общественного питания при общеобразовательных школах /Под ред. В.Т.Лапшиной. – М.: Хлебпродинформ, 2004. – 639 с.
A76: (2) | B76: Сборник рецептур блюд и кулинарных изделий для питания школьников. /Под ред. М.П. Могильного – М.: ДеЛи принт, 2005. – 628 с.
A77: (3) | B77: Сборник рецептур на продукцию для обучающихся во всех образовательных учреждениях /Под ред. М.П.Могильного и В.А. Тутельяна. - М.: ДеЛи плюс, 2015. – 544 с.
A78: (4) | B78: Сборник рецептов блюд и кулинарных изделий для питания школьников/под ред. М.П.Могильного. - М.: ДеЛи принт, 2011. – 543 с.
A79: (5) | B79: Сборник рецептур блюд и кулинарных изделий для питания детей дошкольных образовательных учреждений. /Под ред. М.П. Могильного и В.А. Тутельяна – М.: ДеЛи принт, 2011. – 584 с.
A80: (6) | B80: Сборник рецептур на продукцию для обучающихся во всех образовательных учреждениях /Под ред. М.П.Могильного. - М.: ДеЛи плюс, 2007.
A81: (7) | B81: Сборник рецептур блюд и кулинарных изделий для организации горячих завтраков и обедов обучающимся 1-4-х классов общеобразовательных организаций. Г. Новосибирск, 2020 г.
A82: (8) | B82: Сборник Рецептур и типовое меню для организации кострового питания в детских лагерях палаточного типа. Г. Новосибирск, 2020 г.
A83: (9) | B83: Сборник рецептур блюд и кулинарных изделий для предприятий общественного питания. /Под ред. А.С. Ратушный,.../ Москва, "Экономика", 1983 г.

Sheet 7-11 лет, многодетные
A1: МОБУ "Нурминская средняя общеобразовательная школа" Приложение 8 к СанПиН 2.3/2.4.3590-20
A2: Примерное меню и пищевая ценность приготовляемых блюд (лист 1)
A4: Рацион: основной | C4: День: | D4: понедельник | F4: Возраст: | G4: 7-11 | H4: лет
C5: Неделя: | D5: 1
A6: Прием пищи | B6: Наименование блюда | C6: Вес блюда | D6: Пищевые вещества (г) | G6: Энерге- тическая ценность (ккал) | H6: № рецептуры
D7: Б | E7: Ж | F7: У
A8: 1 | B8: 2 | C8: 3 | D8: 4 | E8: 5 | F8: 6 | G8: 7
A9: Завтрак
B10: Каша рисовая молочная (на сгущеном молоке) | C10: 200 | D10: =IFERROR(VLOOKUP($B10,блюда!$B$11:$I$65,4,FALSE)*$C10/100,"") -> 4.2 | E10: =IFERROR(VLOOKUP($B10,блюда!$B$11:$I$65,5,FALSE)*$C10/100,"") -> 2.8 | F10: =IFERROR(VLOOKUP($B10,блюда!$B$11:$I$65,6,FALSE)*$C10/100,"") -> 42.2 | G10: =IFERROR(VLOOKUP($B10,блюда!$B$11:$I$65,7,FALSE)*$C10/100,"") -> 198 | H10: =IFERROR(VLOOKUP($B10,блюда!$B$11:$I$65,8,FALSE),"") -> 54-4к-2020 (8)
B11: Какао со сгущеным молоком | C11: 200 | D11: =IFERROR(VLOOKUP($B11,блюда!$B$11:$I$65,4,FALSE)*$C11/100,"") -> 4.8 | E11: =IFERROR(VLOOKUP($B11,блюда!$B$11:$I$65,5,FALSE)*$C11/100,"") -> 3 | F11: =IFERROR(VLOOKUP($B11,блюда!$B$11:$I$65,6,FALSE)*$C11/100,"") -> 11.4 | G11: =IFERROR(VLOOKUP($B11,блюда!$B$11:$I$65,7,FALSE)*$C11/100,"") -> 90.6 | H11: =IFERROR(VLOOKUP($B11,блюда!$B$11:$I$65,8,FALSE),"") -> 54-2гн-2020 (8)
B12: Печенье | C12: 50 | D12: =IFERROR(VLOOKUP($B12,блюда!$B$11:$I$65,4,FALSE)*$C12/100,"") -> 0.2 | E12: =IFERROR(VLOOKUP($B12,блюда!$B$11:$I$65,5,FALSE)*$C12/100,"") -> 0.2 | F12: =IFERROR(VLOOKUP($B12,блюда!$B$11:$I$65,6,FALSE)*$C12/100,"") -> 4.9 | G12: =IFERROR(VLOOKUP($B12,блюда!$B$11:$I$65,7,FALSE)*$C12/100,"") -> 220 | H12: =IFERROR(VLOOKUP($B12,блюда!$B$11:$I$65,8,FALSE),"") -> т/н
B13: Хлеб пшеничный | C13: 30 | D13: =IFERROR(VLOOKUP($B13,блюда!$B$11:$I$65,4,FALSE)*$C13/100,"") -> 2.7 | E13: =IFERROR(VLOOKUP($B13,блюда!$B$11:$I$65,5,FALSE)*$C13/100,"") -> 0.3 | F13: =IFERROR(VLOOKUP($B13,блюда!$B$11:$I$65,6,FALSE)*$C13/100,"") -> 17.1 | G13: =IFERROR(VLOOKUP($B13,блюда!$B$11:$I$65,7,FALSE)*$C13/100,"") -> 94.8 | H13: =IFERROR(VLOOKUP($B13,блюда!$B$11:$I$65,8,FALSE),"") -> т/н
B14: Хлеб ржаной | C14: 30 | D14: =IFERROR(VLOOKUP($B14,блюда!$B$11:$I$65,4,FALSE)*$C14/100,"") -> 0.3 | E14: =IFERROR(VLOOKUP($B14,блюда!$B$11:$I$65,5,FALSE)*$C14/100,"") -> 0.3 | F14: =IFERROR(VLOOKUP($B14,блюда!$B$11:$I$65,6,FALSE)*$C14/100,"") -> 9.9 | G14: =IFERROR(VLOOKUP($B14,блюда!$B$11:$I$65,7,FALSE)*$C14/100,"") -> 81.9 | H14: =IFERROR(VLOOKUP($B14,блюда!$B$11:$I$65,8,FALSE),"") -> т/н
D15: =IFERROR(VLOOKUP($B15,блюда!$B$11:$I$65,4,FALSE)*$C15/100,"") | E15: =IFERROR(VLOOKUP($B15,блюда!$B$11:$I$65,5,FALSE)*$C15/100,"") | F15: =IFERROR(VLOOKUP($B15,блюда!$B$11:$I$65,6,FALSE)*$C15/100,"") | G15: =IFERROR(VLOOKUP($B15,блюда!$B$11:$I$65,7,FALSE)*$C15/100,"") | H15: =IFERROR(VLOOKUP($B15,блюда!$B$11:$I$65,8,FALSE),"")
A16: Итого за Завтрак | C16: =SUM(C10:C15) -> 510 | D16: =SUM(D10:D15) -> 12.2 | E16: =SUM(E10:E15) -> 6.6 | F16: =SUM(F10:F15) -> 85.5 | G16: =SUM(G10:G15) -> 685.3
A17: Обед
B18: Суп с рыбными консервами | C18: 250 | D18: =IFERROR(VLOOKUP($B18,блюда!$B$11:$I$65,4,FALSE)*$C18/100,"") -> 10 | E18: =IFERROR(VLOOKUP($B18,блюда!$B$11:$I$65,5,FALSE)*$C18/100,"") -> 5 | F18: =IFERROR(VLOOKUP($B18,блюда!$B$11:$I$65,6,FALSE)*$C18/100,"") -> 17.5 | G18: =IFERROR(VLOOKUP($B18,блюда!$B$11:$I$65,7,FALSE)*$C18/100,"") -> 155 | H18: =IFERROR(VLOOKUP($B18,блюда!$B$11:$I$65,8,FALSE),"") -> 87 (5)
B19: Макаронные изделия отварные с маслом | C19: 180 | D19: =IFERROR(VLOOKUP($B19,блюда!$B$11:$I$65,4,FALSE)*$C19/100,"") -> 5.94 | E19: =IFERROR(VLOOKUP($B19,блюда!$B$11:$I$65,5,FALSE)*$C19/100,"") -> 5.94 | F19: =IFERROR(VLOOKUP($B19,блюда!$B$11:$I$65,6,FALSE)*$C19/100,"") -> 38.16 | G19: =IFERROR(VLOOKUP($B19,блюда!$B$11:$I$65,7,FALSE)*$C19/100,"") -> 250.2 | H19: =IFERROR(VLOOKUP($B19,блюда!$B$11:$I$65,8,FALSE),"") -> 203 (2)
B20: Котлеты из курицы | C20: 100 | D20: =IFERROR(VLOOKUP($B20,блюда!$B$11:$I$65,4,FALSE)*$C20/100,"") -> 19.33 | E20: =IFERROR(VLOOKUP($B20,блюда!$B$11:$I$65,5,FALSE)*$C20/100,"") -> 4.92 | F20: =IFERROR(VLOOKUP($B20,блюда!$B$11:$I$65,6,FALSE)*$C20/100,"") -> 12.67 | G20: =IFERROR(VLOOKUP($B20,блюда!$B$11:$I$65,7,FALSE)*$C20/100,"") -> 171.07 | H20: =IFERROR(VLOOKUP($B20,блюда!$B$11:$I$65,8,FALSE),"") -> 295 (3)
B21: Капуста тушеная (закуска) | C21: 60 | D21: =IFERROR(VLOOKUP($B21,блюда!$B$11:$I$65,4,FALSE)*$C21/100,"") -> 3 | E21: =IFERROR(VLOOKUP($B21,блюда!$B$11:$I$65,5,FALSE)*$C21/100,"") -> 4.98 | F21: =IFERROR(VLOOKUP($B21,блюда!$B$11:$I$65,6,FALSE)*$C21/100,"") -> 15 | G21: =IFERROR(VLOOKUP($B21,блюда!$B$11:$I$65,7,FALSE)*$C21/100,"") -> 40.02 | H21: =IFERROR(VLOOKUP($B21,блюда!$B$11:$I$65,8,FALSE),"") -> 321 (3)
B22: Компот из смеси сухофруктов | C22: 200 | D22: =IFERROR(VLOOKUP($B22,блюда!$B$11:$I$65,4,FALSE)*$C22/100,"") -> 0.6 | E22: =IFERROR(VLOOKUP($B22,блюда!$B$11:$I$65,5,FALSE)*$C22/100,"") -> 0 | F22: =IFERROR(VLOOKUP($B22,блюда!$B$11:$I$65,6,FALSE)*$C22/100,"") -> 22.8 | G22: =IFERROR(VLOOKUP($B22,блюда!$B$11:$I$65,7,FALSE)*$C22/100,"") -> 93.2 | H22: =IFERROR(VLOOKUP($B22,блюда!$B$11:$I$65,8,FALSE),"") -> 349 (3)
B23: Хлеб пшеничный | C23: 30 | D23: =IFERROR(VLOOKUP($B23,блюда!$B$11:$I$65,4,FALSE)*$C23/100,"") -> 2.7 | E23: =IFERROR(VLOOKUP($B23,блюда!$B$11:$I$65,5,FALSE)*$C23/100,"") -> 0.3 | F23: =IFERROR(VLOOKUP($B23,блюда!$B$11:$I$65,6,FALSE)*$C23/100,"") -> 17.1 | G23: =IFERROR(VLOOKUP($B23,блюда!$B$11:$I$65,7,FALSE)*$C23/100,"") -> 94.8 | H23: =IFERROR(VLOOKUP($B23,блюда!$B$11:$I$65,8,FALSE),"") -> т/н
B24: Хлеб ржаной | C24: 30 | D24: =IFERROR(VLOOKUP($B24,блюда!$B$11:$I$65,4,FALSE)*$C24/100,"") -> 0.3 | E24: =IFERROR(VLOOKUP($B24,блюда!$B$11:$I$65,5,FALSE)*$C24/100,"") -> 0.3 | F24: =IFERROR(VLOOKUP($B24,блюда!$B$11:$I$65,6,FALSE)*$C24/100,"") -> 9.9 | G24: =IFERROR(VLOOKUP($B24,блюда!$B$11:$I$65,7,FALSE)*$C24/100,"") -> 81.9 | H24: =IFERROR(VLOOKUP($B24,блюда!$B$11:$I$65,8,FALSE),"") -> т/н
A25: Итого за Обед | C25: =SUM(C18:C24) -> 850 | D25: =SUM(D18:D24) -> 41.87 | E25: =SUM(E18:E24) -> 21.44 | F25: =SUM(F18:F24) -> 133.13 | G25: =SUM(G18:G24) -> 886.19
A31: Итого за День | C31: =SUM(C16,C25,C30) -> 1360 | D31: =SUM(D16,D25,D30) -> 54.07 | E31: =SUM(E16,E25,E30) -> 28.04 | F31: =SUM(F16,F25,F30) -> 218.63 | G31: =SUM(G16,G25,G30) -> 1571.49
A39: МОБУ "Нурминская средняя общеобразовательная школа" Приложение 8 к СанПиН 2.3/2.4.3590-20
A40: Примерное меню и пищевая ценность приготовляемых блюд (лист 1)
A42: Рацион: основной | C42: День: | D42: вторник | F42: Возраст: | G42: 7-11 | H42: лет
C43: Неделя: | D43: 1
A44: Прием пищи | B44: Наименование блюда | C44: Вес блюда | D44: Пищевые вещества (г) | G44: Энерге- тическая ценность (ккал) | H44: № рецептуры
D45: Б | E45: Ж | F45: У
A46: 1 | B46: 2 | C46: 3 | D46: 4 | E46: 5 | F46: 6 | G46: 7
A47: Завтрак
B48: Запеканка из творога с молоком сгущенным | C48: 150 | D48: =IFERROR(VLOOKUP($B48,блюда!$B$11:$I$65,4,FALSE)*$C48/100,"") -> 24 | E48: =IFERROR(VLOOKUP($B48,блюда!$B$11:$I$65,5,FALSE)*$C48/100,"") -> 15 | F48: =IFERROR(VLOOKUP($B48,блюда!$B$11:$I$65,6,FALSE)*$C48/100,"") -> 48 | G48: =IFERROR(VLOOKUP($B48,блюда!$B$11:$I$65,7,FALSE)*$C48/100,"") -> 438 | H48: =IFERROR(VLOOKUP($B48,блюда!$B$11:$I$65,8,FALSE),"") -> 223 (2)
B49: Чай черный байховый с сахаром | C49: 200 | D49: =IFERROR(VLOOKUP($B49,блюда!$B$11:$I$65,4,FALSE)*$C49/100,"") -> 0.2 | E49: =IFERROR(VLOOKUP($B49,блюда!$B$11:$I$65,5,FALSE)*$C49/100,"") -> 0 | F49: =IFERROR(VLOOKUP($B49,блюда!$B$11:$I$65,6,FALSE)*$C49/100,"") -> 6.5 | G49: =IFERROR(VLOOKUP($B49,блюда!$B$11:$I$65,7,FALSE)*$C49/100,"") -> 26.4 | H49: =IFERROR(VLOOKUP($B49,блюда!$B$11:$I$65,8,FALSE),"") -> 685 (1)
B50: Хлеб пшеничный | C50: 30 | D50: =IFERROR(VLOOKUP($B50,блюда!$B$11:$I$65,4,FALSE)*$C50/100,"") -> 2.7 | E50: =IFERROR(VLOOKUP($B50,блюда!$B$11:$I$65,5,FALSE)*$C50/100,"") -> 0.3 | F50: =IFERROR(VLOOKUP($B50,блюда!$B$11:$I$65,6,FALSE)*$C50/100,"") -> 17.1 | G50: =IFERROR(VLOOKUP($B50,блюда!$B$11:$I$65,7,FALSE)*$C50/100,"") -> 94.8 | H50: =IFERROR(VLOOKUP($B50,блюда!$B$11:$I$65,8,FALSE),"") -> т/н
B51: Хлеб ржаной | C51: 30 | D51: =IFERROR(VLOOKUP($B51,блюда!$B$11:$I$65,4,FALSE)*$C51/100,"") -> 0.3 | E51: =IFERROR(VLOOKUP($B51,блюда!$B$11:$I$65,5,FALSE)*$C51/100,"") -> 0.3 | F51: =IFERROR(VLOOKUP($B51,блюда!$B$11:$I$65,6,FALSE)*$C51/100,"") -> 9.9 | G51: =IFERROR(VLOOKUP($B51,блюда!$B$11:$I$65,7,FALSE)*$C51/100,"") -> 81.9 | H51: =IFERROR(VLOOKUP($B51,блюда!$B$11:$I$65,8,FALSE),"") -> т/н
D52: =IFERROR(VLOOKUP($B52,блюда!$B$11:$I$65,4,FALSE)*$C52/100,"") | E52: =IFERROR(VLOOKUP($B52,блюда!$B$11:$I$65,5,FALSE)*$C52/100,"") | F52: =IFERROR(VLOOKUP($B52,блюда!$B$11:$I$65,6,FALSE)*$C52/100,"") | G52: =IFERROR(VLOOKUP($B52,блюда!$B$11:$I$65,7,FALSE)*$C52/100,"") | H52: =IFERROR(VLOOKUP($B52,блюда!$B$11:$I$65,8,FALSE),"")
D53: =IFERROR(VLOOKUP($B53,блюда!$B$11:$I$65,4,FALSE)*$C53/100,"") | E53: =IFERROR(VLOOKUP($B53,блюда!$B$11:$I$65,5,FALSE)*$C53/100,"") | F53: =IFERROR(VLOOKUP($B53,блюда!$B$11:$I$65,6,FALSE)*$C53/100,"") | G53: =IFERROR(VLOOKUP($B53,блюда!$B$11:$I$65,7,FALSE)*$C53/100,"") | H53: =IFERROR(VLOOKUP($B53,блюда!$B$11:$I$65,8,FALSE),"")
A54: Итого за Завтрак | C54: =SUM(C48:C53) -> 410 | D54: =SUM(D48:D53) -> 27.2 | E54: =SUM(E48:E53) -> 15.6 | F54: =SUM(F48:F53) -> 81.5 | G54: =SUM(G48:G53) -> 641.1
A55: Обед
B56: Рассольник ленинградский с мясом курицы и сметаной | C56: 200 | D56: =IFERROR(VLOOKUP($B56,блюда!$B$11:$I$65,4,FALSE)*$C56/100,"") -> 6 | E56: =IFERROR(VLOOKUP($B56,блюда!$B$11:$I$65,5,FALSE)*$C56/100,"") -> 6 | F56: =IFERROR(VLOOKUP($B56,блюда!$B$11:$I$65,6,FALSE)*$C56/100,"") -> 16 | G56: =IFERROR(VLOOKUP($B56,блюда!$B$11:$I$65,7,FALSE)*$C56/100,"") -> 144 | H56: =IFERROR(VLOOKUP($B56,блюда!$B$11:$I$65,8,FALSE),"") -> 132 (1) /107 (1)
B57: Рис отварной с маслом | C57: 180 | D57: =IFERROR(VLOOKUP($B57,блюда!$B$11:$I$65,4,FALSE)*$C57/100,"") -> 3.6 | E57: =IFERROR(VLOOKUP($B57,блюда!$B$11:$I$65,5,FALSE)*$C57/100,"") -> 5.4 | F57: =IFERROR(VLOOKUP($B57,блюда!$B$11:$I$65,6,FALSE)*$C57/100,"") -> 45 | G57: =IFERROR(VLOOKUP($B57,блюда!$B$11:$I$65,7,FALSE)*$C57/100,"") -> 255.6 | H57: =IFERROR(VLOOKUP($B57,блюда!$B$11:$I$65,8,FALSE),"") -> 304 (3)
B58: Гуляш | C58: 100 | D58: =IFERROR(VLOOKUP($B58,блюда!$B$11:$I$65,4,FALSE)*$C58/100,"") -> 17.25 | E58: =IFERROR(VLOOKUP($B58,блюда!$B$11:$I$65,5,FALSE)*$C58/100,"") -> 14 | F58: =IFERROR(VLOOKUP($B58,блюда!$B$11:$I$65,6,FALSE)*$C58/100,"") -> 4.125 | G58: =IFERROR(VLOOKUP($B58,блюда!$B$11:$I$65,7,FALSE)*$C58/100,"") -> 211.75 | H58: =IFERROR(VLOOKUP($B58,блюда!$B$11:$I$65,8,FALSE),"") -> 260 (2)
B59: Чай черный байховый с сахаром | C59: 200 | D59: =IFERROR(VLOOKUP($B59,блюда!$B$11:$I$65,4,FALSE)*$C59/100,"") -> 0.2 | E59: =IFERROR(VLOOKUP($B59,блюда!$B$11:$I$65,5,FALSE)*$C59/100,"") -> 0 | F59: =IFERROR(VLOOKUP($B59,блюда!$B$11:$I$65,6,FALSE)*$C59/100,"") -> 6.5 | G59: =IFERROR(VLOOKUP($B59,блюда!$B$11:$I$65,7,FALSE)*$C59/100,"") -> 26.4 | H59: =IFERROR(VLOOKUP($B59,блюда!$B$11:$I$65,8,FALSE),"") -> 685 (1)
B60: Хлеб пшеничный | C60: 30 | D60: =IFERROR(VLOOKUP($B60,блюда!$B$11:$I$65,4,FALSE)*$C60/100,"") -> 2.7 | E60: =IFERROR(VLOOKUP($B60,блюда!$B$11:$I$65,5,FALSE)*$C60/100,"") -> 0.3 | F60: =IFERROR(VLOOKUP($B60,блюда!$B$11:$I$65,6,FALSE)*$C60/100,"") -> 17.1 | G60: =IFERROR(VLOOKUP($B60,блюда!$B$11:$I$65,7,FALSE)*$C60/100,"") -> 94.8 | H60: =IFERROR(VLOOKUP($B60,блюда!$B$11:$I$65,8,FALSE),"") -> т/н
B61: Хлеб ржаной | C61: 30 | D61: =IFERROR(VLOOKUP($B61,блюда!$B$11:$I$65,4,FALSE)*$C61/100,"") -> 0.3 | E61: =IFERROR(VLOOKUP($B61,блюда!$B$11:$I$65,5,FALSE)*$C61/100,"") -> 0.3 | F61: =IFERROR(VLOOKUP($B61,блюда!$B$11:$I$65,6,FALSE)*$C61/100,"") -> 9.9 | G61: =IFERROR(VLOOKUP($B61,блюда!$B$11:$I$65,7,FALSE)*$C61/100,"") -> 81.9 | H61: =IFERROR(VLOOKUP($B61,блюда!$B$11:$I$65,8,FALSE),"") -> т/н
D62: =IFERROR(VLOOKUP($B62,блюда!$B$11:$I$65,4,FALSE)*$C62/100,"") | E62: =IFERROR(VLOOKUP($B62,блюда!$B$11:$I$65,5,FALSE)*$C62/100,"") | F62: =IFERROR(VLOOKUP($B62,блюда!$B$11:$I$65,6,FALSE)*$C62/100,"") | G62: =IFERROR(VLOOKUP($B62,блюда!$B$11:$I$65,7,FALSE)*$C62/100,"") | H62: =IFERROR(VLOOKUP($B62,блюда!$B$11:$I$65,8,FALSE),"")
A63: Итого за Обед | C63: =SUM(C56:C62) -> 740 | D63: =SUM(D56:D62) -> 30.05 | E63: =SUM(E56:E62) -> 26 | F63: =SUM(F56:F62) -> 98.625 | G63: =SUM(G56:G62) -> 814.45
A69: Итого за День | C69: =SUM(C54,C63,C68) -> 1150 | D69: =SUM(D54,D63,D68) -> 57.25 | E69: =SUM(E54,E63,E68) -> 41.6 | F69: =SUM(F54,F63,F68) -> 180.125 | G69: =SUM(G54,G63,G68) -> 1455.55
A71: МОБУ "Нурминская средняя общеобразовательная школа" Приложение 8 к СанПиН 2.3/2.4.3590-20
A72: Примерное меню и пищевая ценность приготовляемых блюд (лист 1)
A74: Рацион: основной | C74: День: | D74: среда | F74: Возраст: | G74: 7-11 | H74: лет
C75: Неделя: | D75: 1
A76: Прием пищи | B76: Наименование блюда | C76: Вес блюда | D76: Пищевые вещества (г) | G76: Энерге- тическая ценность (ккал) | H76: № рецептуры
D77: Б | E77: Ж | F77: У
A78: 1 | B78: 2 | C78: 3 | D78: 4 | E78: 5 | F78: 6 | G78: 7
A79: Завтрак
B80: Каша вязкая молочная из овсяной крупы (с маслом и сахаром) | C80: 200 | D80: =IFERROR(VLOOKUP($B80,блюда!$B$11:$I$65,4,FALSE)*$C80/100,"") -> 5.46 | E80: =IFERROR(VLOOKUP($B80,блюда!$B$11:$I$65,5,FALSE)*$C80/100,"") -> 9.86 | F80: =IFERROR(VLOOKUP($B80,блюда!$B$11:$I$65,6,FALSE)*$C80/100,"") -> 48 | G80: =IFERROR(VLOOKUP($B80,блюда!$B$11:$I$65,7,FALSE)*$C80/100,"") -> 304 | H80: =IFERROR(VLOOKUP($B80,блюда!$B$11:$I$65,8,FALSE),"") -> 1⁵
B81: Чай черный байховый с лимоном и сахаром | C81: 200 | D81: =IFERROR(VLOOKUP($B81,блюда!$B$11:$I$65,4,FALSE)*$C81/100,"") -> 0.3 | E81: =IFERROR(VLOOKUP($B81,блюда!$B$11:$I$65,5,FALSE)*$C81/100,"") -> 0 | F81: =IFERROR(VLOOKUP($B81,блюда!$B$11:$I$65,6,FALSE)*$C81/100,"") -> 6.7 | G81: =IFERROR(VLOOKUP($B81,блюда!$B$11:$I$65,7,FALSE)*$C81/100,"") -> 27.6 | H81: =IFERROR(VLOOKUP($B81,блюда!$B$11:$I$65,8,FALSE),"") -> 686 (1)
B82: Хлеб пшеничный | C82: 30 | D82: =IFERROR(VLOOKUP($B82,блюда!$B$11:$I$65,4,FALSE)*$C82/100,"") -> 2.7 | E82: =IFERROR(VLOOKUP($B82,блюда!$B$11:$I$65,5,FALSE)*$C82/100,"") -> 0.3 | F82: =IFERROR(VLOOKUP($B82,блюда!$B$11:$I$65,6,FALSE)*$C82/100,"") -> 17.1 | G82: =IFERROR(VLOOKUP($B82,блюда!$B$11:$I$65,7,FALSE)*$C82/100,"") -> 94.8 | H82: =IFERROR(VLOOKUP($B82,блюда!$B$11:$I$65,8,FALSE),"") -> т/н
B83: Хлеб ржаной | C83: 30 | D83: =IFERROR(VLOOKUP($B83,блюда!$B$11:$I$65,4,FALSE)*$C83/100,"") -> 0.3 | E83: =IFERROR(VLOOKUP($B83,блюда!$B$11:$I$65,5,FALSE)*$C83/100,"") -> 0.3 | F83: =IFERROR(VLOOKUP($B83,блюда!$B$11:$I$65,6,FALSE)*$C83/100,"") -> 9.9 | G83: =IFERROR(VLOOKUP($B83,блюда!$B$11:$I$65,7,FALSE)*$C83/100,"") -> 81.9 | H83: =IFERROR(VLOOKUP($B83,блюда!$B$11:$I$65,8,FALSE),"") -> т/н
B84: Груша свежая | C84: 100 | D84: =IFERROR(VLOOKUP($B84,блюда!$B$11:$I$65,4,FALSE)*$C84/100,"") -> 0.4 | E84: =IFERROR(VLOOKUP($B84,блюда!$B$11:$I$65,5,FALSE)*$C84/100,"") -> 0.3 | F84: =IFERROR(VLOOKUP($B84,блюда!$B$11:$I$65,6,FALSE)*$C84/100,"") -> 10.3 | G84: =IFERROR(VLOOKUP($B84,блюда!$B$11:$I$65,7,FALSE)*$C84/100,"") -> 46 | H84: =IFERROR(VLOOKUP($B84,блюда!$B$11:$I$65,8,FALSE),"") -> 338³
D85: =IFERROR(VLOOKUP($B85,блюда!$B$11:$I$65,4,FALSE)*$C85/100,"") | E85: =IFERROR(VLOOKUP($B85,блюда!$B$11:$I$65,5,FALSE)*$C85/100,"") | F85: =IFERROR(VLOOKUP($B85,блюда!$B$11:$I$65,6,FALSE)*$C85/100,"") | G85: =IFERROR(VLOOKUP($B85,блюда!$B$11:$I$65,7,FALSE)*$C85/100,"") | H85: =IFERROR(VLOOKUP($B85,блюда!$B$11:$I$65,8,FALSE),"")
A86: Итого за Завтрак | C86: =SUM(C80:C85) -> 560 | D86: =SUM(D80:D85) -> 9.16 | E86: =SUM(E80:E85) -> 10.76 | F86: =SUM(F80:F85) -> 92 | G86: =SUM(G80:G85) -> 554.3
A87: Обед
B88: Суп картофельный с крупой, мясом курицы и сметаной | C88: 250 | D88: =IFERROR(VLOOKUP($B88,блюда!$B$11:$I$65,4,FALSE)*$C88/100,"") -> 7.5 | E88: =IFERROR(VLOOKUP($B88,блюда!$B$11:$I$65,5,FALSE)*$C88/100,"") -> 5 | F88: =IFERROR(VLOOKUP($B88,блюда!$B$11:$I$65,6,FALSE)*$C88/100,"") -> 20 | G88: =IFERROR(VLOOKUP($B88,блюда!$B$11:$I$65,7,FALSE)*$C88/100,"") -> 167.5 | H88: =IFERROR(VLOOKUP($B88,блюда!$B$11:$I$65,8,FALSE),"") -> 138(1) / 107(1)
B89: Каша гречневая рассыпчатая | C89: 180 | D89: =IFERROR(VLOOKUP($B89,блюда!$B$11:$I$65,4,FALSE)*$C89/100,"") -> 9 | E89: =IFERROR(VLOOKUP($B89,блюда!$B$11:$I$65,5,FALSE)*$C89/100,"") -> 7.2 | F89: =IFERROR(VLOOKUP($B89,блюда!$B$11:$I$65,6,FALSE)*$C89/100,"") -> 52.2 | G89: =IFERROR(VLOOKUP($B89,блюда!$B$11:$I$65,7,FALSE)*$C89/100,"") -> 315 | H89: =IFERROR(VLOOKUP($B89,блюда!$B$11:$I$65,8,FALSE),"") -> 302 (3)
B90: Рыба тушеная в томате с овощами | C90: 100 | D90: =IFERROR(VLOOKUP($B90,блюда!$B$11:$I$65,4,FALSE)*$C90/100,"") -> 1 | E90: =IFERROR(VLOOKUP($B90,блюда!$B$11:$I$65,5,FALSE)*$C90/100,"") -> 0 | F90: =IFERROR(VLOOKUP($B90,блюда!$B$11:$I$65,6,FALSE)*$C90/100,"") -> 3 | G90: =IFERROR(VLOOKUP($B90,блюда!$B$11:$I$65,7,FALSE)*$C90/100,"") -> 92.5 | H90: =IFERROR(VLOOKUP($B90,блюда!$B$11:$I$65,8,FALSE),"") -> 229 (6)
B91: Чай черный байховый с лимоном и сахаром | C91: 200 | D91: =IFERROR(VLOOKUP($B91,блюда!$B$11:$I$65,4,FALSE)*$C91/100,"") -> 0.3 | E91: =IFERROR(VLOOKUP($B91,блюда!$B$11:$I$65,5,FALSE)*$C91/100,"") -> 0 | F91: =IFERROR(VLOOKUP($B91,блюда!$B$11:$I$65,6,FALSE)*$C91/100,"") -> 6.7 | G91: =IFERROR(VLOOKUP($B91,блюда!$B$11:$I$65,7,FALSE)*$C91/100,"") -> 27.6 | H91: =IFERROR(VLOOKUP($B91,блюда!$B$11:$I$65,8,FALSE),"") -> 686 (1)
B92: Хлеб пшеничный | C92: 30 | D92: =IFERROR(VLOOKUP($B92,блюда!$B$11:$I$65,4,FALSE)*$C92/100,"") -> 2.7 | E92: =IFERROR(VLOOKUP($B92,блюда!$B$11:$I$65,5,FALSE)*$C92/100,"") -> 0.3 | F92: =IFERROR(VLOOKUP($B92,блюда!$B$11:$I$65,6,FALSE)*$C92/100,"") -> 17.1 | G92: =IFERROR(VLOOKUP($B92,блюда!$B$11:$I$65,7,FALSE)*$C92/100,"") -> 94.8 | H92: =IFERROR(VLOOKUP($B92,блюда!$B$11:$I$65,8,FALSE),"") -> т/н
B93: Хлеб ржаной | C93: 30 | D93: =IFERROR(VLOOKUP($B93,блюда!$B$11:$I$65,4,FALSE)*$C93/100,"") -> 0.3 | E93: =IFERROR(VLOOKUP($B93,блюда!$B$11:$I$65,5,FALSE)*$C93/100,"") -> 0.3 | F93: =IFERROR(VLOOKUP($B93,блюда!$B$11:$I$65,6,FALSE)*$C93/100,"") -> 9.9 | G93: =IFERROR(VLOOKUP($B93,блюда!$B$11:$I$65,7,FALSE)*$C93/100,"") -> 81.9 | H93: =IFERROR(VLOOKUP($B93,блюда!$B$11:$I$65,8,FALSE),"") -> т/н
B94: Печенье овсяное | C94: 30 | D94: =IFERROR(VLOOKUP($B94,блюда!$B$11:$I$65,4,FALSE)*$C94/100,"") -> 2.37 | E94: =IFERROR(VLOOKUP($B94,блюда!$B$11:$I$65,5,FALSE)*$C94/100,"") -> 1.2 | F94: =IFERROR(VLOOKUP($B94,блюда!$B$11:$I$65,6,FALSE)*$C94/100,"") -> 16.8 | G94: =IFERROR(VLOOKUP($B94,блюда!$B$11:$I$65,7,FALSE)*$C94/100,"") -> 87 | H94: =IFERROR(VLOOKUP($B94,блюда!$B$11:$I$65,8,FALSE),"") -> т/н
A95: Итого за Обед | C95: =SUM(C88:C94) -> 820 | D95: =SUM(D88:D94) -> 23.17 | E95: =SUM(E88:E94) -> 14 | F95: =SUM(F88:F94) -> 125.7 | G95: =SUM(G88:G94) -> 866.3
A101: Итого за День | C101: =SUM(C86,C95,C100) -> 1380 | D101: =SUM(D86,D95,D100) -> 32.33 | E101: =SUM(E86,E95,E100) -> 24.76 | F101: =SUM(F86,F95,F100) -> 217.7 | G101: =SUM(G86,G95,G100) -> 1420.6
A108: МОБУ "Нурминская средняя общеобразовательная школа" Приложение 8 к СанПиН 2.3/2.4.3590-20
A109: Примерное меню и пищевая ценность приготовляемых блюд (лист 1)
A111: Рацион: основной | C111: День: | D111: четверг | F111: Возраст: | G111: 7-11 | H111: лет
C112: Неделя: | D112: 1
A113: Прием пищи | B113: Наименование блюда | C113: Вес блюда | D113: Пищевые вещества (г) | G113: Энерге- тическая ценность (ккал) | H113: № рецептуры
D114: Б | E114: Ж | F114: У
A115: 1 | B115: 2 | C115: 3 | D115: 4 | E115: 5 | F115: 6 | G115: 7
A116: Завтрак
B117: Бутерброд с сыром | C117: 55 | D117: =IFERROR(VLOOKUP($B117,блюда!$B$11:$I$65,4,FALSE)*$C117/100,"") -> 5.005 | E117: =IFERROR(VLOOKUP($B117,блюда!$B$11:$I$65,5,FALSE)*$C117/100,"") -> 7.975 | F117: =IFERROR(VLOOKUP($B117,блюда!$B$11:$I$65,6,FALSE)*$C117/100,"") -> 6.985 | G117: =IFERROR(VLOOKUP($B117,блюда!$B$11:$I$65,7,FALSE)*$C117/100,"") -> 122.98 | H117: =IFERROR(VLOOKUP($B117,блюда!$B$11:$I$65,8,FALSE),"") -> 3(2)
B118: Суп молочный с макаронными изделиями | C118: 250 | D118: =IFERROR(VLOOKUP($B118,блюда!$B$11:$I$65,4,FALSE)*$C118/100,"") -> 5.5 | E118: =IFERROR(VLOOKUP($B118,блюда!$B$11:$I$65,5,FALSE)*$C118/100,"") -> 4.75 | F118: =IFERROR(VLOOKUP($B118,блюда!$B$11:$I$65,6,FALSE)*$C118/100,"") -> 18 | G118: =IFERROR(VLOOKUP($B118,блюда!$B$11:$I$65,7,FALSE)*$C118/100,"") -> 237.5 | H118: =IFERROR(VLOOKUP($B118,блюда!$B$11:$I$65,8,FALSE),"") -> 160(1)
B119: Кофейный напиток с молоком | C119: 200 | D119: =IFERROR(VLOOKUP($B119,блюда!$B$11:$I$65,4,FALSE)*$C119/100,"") -> 3.8 | E119: =IFERROR(VLOOKUP($B119,блюда!$B$11:$I$65,5,FALSE)*$C119/100,"") -> 3.6 | F119: =IFERROR(VLOOKUP($B119,блюда!$B$11:$I$65,6,FALSE)*$C119/100,"") -> 11.2 | G119: =IFERROR(VLOOKUP($B119,блюда!$B$11:$I$65,7,FALSE)*$C119/100,"") -> 90.8 | H119: =IFERROR(VLOOKUP($B119,блюда!$B$11:$I$65,8,FALSE),"") -> 379(3)
B120: Хлеб ржаной | C120: 30 | D120: =IFERROR(VLOOKUP($B120,блюда!$B$11:$I$65,4,FALSE)*$C120/100,"") -> 0.3 | E120: =IFERROR(VLOOKUP($B120,блюда!$B$11:$I$65,5,FALSE)*$C120/100,"") -> 0.3 | F120: =IFERROR(VLOOKUP($B120,блюда!$B$11:$I$65,6,FALSE)*$C120/100,"") -> 9.9 | G120: =IFERROR(VLOOKUP($B120,блюда!$B$11:$I$65,7,FALSE)*$C120/100,"") -> 81.9 | H120: =IFERROR(VLOOKUP($B120,блюда!$B$11:$I$65,8,FALSE),"") -> т/н
B121: Пряник | C121: 60 | D121: =IFERROR(VLOOKUP($B121,блюда!$B$11:$I$65,4,FALSE)*$C121/100,"") -> 4.2 | E121: =IFERROR(VLOOKUP($B121,блюда!$B$11:$I$65,5,FALSE)*$C121/100,"") -> 4.8 | F121: =IFERROR(VLOOKUP($B121,блюда!$B$11:$I$65,6,FALSE)*$C121/100,"") -> 21 | G121: =IFERROR(VLOOKUP($B121,блюда!$B$11:$I$65,7,FALSE)*$C121/100,"") -> 105 | H121: =IFERROR(VLOOKUP($B121,блюда!$B$11:$I$65,8,FALSE),"") -> т/н
D122: =IFERROR(VLOOKUP($B122,блюда!$B$11:$I$65,4,FALSE)*$C122/100,"") | E122: =IFERROR(VLOOKUP($B122,блюда!$B$11:$I$65,5,FALSE)*$C122/100,"") | F122: =IFERROR(VLOOKUP($B122,блюда!$B$11:$I$65,6,FALSE)*$C122/100,"") | G122: =IFERROR(VLOOKUP($B122,блюда!$B$11:$I$65,7,FALSE)*$C122/100,"") | H122: =IFERROR(VLOOKUP($B122,блюда!$B$11:$I$65,8,FALSE),"")
A123: Итого за Завтрак | C123: =SUM(C117:C122) -> 595 | D123: =SUM(D117:D122) -> 18.805 | E123: =SUM(E117:E122) -> 21.425 | F123: =SUM(F117:F122) -> 67.085 | G123: =SUM(G117:G122) -> 638.18
A124: Обед
B125: Борщ с капустой, картофелем, мясом птицы и сметаной | C125: 250 | D125: =IFERROR(VLOOKUP($B125,блюда!$B$11:$I$65,4,FALSE)*$C125/100,"") -> 6.95 | E125: =IFERROR(VLOOKUP($B125,блюда!$B$11:$I$65,5,FALSE)*$C125/100,"") -> 7.95 | F125: =IFERROR(VLOOKUP($B125,блюда!$B$11:$I$65,6,FALSE)*$C125/100,"") -> 13.125 | G125: =IFERROR(VLOOKUP($B125,блюда!$B$11:$I$65,7,FALSE)*$C125/100,"") -> 152.925 | H125: =IFERROR(VLOOKUP($B125,блюда!$B$11:$I$65,8,FALSE),"") -> 110(1) / 107(1)
B126: Плов из птицы | C126: 200 | D126: =IFERROR(VLOOKUP($B126,блюда!$B$11:$I$65,4,FALSE)*$C126/100,"") -> 28 | E126: =IFERROR(VLOOKUP($B126,блюда!$B$11:$I$65,5,FALSE)*$C126/100,"") -> 8 | F126: =IFERROR(VLOOKUP($B126,блюда!$B$11:$I$65,6,FALSE)*$C126/100,"") -> 34 | G126: =IFERROR(VLOOKUP($B126,блюда!$B$11:$I$65,7,FALSE)*$C126/100,"") -> 340 | H126: =IFERROR(VLOOKUP($B126,блюда!$B$11:$I$65,8,FALSE),"") -> 291(2)
B127: Сок фруктовый (яблочный) | C127: 200 | D127: =IFERROR(VLOOKUP($B127,блюда!$B$11:$I$65,4,FALSE)*$C127/100,"") -> 1 | E127: =IFERROR(VLOOKUP($B127,блюда!$B$11:$I$65,5,FALSE)*$C127/100,"") -> 0 | F127: =IFERROR(VLOOKUP($B127,блюда!$B$11:$I$65,6,FALSE)*$C127/100,"") -> 20 | G127: =IFERROR(VLOOKUP($B127,блюда!$B$11:$I$65,7,FALSE)*$C127/100,"") -> 84.8 | H127: =IFERROR(VLOOKUP($B127,блюда!$B$11:$I$65,8,FALSE),"") -> 389(3)
B128: Хлеб пшеничный | C128: 30 | D128: =IFERROR(VLOOKUP($B128,блюда!$B$11:$I$65,4,FALSE)*$C128/100,"") -> 2.7 | E128: =IFERROR(VLOOKUP($B128,блюда!$B$11:$I$65,5,FALSE)*$C128/100,"") -> 0.3 | F128: =IFERROR(VLOOKUP($B128,блюда!$B$11:$I$65,6,FALSE)*$C128/100,"") -> 17.1 | G128: =IFERROR(VLOOKUP($B128,блюда!$B$11:$I$65,7,FALSE)*$C128/100,"") -> 94.8 | H128: =IFERROR(VLOOKUP($B128,блюда!$B$11:$I$65,8,FALSE),"") -> т/н
B129: Хлеб ржаной | C129: 30 | D129: =IFERROR(VLOOKUP($B129,блюда!$B$11:$I$65,4,FALSE)*$C129/100,"") -> 0.3 | E129: =IFERROR(VLOOKUP($B129,блюда!$B$11:$I$65,5,FALSE)*$C129/100,"") -> 0.3 | F129: =IFERROR(VLOOKUP($B129,блюда!$B$11:$I$65,6,FALSE)*$C129/100,"") -> 9.9 | G129: =IFERROR(VLOOKUP($B129,блюда!$B$11:$I$65,7,FALSE)*$C129/100,"") -> 81.9 | H129: =IFERROR(VLOOKUP($B129,блюда!$B$11:$I$65,8,FALSE),"") -> т/н
D130: =IFERROR(VLOOKUP($B130,блюда!$B$11:$I$65,4,FALSE)*$C130/100,"") | E130: =IFERROR(VLOOKUP($B130,блюда!$B$11:$I$65,5,FALSE)*$C130/100,"") | F130: =IFERROR(VLOOKUP($B130,блюда!$B$11:$I$65,6,FALSE)*$C130/100,"") | G130: =IFERROR(VLOOKUP($B130,блюда!$B$11:$I$65,7,FALSE)*$C130/100,"") | H130: =IFERROR(VLOOKUP($B130,блюда!$B$11:$I$65,8,FALSE),"")
D131: =IFERROR(VLOOKUP($B131,блюда!$B$11:$I$65,4,FALSE)*$C131/100,"") | E131: =IFERROR(VLOOKUP($B131,блюда!$B$11:$I$65,5,FALSE)*$C131/100,"") | F131: =IFERROR(VLOOKUP($B131,блюда!$B$11:$I$65,6,FALSE)*$C131/100,"") | G131: =IFERROR(VLOOKUP($B131,блюда!$B$11:$I$65,7,FALSE)*$C131/100,"") | H131: =IFERROR(VLOOKUP($B131,блюда!$B$11:$I$65,8,FALSE),"")
A132: Итого за Обед | C132: =SUM(C125:C131) -> 710 | D132: =SUM(D125:D131) -> 38.95 | E132: =SUM(E125:E131) -> 16.55 | F132: =SUM(F125:F131) -> 94.125 | G132: =SUM(G125:G131) -> 754.425
A138: Итого за День | C138: =SUM(C123,C132,C137) -> 1305 | D138: =SUM(D123,D132,D137) -> 57.755 | E138: =SUM(E123,E132,E137) -> 37.975 | F138: =SUM(F123,F132,F137) -> 161.21 | G138: =SUM(G123,G132,G137) -> 1392.605
...

Sheet 12-18 лет, многодетные, сво 
A1: МОБУ "Нурминская средняя общеобразовательная школа" Приложение 8 к СанПиН 2.3/2.4.3590-20
A2: Примерное меню и пищевая ценность приготовляемых блюд (лист 1)
A4: Рацион: основной | C4: День: | D4: понедельник | F4: Возраст: | G4: 12-18 | H4: лет
C5: Неделя: | D5: 1
A6: Прием пищи | B6: Наименование блюда | C6: Вес блюда | D6: Пищевые вещества (г) | G6: Энерге- тическая ценность (ккал) | H6: № рецептуры
D7: Б | E7: Ж | F7: У
A8: 1 | B8: 2 | C8: 3 | D8: 4 | E8: 5 | F8: 6 | G8: 7
A9: Завтрак
D10: =IFERROR(VLOOKUP($B10,блюда!$B$11:$I$65,4,FALSE)*$C10/100,"") | E10: =IFERROR(VLOOKUP($B10,блюда!$B$11:$I$65,5,FALSE)*$C10/100,"") | F10: =IFERROR(VLOOKUP($B10,блюда!$B$11:$I$65,6,FALSE)*$C10/100,"") | G10: =IFERROR(VLOOKUP($B10,блюда!$B$11:$I$65,7,FALSE)*$C10/100,"") | H10: =IFERROR(VLOOKUP($B10,блюда!$B$11:$I$65,8,FALSE),"")
D11: =IFERROR(VLOOKUP($B11,блюда!$B$11:$I$65,4,FALSE)*$C11/100,"") | E11: =IFERROR(VLOOKUP($B11,блюда!$B$11:$I$65,5,FALSE)*$C11/100,"") | F11: =IFERROR(VLOOKUP($B11,блюда!$B$11:$I$65,6,FALSE)*$C11/100,"") | G11: =IFERROR(VLOOKUP($B11,блюда!$B$11:$I$65,7,FALSE)*$C11/100,"") | H11: =IFERROR(VLOOKUP($B11,блюда!$B$11:$I$65,8,FALSE),"")
D12: =IFERROR(VLOOKUP($B12,блюда!$B$11:$I$65,4,FALSE)*$C12/100,"") | E12: =IFERROR(VLOOKUP($B12,блюда!$B$11:$I$65,5,FALSE)*$C12/100,"") | F12: =IFERROR(VLOOKUP($B12,блюда!$B$11:$I$65,6,FALSE)*$C12/100,"") | G12: =IFERROR(VLOOKUP($B12,блюда!$B$11:$I$65,7,FALSE)*$C12/100,"") | H12: =IFERROR(VLOOKUP($B12,блюда!$B$11:$I$65,8,FALSE),"")
D13: =IFERROR(VLOOKUP($B13,блюда!$B$11:$I$65,4,FALSE)*$C13/100,"") | E13: =IFERROR(VLOOKUP($B13,блюда!$B$11:$I$65,5,FALSE)*$C13/100,"") | F13: =IFERROR(VLOOKUP($B13,блюда!$B$11:$I$65,6,FALSE)*$C13/100,"") | G13: =IFERROR(VLOOKUP($B13,блюда!$B$11:$I$65,7,FALSE)*$C13/100,"") | H13: =IFERROR(VLOOKUP($B13,блюда!$B$11:$I$65,8,FALSE),"")
D14: =IFERROR(VLOOKUP($B14,блюда!$B$11:$I$65,4,FALSE)*$C14/100,"") | E14: =IFERROR(VLOOKUP($B14,блюда!$B$11:$I$65,5,FALSE)*$C14/100,"") | F14: =IFERROR(VLOOKUP($B14,блюда!$B$11:$I$65,6,FALSE)*$C14/100,"") | G14: =IFERROR(VLOOKUP($B14,блюда!$B$11:$I$65,7,FALSE)*$C14/100,"") | H14: =IFERROR(VLOOKUP($B14,блюда!$B$11:$I$65,8,FALSE),"")
D15: =IFERROR(VLOOKUP($B15,блюда!$B$11:$I$65,4,FALSE)*$C15/100,"") | E15: =IFERROR(VLOOKUP($B15,блюда!$B$11:$I$65,5,FALSE)*$C15/100,"") | F15: =IFERROR(VLOOKUP($B15,блюда!$B$11:$I$65,6,FALSE)*$C15/100,"") | G15: =IFERROR(VLOOKUP($B15,блюда!$B$11:$I$65,7,FALSE)*$C15/100,"") | H15: =IFERROR(VLOOKUP($B15,блюда!$B$11:$I$65,8,FALSE),"")
A16: Итого за Завтрак | C16: =SUM(C10:C15) -> 0 | D16: =SUM(D10:D15) -> 0 | E16: =SUM(E10:E15) -> 0 | F16: =SUM(F10:F15) -> 0 | G16: =SUM(G10:G15) -> 0
A17: Обед
B18: Суп с рыбными консервами | C18: 250 | D18: =IFERROR(VLOOKUP($B18,блюда!$B$11:$I$65,4,FALSE)*$C18/100,"") -> 10 | E18: =IFERROR(VLOOKUP($B18,блюда!$B$11:$I$65,5,FALSE)*$C18/100,"") -> 5 | F18: =IFERROR(VLOOKUP($B18,блюда!$B$11:$I$65,6,FALSE)*$C18/100,"") -> 17.5 | G18: =IFERROR(VLOOKUP($B18,блюда!$B$11:$I$65,7,FALSE)*$C18/100,"") -> 155 | H18: =IFERROR(VLOOKUP($B18,блюда!$B$11:$I$65,8,FALSE),"") -> 87 (5)
B19: Макаронные изделия отварные с маслом | C19: 180 | D19: =IFERROR(VLOOKUP($B19,блюда!$B$11:$I$65,4,FALSE)*$C19/100,"") -> 5.94 | E19: =IFERROR(VLOOKUP($B19,блюда!$B$11:$I$65,5,FALSE)*$C19/100,"") -> 5.94 | F19: =IFERROR(VLOOKUP($B19,блюда!$B$11:$I$65,6,FALSE)*$C19/100,"") -> 38.16 | G19: =IFERROR(VLOOKUP($B19,блюда!$B$11:$I$65,7,FALSE)*$C19/100,"") -> 250.2 | H19: =IFERROR(VLOOKUP($B19,блюда!$B$11:$I$65,8,FALSE),"") -> 203 (2)
B20: Котлеты из курицы | C20: 100 | D20: =IFERROR(VLOOKUP($B20,блюда!$B$11:$I$65,4,FALSE)*$C20/100,"") -> 19.33 | E20: =IFERROR(VLOOKUP($B20,блюда!$B$11:$I$65,5,FALSE)*$C20/100,"") -> 4.92 | F20: =IFERROR(VLOOKUP($B20,блюда!$B$11:$I$65,6,FALSE)*$C20/100,"") -> 12.67 | G20: =IFERROR(VLOOKUP($B20,блюда!$B$11:$I$65,7,FALSE)*$C20/100,"") -> 171.07 | H20: =IFERROR(VLOOKUP($B20,блюда!$B$11:$I$65,8,FALSE),"") -> 295 (3)
B21: Капуста тушеная (закуска) | C21: 60 | D21: =IFERROR(VLOOKUP($B21,блюда!$B$11:$I$65,4,FALSE)*$C21/100,"") -> 3 | E21: =IFERROR(VLOOKUP($B21,блюда!$B$11:$I$65,5,FALSE)*$C21/100,"") -> 4.98 | F21: =IFERROR(VLOOKUP($B21,блюда!$B$11:$I$65,6,FALSE)*$C21/100,"") -> 15 | G21: =IFERROR(VLOOKUP($B21,блюда!$B$11:$I$65,7,FALSE)*$C21/100,"") -> 40.02 | H21: =IFERROR(VLOOKUP($B21,блюда!$B$11:$I$65,8,FALSE),"") -> 321 (3)
B22: Компот из смеси сухофруктов | C22: 200 | D22: =IFERROR(VLOOKUP($B22,блюда!$B$11:$I$65,4,FALSE)*$C22/100,"") -> 0.6 | E22: =IFERROR(VLOOKUP($B22,блюда!$B$11:$I$65,5,FALSE)*$C22/100,"") -> 0 | F22: =IFERROR(VLOOKUP($B22,блюда!$B$11:$I$65,6,FALSE)*$C22/100,"") -> 22.8 | G22: =IFERROR(VLOOKUP($B22,блюда!$B$11:$I$65,7,FALSE)*$C22/100,"") -> 93.2 | H22: =IFERROR(VLOOKUP($B22,блюда!$B$11:$I$65,8,FALSE),"") -> 349 (3)
B23: Хлеб пшеничный | C23: 30 | D23: =IFERROR(VLOOKUP($B23,блюда!$B$11:$I$65,4,FALSE)*$C23/100,"") -> 2.7 | E23: =IFERROR(VLOOKUP($B23,блюда!$B$11:$I$65,5,FALSE)*$C23/100,"") -> 0.3 | F23: =IFERROR(VLOOKUP($B23,блюда!$B$11:$I$65,6,FALSE)*$C23/100,"") -> 17.1 | G23: =IFERROR(VLOOKUP($B23,блюда!$B$11:$I$65,7,FALSE)*$C23/100,"") -> 94.8 | H23: =IFERROR(VLOOKUP($B23,блюда!$B$11:$I$65,8,FALSE),"") -> т/н
B24: Хлеб ржаной | C24: 30 | D24: =IFERROR(VLOOKUP($B24,блюда!$B$11:$I$65,4,FALSE)*$C24/100,"") -> 0.3 | E24: =IFERROR(VLOOKUP($B24,блюда!$B$11:$I$65,5,FALSE)*$C24/100,"") -> 0.3 | F24: =IFERROR(VLOOKUP($B24,блюда!$B$11:$I$65,6,FALSE)*$C24/100,"") -> 9.9 | G24: =IFERROR(VLOOKUP($B24,блюда!$B$11:$I$65,7,FALSE)*$C24/100,"") -> 81.9 | H24: =IFERROR(VLOOKUP($B24,блюда!$B$11:$I$65,8,FALSE),"") -> т/н
A25: Итого за Обед | C25: =SUM(C18:C24) -> 850 | D25: =SUM(D18:D24) -> 41.87 | E25: =SUM(E18:E24) -> 21.44 | F25: =SUM(F18:F24) -> 133.13 | G25: =SUM(G18:G24) -> 886.19
A26: Итого за День | C26: =SUM(C16,C25) -> 850 | D26: =SUM(D16,D25) -> 41.87 | E26: =SUM(E16,E25) -> 21.44 | F26: =SUM(F16,F25) -> 133.13 | G26: =SUM(G16,G25) -> 886.19
A35: МОБУ "Нурминская средняя общеобразовательная школа" Приложение 8 к СанПиН 2.3/2.4.3590-20
A36: Примерное меню и пищевая ценность приготовляемых блюд (лист 1)
A38: Рацион: основной | C38: День: | D38: вторник | F38: Возраст: | G38: 12-18 | H38: лет
C39: Неделя: | D39: 1
A40: Прием пищи | B40: Наименование блюда | C40: Вес блюда | D40: Пищевые вещества (г) | G40: Энерге- тическая ценность (ккал) | H40: № рецептуры
D41: Б | E41: Ж | F41: У
A42: 1 | B42: 2 | C42: 3 | D42: 4 | E42: 5 | F42: 6 | G42: 7
A43: Завтрак
D44: =IFERROR(VLOOKUP($B44,блюда!$B$11:$I$65,4,FALSE)*$C44/100,"") | E44: =IFERROR(VLOOKUP($B44,блюда!$B$11:$I$65,5,FALSE)*$C44/100,"") | F44: =IFERROR(VLOOKUP($B44,блюда!$B$11:$I$65,6,FALSE)*$C44/100,"") | G44: =IFERROR(VLOOKUP($B44,блюда!$B$11:$I$65,7,FALSE)*$C44/100,"") | H44: =IFERROR(VLOOKUP($B44,блюда!$B$11:$I$65,8,FALSE),"")
D45: =IFERROR(VLOOKUP($B45,блюда!$B$11:$I$65,4,FALSE)*$C45/100,"") | E45: =IFERROR(VLOOKUP($B45,блюда!$B$11:$I$65,5,FALSE)*$C45/100,"") | F45: =IFERROR(VLOOKUP($B45,блюда!$B$11:$I$65,6,FALSE)*$C45/100,"") | G45: =IFERROR(VLOOKUP($B45,блюда!$B$11:$I$65,7,FALSE)*$C45/100,"") | H45: =IFERROR(VLOOKUP($B45,блюда!$B$11:$I$65,8,FALSE),"")
D46: =IFERROR(VLOOKUP($B46,блюда!$B$11:$I$65,4,FALSE)*$C46/100,"") | E46: =IFERROR(VLOOKUP($B46,блюда!$B$11:$I$65,5,FALSE)*$C46/100,"") | F46: =IFERROR(VLOOKUP($B46,блюда!$B$11:$I$65,6,FALSE)*$C46/100,"") | G46: =IFERROR(VLOOKUP($B46,блюда!$B$11:$I$65,7,FALSE)*$C46/100,"") | H46: =IFERROR(VLOOKUP($B46,блюда!$B$11:$I$65,8,FALSE),"")
D47: =IFERROR(VLOOKUP($B47,блюда!$B$11:$I$65,4,FALSE)*$C47/100,"") | E47: =IFERROR(VLOOKUP($B47,блюда!$B$11:$I$65,5,FALSE)*$C47/100,"") | F47: =IFERROR(VLOOKUP($B47,блюда!$B$11:$I$65,6,FALSE)*$C47/100,"") | G47: =IFERROR(VLOOKUP($B47,блюда!$B$11:$I$65,7,FALSE)*$C47/100,"") | H47: =IFERROR(VLOOKUP($B47,блюда!$B$11:$I$65,8,FALSE),"")
D48: =IFERROR(VLOOKUP($B48,блюда!$B$11:$I$65,4,FALSE)*$C48/100,"") | E48: =IFERROR(VLOOKUP($B48,блюда!$B$11:$I$65,5,FALSE)*$C48/100,"") | F48: =IFERROR(VLOOKUP($B48,блюда!$B$11:$I$65,6,FALSE)*$C48/100,"") | G48: =IFERROR(VLOOKUP($B48,блюда!$B$11:$I$65,7,FALSE)*$C48/100,"") | H48: =IFERROR(VLOOKUP($B48,блюда!$B$11:$I$65,8,FALSE),"")
D49: =IFERROR(VLOOKUP($B49,блюда!$B$11:$I$65,4,FALSE)*$C49/100,"") | E49: =IFERROR(VLOOKUP($B49,блюда!$B$11:$I$65,5,FALSE)*$C49/100,"") | F49: =IFERROR(VLOOKUP($B49,блюда!$B$11:$I$65,6,FALSE)*$C49/100,"") | G49: =IFERROR(VLOOKUP($B49,блюда!$B$11:$I$65,7,FALSE)*$C49/100,"") | H49: =IFERROR(VLOOKUP($B49,блюда!$B$11:$I$65,8,FALSE),"")
A50: Итого за Завтрак | C50: =SUM(C44:C49) -> 0 | D50: =SUM(D44:D49) -> 0 | E50: =SUM(E44:E49) -> 0 | F50: =SUM(F44:F49) -> 0 | G50: =SUM(G44:G49) -> 0
A51: Обед
B52: Рассольник ленинградский с мясом курицы и сметаной | C52: 200 | D52: =IFERROR(VLOOKUP($B52,блюда!$B$11:$I$65,4,FALSE)*$C52/100,"") -> 6 | E52: =IFERROR(VLOOKUP($B52,блюда!$B$11:$I$65,5,FALSE)*$C52/100,"") -> 6 | F52: =IFERROR(VLOOKUP($B52,блюда!$B$11:$I$65,6,FALSE)*$C52/100,"") -> 16 | G52: =IFERROR(VLOOKUP($B52,блюда!$B$11:$I$65,7,FALSE)*$C52/100,"") -> 144 | H52: =IFERROR(VLOOKUP($B52,блюда!$B$11:$I$65,8,FALSE),"") -> 132 (1) /107 (1)
B53: Рис отварной с маслом | C53: 200 | D53: =IFERROR(VLOOKUP($B53,блюда!$B$11:$I$65,4,FALSE)*$C53/100,"") -> 4 | E53: =IFERROR(VLOOKUP($B53,блюда!$B$11:$I$65,5,FALSE)*$C53/100,"") -> 6 | F53: =IFERROR(VLOOKUP($B53,блюда!$B$11:$I$65,6,FALSE)*$C53/100,"") -> 50 | G53: =IFERROR(VLOOKUP($B53,блюда!$B$11:$I$65,7,FALSE)*$C53/100,"") -> 284 | H53: =IFERROR(VLOOKUP($B53,блюда!$B$11:$I$65,8,FALSE),"") -> 304 (3)
B54: Гуляш | C54: 100 | D54: =IFERROR(VLOOKUP($B54,блюда!$B$11:$I$65,4,FALSE)*$C54/100,"") -> 17.25 | E54: =IFERROR(VLOOKUP($B54,блюда!$B$11:$I$65,5,FALSE)*$C54/100,"") -> 14 | F54: =IFERROR(VLOOKUP($B54,блюда!$B$11:$I$65,6,FALSE)*$C54/100,"") -> 4.125 | G54: =IFERROR(VLOOKUP($B54,блюда!$B$11:$I$65,7,FALSE)*$C54/100,"") -> 211.75 | H54: =IFERROR(VLOOKUP($B54,блюда!$B$11:$I$65,8,FALSE),"") -> 260 (2)
B55: Чай черный байховый с сахаром | C55: 200 | D55: =IFERROR(VLOOKUP($B55,блюда!$B$11:$I$65,4,FALSE)*$C55/100,"") -> 0.2 | E55: =IFERROR(VLOOKUP($B55,блюда!$B$11:$I$65,5,FALSE)*$C55/100,"") -> 0 | F55: =IFERROR(VLOOKUP($B55,блюда!$B$11:$I$65,6,FALSE)*$C55/100,"") -> 6.5 | G55: =IFERROR(VLOOKUP($B55,блюда!$B$11:$I$65,7,FALSE)*$C55/100,"") -> 26.4 | H55: =IFERROR(VLOOKUP($B55,блюда!$B$11:$I$65,8,FALSE),"") -> 685 (1)
B56: Хлеб пшеничный | C56: 30 | D56: =IFERROR(VLOOKUP($B56,блюда!$B$11:$I$65,4,FALSE)*$C56/100,"") -> 2.7 | E56: =IFERROR(VLOOKUP($B56,блюда!$B$11:$I$65,5,FALSE)*$C56/100,"") -> 0.3 | F56: =IFERROR(VLOOKUP($B56,блюда!$B$11:$I$65,6,FALSE)*$C56/100,"") -> 17.1 | G56: =IFERROR(VLOOKUP($B56,блюда!$B$11:$I$65,7,FALSE)*$C56/100,"") -> 94.8 | H56: =IFERROR(VLOOKUP($B56,блюда!$B$11:$I$65,8,FALSE),"") -> т/н
B57: Хлеб ржаной | C57: 30 | D57: =IFERROR(VLOOKUP($B57,блюда!$B$11:$I$65,4,FALSE)*$C57/100,"") -> 0.3 | E57: =IFERROR(VLOOKUP($B57,блюда!$B$11:$I$65,5,FALSE)*$C57/100,"") -> 0.3 | F57: =IFERROR(VLOOKUP($B57,блюда!$B$11:$I$65,6,FALSE)*$C57/100,"") -> 9.9 | G57: =IFERROR(VLOOKUP($B57,блюда!$B$11:$I$65,7,FALSE)*$C57/100,"") -> 81.9 | H57: =IFERROR(VLOOKUP($B57,блюда!$B$11:$I$65,8,FALSE),"") -> т/н
D58: =IFERROR(VLOOKUP($B58,блюда!$B$11:$I$65,4,FALSE)*$C58/100,"") | E58: =IFERROR(VLOOKUP($B58,блюда!$B$11:$I$65,5,FALSE)*$C58/100,"") | F58: =IFERROR(VLOOKUP($B58,блюда!$B$11:$I$65,6,FALSE)*$C58/100,"") | G58: =IFERROR(VLOOKUP($B58,блюда!$B$11:$I$65,7,FALSE)*$C58/100,"") | H58: =IFERROR(VLOOKUP($B58,блюда!$B$11:$I$65,8,FALSE),"")
A59: Итого за Обед | C59: =SUM(C52:C58) -> 760 | D59: =SUM(D52:D58) -> 30.45 | E59: =SUM(E52:E58) -> 26.6 | F59: =SUM(F52:F58) -> 103.625 | G59: =SUM(G52:G58) -> 842.85
A60: Итого за День | C60: =SUM(C50,C59) -> 760 | D60: =SUM(D50,D59) -> 30.45 | E60: =SUM(E50,E59) -> 26.6 | F60: =SUM(F50,F59) -> 103.625 | G60: =SUM(G50,G59) -> 842.85
A70: МОБУ "Нурминская средняя общеобразовательная школа" Приложение 8 к СанПиН 2.3/2.4.3590-20
A71: Примерное меню и пищевая ценность приготовляемых блюд (лист 1)
A73: Рацион: основной | C73: День: | D73: среда | F73: Возраст: | G73: 12-18 | H73: лет
C74: Неделя: | D74: 1
A75: Прием пищи | B75: Наименование блюда | C75: Вес блюда | D75: Пищевые вещества (г) | G75: Энерге- тическая ценность (ккал) | H75: № рецептуры
D76: Б | E76: Ж | F76: У
A77: 1 | B77: 2 | C77: 3 | D77: 4 | E77: 5 | F77: 6 | G77: 7
A78: Завтрак
D79: =IFERROR(VLOOKUP($B79,блюда!$B$11:$I$65,4,FALSE)*$C79/100,"") | E79: =IFERROR(VLOOKUP($B79,блюда!$B$11:$I$65,5,FALSE)*$C79/100,"") | F79: =IFERROR(VLOOKUP($B79,блюда!$B$11:$I$65,6,FALSE)*$C79/100,"") | G79: =IFERROR(VLOOKUP($B79,блюда!$B$11:$I$65,7,FALSE)*$C79/100,"") | H79: =IFERROR(VLOOKUP($B79,блюда!$B$11:$I$65,8,FALSE),"")
D80: =IFERROR(VLOOKUP($B80,блюда!$B$11:$I$65,4,FALSE)*$C80/100,"") | E80: =IFERROR(VLOOKUP($B80,блюда!$B$11:$I$65,5,FALSE)*$C80/100,"") | F80: =IFERROR(VLOOKUP($B80,блюда!$B$11:$I$65,6,FALSE)*$C80/100,"") | G80: =IFERROR(VLOOKUP($B80,блюда!$B$11:$I$65,7,FALSE)*$C80/100,"") | H80: =IFERROR(VLOOKUP($B80,блюда!$B$11:$I$65,8,FALSE),"")
D81: =IFERROR(VLOOKUP($B81,блюда!$B$11:$I$65,4,FALSE)*$C81/100,"") | E81: =IFERROR(VLOOKUP($B81,блюда!$B$11:$I$65,5,FALSE)*$C81/100,"") | F81: =IFERROR(VLOOKUP($B81,блюда!$B$11:$I$65,6,FALSE)*$C81/100,"") | G81: =IFERROR(VLOOKUP($B81,блюда!$B$11:$I$65,7,FALSE)*$C81/100,"") | H81: =IFERROR(VLOOKUP($B81,блюда!$B$11:$I$65,8,FALSE),"")
D82: =IFERROR(VLOOKUP($B82,блюда!$B$11:$I$65,4,FALSE)*$C82/100,"") | E82: =IFERROR(VLOOKUP($B82,блюда!$B$11:$I$65,5,FALSE)*$C82/100,"") | F82: =IFERROR(VLOOKUP($B82,блюда!$B$11:$I$65,6,FALSE)*$C82/100,"") | G82: =IFERROR(VLOOKUP($B82,блюда!$B$11:$I$65,7,FALSE)*$C82/100,"") | H82: =IFERROR(VLOOKUP($B82,блюда!$B$11:$I$65,8,FALSE),"")
D83: =IFERROR(VLOOKUP($B83,блюда!$B$11:$I$65,4,FALSE)*$C83/100,"") | E83: =IFERROR(VLOOKUP($B83,блюда!$B$11:$I$65,5,FALSE)*$C83/100,"") | F83: =IFERROR(VLOOKUP($B83,блюда!$B$11:$I$65,6,FALSE)*$C83/100,"") | G83: =IFERROR(VLOOKUP($B83,блюда!$B$11:$I$65,7,FALSE)*$C83/100,"") | H83: =IFERROR(VLOOKUP($B83,блюда!$B$11:$I$65,8,FALSE),"")
D84: =IFERROR(VLOOKUP($B84,блюда!$B$11:$I$65,4,FALSE)*$C84/100,"") | E84: =IFERROR(VLOOKUP($B84,блюда!$B$11:$I$65,5,FALSE)*$C84/100,"") | F84: =IFERROR(VLOOKUP($B84,блюда!$B$11:$I$65,6,FALSE)*$C84/100,"") | G84: =IFERROR(VLOOKUP($B84,блюда!$B$11:$I$65,7,FALSE)*$C84/100,"") | H84: =IFERROR(VLOOKUP($B84,блюда!$B$11:$I$65,8,FALSE),"")
A85: Итого за Завтрак | C85: =SUM(C79:C84) -> 0 | D85: =SUM(D79:D84) -> 0 | E85: =SUM(E79:E84) -> 0 | F85: =SUM(F79:F84) -> 0 | G85: =SUM(G79:G84) -> 0
A86: Обед
B87: Суп картофельный с крупой, мясом курицы и сметаной | C87: 250 | D87: =IFERROR(VLOOKUP($B87,блюда!$B$11:$I$65,4,FALSE)*$C87/100,"") -> 7.5 | E87: =IFERROR(VLOOKUP($B87,блюда!$B$11:$I$65,5,FALSE)*$C87/100,"") -> 5 | F87: =IFERROR(VLOOKUP($B87,блюда!$B$11:$I$65,6,FALSE)*$C87/100,"") -> 20 | G87: =IFERROR(VLOOKUP($B87,блюда!$B$11:$I$65,7,FALSE)*$C87/100,"") -> 167.5 | H87: =IFERROR(VLOOKUP($B87,блюда!$B$11:$I$65,8,FALSE),"") -> 138(1) / 107(1)
B88: Каша гречневая рассыпчатая | C88: 180 | D88: =IFERROR(VLOOKUP($B88,блюда!$B$11:$I$65,4,FALSE)*$C88/100,"") -> 9 | E88: =IFERROR(VLOOKUP($B88,блюда!$B$11:$I$65,5,FALSE)*$C88/100,"") -> 7.2 | F88: =IFERROR(VLOOKUP($B88,блюда!$B$11:$I$65,6,FALSE)*$C88/100,"") -> 52.2 | G88: =IFERROR(VLOOKUP($B88,блюда!$B$11:$I$65,7,FALSE)*$C88/100,"") -> 315 | H88: =IFERROR(VLOOKUP($B88,блюда!$B$11:$I$65,8,FALSE),"") -> 302 (3)
B89: Рыба тушеная в томате с овощами | C89: 100 | D89: =IFERROR(VLOOKUP($B89,блюда!$B$11:$I$65,4,FALSE)*$C89/100,"") -> 1 | E89: =IFERROR(VLOOKUP($B89,блюда!$B$11:$I$65,5,FALSE)*$C89/100,"") -> 0 | F89: =IFERROR(VLOOKUP($B89,блюда!$B$11:$I$65,6,FALSE)*$C89/100,"") -> 3 | G89: =IFERROR(VLOOKUP($B89,блюда!$B$11:$I$65,7,FALSE)*$C89/100,"") -> 92.5 | H89: =IFERROR(VLOOKUP($B89,блюда!$B$11:$I$65,8,FALSE),"") -> 229 (6)
B90: Чай черный байховый с лимоном и сахаром | C90: 200 | D90: =IFERROR(VLOOKUP($B90,блюда!$B$11:$I$65,4,FALSE)*$C90/100,"") -> 0.3 | E90: =IFERROR(VLOOKUP($B90,блюда!$B$11:$I$65,5,FALSE)*$C90/100,"") -> 0 | F90: =IFERROR(VLOOKUP($B90,блюда!$B$11:$I$65,6,FALSE)*$C90/100,"") -> 6.7 | G90: =IFERROR(VLOOKUP($B90,блюда!$B$11:$I$65,7,FALSE)*$C90/100,"") -> 27.6 | H90: =IFERROR(VLOOKUP($B90,блюда!$B$11:$I$65,8,FALSE),"") -> 686 (1)
B91: Хлеб пшеничный | C91: 30 | D91: =IFERROR(VLOOKUP($B91,блюда!$B$11:$I$65,4,FALSE)*$C91/100,"") -> 2.7 | E91: =IFERROR(VLOOKUP($B91,блюда!$B$11:$I$65,5,FALSE)*$C91/100,"") -> 0.3 | F91: =IFERROR(VLOOKUP($B91,блюда!$B$11:$I$65,6,FALSE)*$C91/100,"") -> 17.1 | G91: =IFERROR(VLOOKUP($B91,блюда!$B$11:$I$65,7,FALSE)*$C91/100,"") -> 94.8 | H91: =IFERROR(VLOOKUP($B91,блюда!$B$11:$I$65,8,FALSE),"") -> т/н
B92: Хлеб ржаной | C92: 30 | D92: =IFERROR(VLOOKUP($B92,блюда!$B$11:$I$65,4,FALSE)*$C92/100,"") -> 0.3 | E92: =IFERROR(VLOOKUP($B92,блюда!$B$11:$I$65,5,FALSE)*$C92/100,"") -> 0.3 | F92: =IFERROR(VLOOKUP($B92,блюда!$B$11:$I$65,6,FALSE)*$C92/100,"") -> 9.9 | G92: =IFERROR(VLOOKUP($B92,блюда!$B$11:$I$65,7,FALSE)*$C92/100,"") -> 81.9 | H92: =IFERROR(VLOOKUP($B92,блюда!$B$11:$I$65,8,FALSE),"") -> т/н
B93: Печенье овсяное | C93: 30 | D93: =IFERROR(VLOOKUP($B93,блюда!$B$11:$I$65,4,FALSE)*$C93/100,"") -> 2.37 | E93: =IFERROR(VLOOKUP($B93,блюда!$B$11:$I$65,5,FALSE)*$C93/100,"") -> 1.2 | F93: =IFERROR(VLOOKUP($B93,блюда!$B$11:$I$65,6,FALSE)*$C93/100,"") -> 16.8 | G93: =IFERROR(VLOOKUP($B93,блюда!$B$11:$I$65,7,FALSE)*$C93/100,"") -> 87 | H93: =IFERROR(VLOOKUP($B93,блюда!$B$11:$I$65,8,FALSE),"") -> т/н
A94: Итого за Обед | C94: =SUM(C87:C93) -> 820 | D94: =SUM(D87:D93) -> 23.17 | E94: =SUM(E87:E93) -> 14 | F94: =SUM(F87:F93) -> 125.7 | G94: =SUM(G87:G93) -> 866.3
A95: Итого за День | C95: =SUM(C85,C94) -> 820 | D95: =SUM(D85,D94) -> 23.17 | E95: =SUM(E85,E94) -> 14 | F95: =SUM(F85,F94) -> 125.7 | G95: =SUM(G85,G94) -> 866.3
A105: МОБУ "Нурминская средняя общеобразовательная школа" Приложение 8 к СанПиН 2.3/2.4.3590-20
A106: Примерное меню и пищевая ценность приготовляемых блюд (лист 1)
A108: Рацион: основной | C108: День: | D108: четверг | F108: Возраст: | G108: 12-18 | H108: лет
C109: Неделя: | D109: 1
A110: Прием пищи | B110: Наименование блюда | C110: Вес блюда | D110: Пищевые вещества (г) | G110: Энерге- тическая ценность (ккал) | H110: № рецептуры
D111: Б | E111: Ж | F111: У
A112: 1 | B112: 2 | C112: 3 | D112: 4 | E112: 5 | F112: 6 | G112: 7
A113: Завтрак
D114: =IFERROR(VLOOKUP($B114,блюда!$B$11:$I$65,4,FALSE)*$C114/100,"") | E114: =IFERROR(VLOOKUP($B114,блюда!$B$11:$I$65,5,FALSE)*$C114/100,"") | F114: =IFERROR(VLOOKUP($B114,блюда!$B$11:$I$65,6,FALSE)*$C114/100,"") | G114: =IFERROR(VLOOKUP($B114,блюда!$B$11:$I$65,7,FALSE)*$C114/100,"") | H114: =IFERROR(VLOOKUP($B114,блюда!$B$11:$I$65,8,FALSE),"")
D115: =IFERROR(VLOOKUP($B115,блюда!$B$11:$I$65,4,FALSE)*$C115/100,"") | E115: =IFERROR(VLOOKUP($B115,блюда!$B$11:$I$65,5,FALSE)*$C115/100,"") | F115: =IFERROR(VLOOKUP($B115,блюда!$B$11:$I$65,6,FALSE)*$C115/100,"") | G115: =IFERROR(VLOOKUP($B115,блюда!$B$11:$I$65,7,FALSE)*$C115/100,"") | H115: =IFERROR(VLOOKUP($B115,блюда!$B$11:$I$65,8,FALSE),"")
D116: =IFERROR(VLOOKUP($B116,блюда!$B$11:$I$65,4,FALSE)*$C116/100,"") | E116: =IFERROR(VLOOKUP($B116,блюда!$B$11:$I$65,5,FALSE)*$C116/100,"") | F116: =IFERROR(VLOOKUP($B116,блюда!$B$11:$I$65,6,FALSE)*$C116/100,"") | G116: =IFERROR(VLOOKUP($B116,блюда!$B$11:$I$65,7,FALSE)*$C116/100,"") | H116: =IFERROR(VLOOKUP($B116,блюда!$B$11:$I$65,8,FALSE),"")
D117: =IFERROR(VLOOKUP($B117,блюда!$B$11:$I$65,4,FALSE)*$C117/100,"") | E117: =IFERROR(VLOOKUP($B117,блюда!$B$11:$I$65,5,FALSE)*$C117/100,"") | F117: =IFERROR(VLOOKUP($B117,блюда!$B$11:$I$65,6,FALSE)*$C117/100,"") | G117: =IFERROR(VLOOKUP($B117,блюда!$B$11:$I$65,7,FALSE)*$C117/100,"") | H117: =IFERROR(VLOOKUP($B117,блюда!$B$11:$I$65,8,FALSE),"")
D118: =IFERROR(VLOOKUP($B118,блюда!$B$11:$I$65,4,FALSE)*$C118/100,"") | E118: =IFERROR(VLOOKUP($B118,блюда!$B$11:$I$65,5,FALSE)*$C118/100,"") | F118: =IFERROR(VLOOKUP($B118,блюда!$B$11:$I$65,6,FALSE)*$C118/100,"") | G118: =IFERROR(VLOOKUP($B118,блюда!$B$11:$I$65,7,FALSE)*$C118/100,"") | H118: =IFERROR(VLOOKUP($B118,блюда!$B$11:$I$65,8,FALSE),"")
D119: =IFERROR(VLOOKUP($B119,блюда!$B$11:$I$65,4,FALSE)*$C119/100,"") | E119: =IFERROR(VLOOKUP($B119,блюда!$B$11:$I$65,5,FALSE)*$C119/100,"") | F119: =IFERROR(VLOOKUP($B119,блюда!$B$11:$I$65,6,FALSE)*$C119/100,"") | G119: =IFERROR(VLOOKUP($B119,блюда!$B$11:$I$65,7,FALSE)*$C119/100,"") | H119: =IFERROR(VLOOKUP($B119,блюда!$B$11:$I$65,8,FALSE),"")
A120: Итого за Завтрак | C120: =SUM(C114:C119) -> 0 | D120: =SUM(D114:D119) -> 0 | E120: =SUM(E114:E119) -> 0 | F120: =SUM(F114:F119) -> 0 | G120: =SUM(G114:G119) -> 0
A121: Обед
B122: Борщ с капустой, картофелем, мясом птицы и сметаной | C122: 250 | D122: =IFERROR(VLOOKUP($B122,блюда!$B$11:$I$65,4,FALSE)*$C122/100,"") -> 6.95 | E122: =IFERROR(VLOOKUP($B122,блюда!$B$11:$I$65,5,FALSE)*$C122/100,"") -> 7.95 | F122: =IFERROR(VLOOKUP($B122,блюда!$B$11:$I$65,6,FALSE)*$C122/100,"") -> 13.125 | G122: =IFERROR(VLOOKUP($B122,блюда!$B$11:$I$65,7,FALSE)*$C122/100,"") -> 152.925 | H122: =IFERROR(VLOOKUP($B122,блюда!$B$11:$I$65,8,FALSE),"") -> 110(1) / 107(1)
B123: Плов из птицы | C123: 200 | D123: =IFERROR(VLOOKUP($B123,блюда!$B$11:$I$65,4,FALSE)*$C123/100,"") -> 28 | E123: =IFERROR(VLOOKUP($B123,блюда!$B$11:$I$65,5,FALSE)*$C123/100,"") -> 8 | F123: =IFERROR(VLOOKUP($B123,блюда!$B$11:$I$65,6,FALSE)*$C123/100,"") -> 34 | G123: =IFERROR(VLOOKUP($B123,блюда!$B$11:$I$65,7,FALSE)*$C123/100,"") -> 340 | H123: =IFERROR(VLOOKUP($B123,блюда!$B$11:$I$65,8,FALSE),"") -> 291(2)
B124: Сок фруктовый (яблочный) | C124: 200 | D124: =IFERROR(VLOOKUP($B124,блюда!$B$11:$I$65,4,FALSE)*$C124/100,"") -> 1 | E124: =IFERROR(VLOOKUP($B124,блюда!$B$11:$I$65,5,FALSE)*$C124/100,"") -> 0 | F124: =IFERROR(VLOOKUP($B124,блюда!$B$11:$I$65,6,FALSE)*$C124/100,"") -> 20 | G124: =IFERROR(VLOOKUP($B124,блюда!$B$11:$I$65,7,FALSE)*$C124/100,"") -> 84.8 | H124: =IFERROR(VLOOKUP($B124,блюда!$B$11:$I$65,8,FALSE),"") -> 389(3)
B125: Хлеб пшеничный | C125: 30 | D125: =IFERROR(VLOOKUP($B125,блюда!$B$11:$I$65,4,FALSE)*$C125/100,"") -> 2.7 | E125: =IFERROR(VLOOKUP($B125,блюда!$B$11:$I$65,5,FALSE)*$C125/100,"") -> 0.3 | F125: =IFERROR(VLOOKUP($B125,блюда!$B$11:$I$65,6,FALSE)*$C125/100,"") -> 17.1 | G125: =IFERROR(VLOOKUP($B125,блюда!$B$11:$I$65,7,FALSE)*$C125/100,"") -> 94.8 | H125: =IFERROR(VLOOKUP($B125,блюда!$B$11:$I$65,8,FALSE),"") -> т/н
B126: Хлеб ржаной | C126: 30 | D126: =IFERROR(VLOOKUP($B126,блюда!$B$11:$I$65,4,FALSE)*$C126/100,"") -> 0.3 | E126: =IFERROR(VLOOKUP($B126,блюда!$B$11:$I$65,5,FALSE)*$C126/100,"") -> 0.3 | F126: =IFERROR(VLOOKUP($B126,блюда!$B$11:$I$65,6,FALSE)*$C126/100,"") -> 9.9 | G126: =IFERROR(VLOOKUP($B126,блюда!$B$11:$I$65,7,FALSE)*$C126/100,"") -> 81.9 | H126: =IFERROR(VLOOKUP($B126,блюда!$B$11:$I$65,8,FALSE),"") -> т/н
B127: Печенье | C127: 30 | D127: =IFERROR(VLOOKUP($B127,блюда!$B$11:$I$65,4,FALSE)*$C127/100,"") -> 0.12 | E127: =IFERROR(VLOOKUP($B127,блюда!$B$11:$I$65,5,FALSE)*$C127/100,"") -> 0.12 | F127: =IFERROR(VLOOKUP($B127,блюда!$B$11:$I$65,6,FALSE)*$C127/100,"") -> 2.94 | G127: =IFERROR(VLOOKUP($B127,блюда!$B$11:$I$65,7,FALSE)*$C127/100,"") -> 132 | H127: =IFERROR(VLOOKUP($B127,блюда!$B$11:$I$65,8,FALSE),"") -> т/н
D128: =IFERROR(VLOOKUP($B128,блюда!$B$11:$I$65,4,FALSE)*$C128/100,"") | E128: =IFERROR(VLOOKUP($B128,блюда!$B$11:$I$65,5,FALSE)*$C128/100,"") | F128: =IFERROR(VLOOKUP($B128,блюда!$B$11:$I$65,6,FALSE)*$C128/100,"") | G128: =IFERROR(VLOOKUP($B128,блюда!$B$11:$I$65,7,FALSE)*$C128/100,"") | H128: =IFERROR(VLOOKUP($B128,блюда!$B$11:$I$65,8,FALSE),"")
A129: Итого за Обед | C129: =SUM(C122:C128) -> 740 | D129: =SUM(D122:D128) -> 39.07 | E129: =SUM(E122:E128) -> 16.67 | F129: =SUM(F122:F128) -> 97.065 | G129: =SUM(G122:G128) -> 886.425
A130: Итого за День | C130: =SUM(C120,C129) -> 740 | D130: =SUM(D120,D129) -> 39.07 | E130: =SUM(E120,E129) -> 16.67 | F130: =SUM(F120,F129) -> 97.065 | G130: =SUM(G120,G129) -> 886.425
...

Sheet 7-11 лет, начальная школа
A1: МОБУ "Нурминская средняя общеобразовательная школа" Приложение 8 к СанПиН 2.3/2.4.3590-20
A2: Примерное меню и пищевая ценность приготовляемых блюд (лист 1)
A4: Рацион: основной | C4: День: | D4: понедельник | F4: Возраст: | G4: 7-11 | H4: лет
C5: Неделя: | D5: 1
A6: Прием пищи | B6: Наименование блюда | C6: Вес блюда | D6: Пищевые вещества (г) | G6: Энерге- тическая ценность (ккал) | H6: № рецептуры
D7: Б | E7: Ж | F7: У
A8: 1 | B8: 2 | C8: 3 | D8: 4 | E8: 5 | F8: 6 | G8: 7
A9: Завтрак
D10: =IFERROR(VLOOKUP($B10,блюда!$B$11:$I$65,4,FALSE)*$C10/100,"") | E10: =IFERROR(VLOOKUP($B10,блюда!$B$11:$I$65,5,FALSE)*$C10/100,"") | F10: =IFERROR(VLOOKUP($B10,блюда!$B$11:$I$65,6,FALSE)*$C10/100,"") | G10: =IFERROR(VLOOKUP($B10,блюда!$B$11:$I$65,7,FALSE)*$C10/100,"") | H10: =IFERROR(VLOOKUP($B10,блюда!$B$11:$I$65,8,FALSE),"")
D11: =IFERROR(VLOOKUP($B11,блюда!$B$11:$I$65,4,FALSE)*$C11/100,"") | E11: =IFERROR(VLOOKUP($B11,блюда!$B$11:$I$65,5,FALSE)*$C11/100,"") | F11: =IFERROR(VLOOKUP($B11,блюда!$B$11:$I$65,6,FALSE)*$C11/100,"") | G11: =IFERROR(VLOOKUP($B11,блюда!$B$11:$I$65,7,FALSE)*$C11/100,"") | H11: =IFERROR(VLOOKUP($B11,блюда!$B$11:$I$65,8,FALSE),"")
D12: =IFERROR(VLOOKUP($B12,блюда!$B$11:$I$65,4,FALSE)*$C12/100,"") | E12: =IFERROR(VLOOKUP($B12,блюда!$B$11:$I$65,5,FALSE)*$C12/100,"") | F12: =IFERROR(VLOOKUP($B12,блюда!$B$11:$I$65,6,FALSE)*$C12/100,"") | G12: =IFERROR(VLOOKUP($B12,блюда!$B$11:$I$65,7,FALSE)*$C12/100,"") | H12: =IFERROR(VLOOKUP($B12,блюда!$B$11:$I$65,8,FALSE),"")
D13: =IFERROR(VLOOKUP($B13,блюда!$B$11:$I$65,4,FALSE)*$C13/100,"") | E13: =IFERROR(VLOOKUP($B13,блюда!$B$11:$I$65,5,FALSE)*$C13/100,"") | F13: =IFERROR(VLOOKUP($B13,блюда!$B$11:$I$65,6,FALSE)*$C13/100,"") | G13: =IFERROR(VLOOKUP($B13,блюда!$B$11:$I$65,7,FALSE)*$C13/100,"") | H13: =IFERROR(VLOOKUP($B13,блюда!$B$11:$I$65,8,FALSE),"")
D14: =IFERROR(VLOOKUP($B14,блюда!$B$11:$I$65,4,FALSE)*$C14/100,"") | E14: =IFERROR(VLOOKUP($B14,блюда!$B$11:$I$65,5,FALSE)*$C14/100,"") | F14: =IFERROR(VLOOKUP($B14,блюда!$B$11:$I$65,6,FALSE)*$C14/100,"") | G14: =IFERROR(VLOOKUP($B14,блюда!$B$11:$I$65,7,FALSE)*$C14/100,"") | H14: =IFERROR(VLOOKUP($B14,блюда!$B$11:$I$65,8,FALSE),"")
D15: =IFERROR(VLOOKUP($B15,блюда!$B$11:$I$65,4,FALSE)*$C15/100,"") | E15: =IFERROR(VLOOKUP($B15,блюда!$B$11:$I$65,5,FALSE)*$C15/100,"") | F15: =IFERROR(VLOOKUP($B15,блюда!$B$11:$I$65,6,FALSE)*$C15/100,"") | G15: =IFERROR(VLOOKUP($B15,блюда!$B$11:$I$65,7,FALSE)*$C15/100,"") | H15: =IFERROR(VLOOKUP($B15,блюда!$B$11:$I$65,8,FALSE),"")
A16: Итого за Завтрак | C16: =SUM(C10:C15) -> 0 | D16: =SUM(D10:D15) -> 0 | E16: =SUM(E10:E15) -> 0 | F16: =SUM(F10:F15) -> 0 | G16: =SUM(G10:G15) -> 0
A17: Обед
B18: Суп с рыбными консервами | C18: 250 | D18: =IFERROR(VLOOKUP($B18,блюда!$B$11:$I$65,4,FALSE)*$C18/100,"") -> 10 | E18: =IFERROR(VLOOKUP($B18,блюда!$B$11:$I$65,5,FALSE)*$C18/100,"") -> 5 | F18: =IFERROR(VLOOKUP($B18,блюда!$B$11:$I$65,6,FALSE)*$C18/100,"") -> 17.5 | G18: =IFERROR(VLOOKUP($B18,блюда!$B$11:$I$65,7,FALSE)*$C18/100,"") -> 155 | H18: =IFERROR(VLOOKUP($B18,блюда!$B$11:$I$65,8,FALSE),"") -> 87 (5)
B19: Макаронные изделия отварные с маслом | C19: 180 | D19: =IFERROR(VLOOKUP($B19,блюда!$B$11:$I$65,4,FALSE)*$C19/100,"") -> 5.94 | E19: =IFERROR(VLOOKUP($B19,блюда!$B$11:$I$65,5,FALSE)*$C19/100,"") -> 5.94 | F19: =IFERROR(VLOOKUP($B19,блюда!$B$11:$I$65,6,FALSE)*$C19/100,"") -> 38.16 | G19: =IFERROR(VLOOKUP($B19,блюда!$B$11:$I$65,7,FALSE)*$C19/100,"") -> 250.2 | H19: =IFERROR(VLOOKUP($B19,блюда!$B$11:$I$65,8,FALSE),"") -> 203 (2)
B20: Котлеты из курицы | C20: 100 | D20: =IFERROR(VLOOKUP($B20,блюда!$B$11:$I$65,4,FALSE)*$C20/100,"") -> 19.33 | E20: =IFERROR(VLOOKUP($B20,блюда!$B$11:$I$65,5,FALSE)*$C20/100,"") -> 4.92 | F20: =IFERROR(VLOOKUP($B20,блюда!$B$11:$I$65,6,FALSE)*$C20/100,"") -> 12.67 | G20: =IFERROR(VLOOKUP($B20,блюда!$B$11:$I$65,7,FALSE)*$C20/100,"") -> 171.07 | H20: =IFERROR(VLOOKUP($B20,блюда!$B$11:$I$65,8,FALSE),"") -> 295 (3)
B21: Капуста тушеная (закуска) | C21: 60 | D21: =IFERROR(VLOOKUP($B21,блюда!$B$11:$I$65,4,FALSE)*$C21/100,"") -> 3 | E21: =IFERROR(VLOOKUP($B21,блюда!$B$11:$I$65,5,FALSE)*$C21/100,"") -> 4.98 | F21: =IFERROR(VLOOKUP($B21,блюда!$B$11:$I$65,6,FALSE)*$C21/100,"") -> 15 | G21: =IFERROR(VLOOKUP($B21,блюда!$B$11:$I$65,7,FALSE)*$C21/100,"") -> 40.02 | H21: =IFERROR(VLOOKUP($B21,блюда!$B$11:$I$65,8,FALSE),"") -> 321 (3)
B22: Компот из смеси сухофруктов | C22: 200 | D22: =IFERROR(VLOOKUP($B22,блюда!$B$11:$I$65,4,FALSE)*$C22/100,"") -> 0.6 | E22: =IFERROR(VLOOKUP($B22,блюда!$B$11:$I$65,5,FALSE)*$C22/100,"") -> 0 | F22: =IFERROR(VLOOKUP($B22,блюда!$B$11:$I$65,6,FALSE)*$C22/100,"") -> 22.8 | G22: =IFERROR(VLOOKUP($B22,блюда!$B$11:$I$65,7,FALSE)*$C22/100,"") -> 93.2 | H22: =IFERROR(VLOOKUP($B22,блюда!$B$11:$I$65,8,FALSE),"") -> 349 (3)
B23: Хлеб пшеничный | C23: 30 | D23: =IFERROR(VLOOKUP($B23,блюда!$B$11:$I$65,4,FALSE)*$C23/100,"") -> 2.7 | E23: =IFERROR(VLOOKUP($B23,блюда!$B$11:$I$65,5,FALSE)*$C23/100,"") -> 0.3 | F23: =IFERROR(VLOOKUP($B23,блюда!$B$11:$I$65,6,FALSE)*$C23/100,"") -> 17.1 | G23: =IFERROR(VLOOKUP($B23,блюда!$B$11:$I$65,7,FALSE)*$C23/100,"") -> 94.8 | H23: =IFERROR(VLOOKUP($B23,блюда!$B$11:$I$65,8,FALSE),"") -> т/н
B24: Хлеб ржаной | C24: 30 | D24: =IFERROR(VLOOKUP($B24,блюда!$B$11:$I$65,4,FALSE)*$C24/100,"") -> 0.3 | E24: =IFERROR(VLOOKUP($B24,блюда!$B$11:$I$65,5,FALSE)*$C24/100,"") -> 0.3 | F24: =IFERROR(VLOOKUP($B24,блюда!$B$11:$I$65,6,FALSE)*$C24/100,"") -> 9.9 | G24: =IFERROR(VLOOKUP($B24,блюда!$B$11:$I$65,7,FALSE)*$C24/100,"") -> 81.9 | H24: =IFERROR(VLOOKUP($B24,блюда!$B$11:$I$65,8,FALSE),"") -> т/н
A25: Итого за Обед | C25: =SUM(C18:C24) -> 850 | D25: =SUM(D18:D24) -> 41.87 | E25: =SUM(E18:E24) -> 21.44 | F25: =SUM(F18:F24) -> 133.13 | G25: =SUM(G18:G24) -> 886.19
A26: Итого за День | C26: =SUM(C16,C25) -> 850 | D26: =SUM(D16,D25) -> 41.87 | E26: =SUM(E16,E25) -> 21.44 | F26: =SUM(F16,F25) -> 133.13 | G26: =SUM(G16,G25) -> 886.19
A35: МОБУ "Нурминская средняя общеобразовательная школа" Приложение 8 к СанПиН 2.3/2.4.3590-20
A36: Примерное меню и пищевая ценность приготовляемых блюд (лист 1)
A38: Рацион: основной | C38: День: | D38: вторник | F38: Возраст: | G38: 7-11 | H38: лет
C39: Неделя: | D39: 1
A40: Прием пищи | B40: Наименование блюда | C40: Вес блюда | D40: Пищевые вещества (г) | G40: Энерге- тическая ценность (ккал) | H40: № рецептуры
D41: Б | E41: Ж | F41: У
A42: 1 | B42: 2 | C42: 3 | D42: 4 | E42: 5 | F42: 6 | G42: 7
A43: Завтрак
D44: =IFERROR(VLOOKUP($B44,блюда!$B$11:$I$65,4,FALSE)*$C44/100,"") | E44: =IFERROR(VLOOKUP($B44,блюда!$B$11:$I$65,5,FALSE)*$C44/100,"") | F44: =IFERROR(VLOOKUP($B44,блюда!$B$11:$I$65,6,FALSE)*$C44/100,"") | G44: =IFERROR(VLOOKUP($B44,блюда!$B$11:$I$65,7,FALSE)*$C44/100,"") | H44: =IFERROR(VLOOKUP($B44,блюда!$B$11:$I$65,8,FALSE),"")
D45: =IFERROR(VLOOKUP($B45,блюда!$B$11:$I$65,4,FALSE)*$C45/100,"") | E45: =IFERROR(VLOOKUP($B45,блюда!$B$11:$I$65,5,FALSE)*$C45/100,"") | F45: =IFERROR(VLOOKUP($B45,блюда!$B$11:$I$65,6,FALSE)*$C45/100,"") | G45: =IFERROR(VLOOKUP($B45,блюда!$B$11:$I$65,7,FALSE)*$C45/100,"") | H45: =IFERROR(VLOOKUP($B45,блюда!$B$11:$I$65,8,FALSE),"")
D46: =IFERROR(VLOOKUP($B46,блюда!$B$11:$I$65,4,FALSE)*$C46/100,"") | E46: =IFERROR(VLOOKUP($B46,блюда!$B$11:$I$65,5,FALSE)*$C46/100,"") | F46: =IFERROR(VLOOKUP($B46,блюда!$B$11:$I$65,6,FALSE)*$C46/100,"") | G46: =IFERROR(VLOOKUP($B46,блюда!$B$11:$I$65,7,FALSE)*$C46/100,"") | H46: =IFERROR(VLOOKUP($B46,блюда!$B$11:$I$65,8,FALSE),"")
D47: =IFERROR(VLOOKUP($B47,блюда!$B$11:$I$65,4,FALSE)*$C47/100,"") | E47: =IFERROR(VLOOKUP($B47,блюда!$B$11:$I$65,5,FALSE)*$C47/100,"") | F47: =IFERROR(VLOOKUP($B47,блюда!$B$11:$I$65,6,FALSE)*$C47/100,"") | G47: =IFERROR(VLOOKUP($B47,блюда!$B$11:$I$65,7,FALSE)*$C47/100,"") | H47: =IFERROR(VLOOKUP($B47,блюда!$B$11:$I$65,8,FALSE),"")
D48: =IFERROR(VLOOKUP($B48,блюда!$B$11:$I$65,4,FALSE)*$C48/100,"") | E48: =IFERROR(VLOOKUP($B48,блюда!$B$11:$I$65,5,FALSE)*$C48/100,"") | F48: =IFERROR(VLOOKUP($B48,блюда!$B$11:$I$65,6,FALSE)*$C48/100,"") | G48: =IFERROR(VLOOKUP($B48,блюда!$B$11:$I$65,7,FALSE)*$C48/100,"") | H48: =IFERROR(VLOOKUP($B48,блюда!$B$11:$I$65,8,FALSE),"")
D49: =IFERROR(VLOOKUP($B49,блюда!$B$11:$I$65,4,FALSE)*$C49/100,"") | E49: =IFERROR(VLOOKUP($B49,блюда!$B$11:$I$65,5,FALSE)*$C49/100,"") | F49: =IFERROR(VLOOKUP($B49,блюда!$B$11:$I$65,6,FALSE)*$C49/100,"") | G49: =IFERROR(VLOOKUP($B49,блюда!$B$11:$I$65,7,FALSE)*$C49/100,"") | H49: =IFERROR(VLOOKUP($B49,блюда!$B$11:$I$65,8,FALSE),"")
A50: Итого за Завтрак | C50: =SUM(C44:C49) -> 0 | D50: =SUM(D44:D49) -> 0 | E50: =SUM(E44:E49) -> 0 | F50: =SUM(F44:F49) -> 0 | G50: =SUM(G44:G49) -> 0
A51: Обед
B52: Рассольник ленинградский с мясом курицы и сметаной | C52: 200 | D52: =IFERROR(VLOOKUP($B52,блюда!$B$11:$I$65,4,FALSE)*$C52/100,"") -> 6 | E52: =IFERROR(VLOOKUP($B52,блюда!$B$11:$I$65,5,FALSE)*$C52/100,"") -> 6 | F52: =IFERROR(VLOOKUP($B52,блюда!$B$11:$I$65,6,FALSE)*$C52/100,"") -> 16 | G52: =IFERROR(VLOOKUP($B52,блюда!$B$11:$I$65,7,FALSE)*$C52/100,"") -> 144 | H52: =IFERROR(VLOOKUP($B52,блюда!$B$11:$I$65,8,FALSE),"") -> 132 (1) /107 (1)
B53: Рис отварной с маслом | C53: 180 | D53: =IFERROR(VLOOKUP($B53,блюда!$B$11:$I$65,4,FALSE)*$C53/100,"") -> 3.6 | E53: =IFERROR(VLOOKUP($B53,блюда!$B$11:$I$65,5,FALSE)*$C53/100,"") -> 5.4 | F53: =IFERROR(VLOOKUP($B53,блюда!$B$11:$I$65,6,FALSE)*$C53/100,"") -> 45 | G53: =IFERROR(VLOOKUP($B53,блюда!$B$11:$I$65,7,FALSE)*$C53/100,"") -> 255.6 | H53: =IFERROR(VLOOKUP($B53,блюда!$B$11:$I$65,8,FALSE),"") -> 304 (3)
B54: Гуляш | C54: 100 | D54: =IFERROR(VLOOKUP($B54,блюда!$B$11:$I$65,4,FALSE)*$C54/100,"") -> 17.25 | E54: =IFERROR(VLOOKUP($B54,блюда!$B$11:$I$65,5,FALSE)*$C54/100,"") -> 14 | F54: =IFERROR(VLOOKUP($B54,блюда!$B$11:$I$65,6,FALSE)*$C54/100,"") -> 4.125 | G54: =IFERROR(VLOOKUP($B54,блюда!$B$11:$I$65,7,FALSE)*$C54/100,"") -> 211.75 | H54: =IFERROR(VLOOKUP($B54,блюда!$B$11:$I$65,8,FALSE),"") -> 260 (2)
B55: Чай черный байховый с сахаром | C55: 200 | D55: =IFERROR(VLOOKUP($B55,блюда!$B$11:$I$65,4,FALSE)*$C55/100,"") -> 0.2 | E55: =IFERROR(VLOOKUP($B55,блюда!$B$11:$I$65,5,FALSE)*$C55/100,"") -> 0 | F55: =IFERROR(VLOOKUP($B55,блюда!$B$11:$I$65,6,FALSE)*$C55/100,"") -> 6.5 | G55: =IFERROR(VLOOKUP($B55,блюда!$B$11:$I$65,7,FALSE)*$C55/100,"") -> 26.4 | H55: =IFERROR(VLOOKUP($B55,блюда!$B$11:$I$65,8,FALSE),"") -> 685 (1)
B56: Хлеб пшеничный | C56: 30 | D56: =IFERROR(VLOOKUP($B56,блюда!$B$11:$I$65,4,FALSE)*$C56/100,"") -> 2.7 | E56: =IFERROR(VLOOKUP($B56,блюда!$B$11:$I$65,5,FALSE)*$C56/100,"") -> 0.3 | F56: =IFERROR(VLOOKUP($B56,блюда!$B$11:$I$65,6,FALSE)*$C56/100,"") -> 17.1 | G56: =IFERROR(VLOOKUP($B56,блюда!$B$11:$I$65,7,FALSE)*$C56/100,"") -> 94.8 | H56: =IFERROR(VLOOKUP($B56,блюда!$B$11:$I$65,8,FALSE),"") -> т/н
B57: Хлеб ржаной | C57: 30 | D57: =IFERROR(VLOOKUP($B57,блюда!$B$11:$I$65,4,FALSE)*$C57/100,"") -> 0.3 | E57: =IFERROR(VLOOKUP($B57,блюда!$B$11:$I$65,5,FALSE)*$C57/100,"") -> 0.3 | F57: =IFERROR(VLOOKUP($B57,блюда!$B$11:$I$65,6,FALSE)*$C57/100,"") -> 9.9 | G57: =IFERROR(VLOOKUP($B57,блюда!$B$11:$I$65,7,FALSE)*$C57/100,"") -> 81.9 | H57: =IFERROR(VLOOKUP($B57,блюда!$B$11:$I$65,8,FALSE),"") -> т/н
D58: =IFERROR(VLOOKUP($B58,блюда!$B$11:$I$65,4,FALSE)*$C58/100,"") | E58: =IFERROR(VLOOKUP($B58,блюда!$B$11:$I$65,5,FALSE)*$C58/100,"") | F58: =IFERROR(VLOOKUP($B58,блюда!$B$11:$I$65,6,FALSE)*$C58/100,"") | G58: =IFERROR(VLOOKUP($B58,блюда!$B$11:$I$65,7,FALSE)*$C58/100,"") | H58: =IFERROR(VLOOKUP($B58,блюда!$B$11:$I$65,8,FALSE),"")
A59: Итого за Обед | C59: =SUM(C52:C58) -> 740 | D59: =SUM(D52:D58) -> 30.05 | E59: =SUM(E52:E58) -> 26 | F59: =SUM(F52:F58) -> 98.625 | G59: =SUM(G52:G58) -> 814.45
A60: Итого за День | C60: =SUM(C50,C59) -> 740 | D60: =SUM(D50,D59) -> 30.05 | E60: =SUM(E50,E59) -> 26 | F60: =SUM(F50,F59) -> 98.625 | G60: =SUM(G50,G59) -> 814.45
A70: МОБУ "Нурминская средняя общеобразовательная школа" Приложение 8 к СанПиН 2.3/2.4.3590-20
A71: Примерное меню и пищевая ценность приготовляемых блюд (лист 1)
A73: Рацион: основной | C73: День: | D73: среда | F73: Возраст: | G73: 7-11 | H73: лет
C74: Неделя: | D74: 1
A75: Прием пищи | B75: Наименование блюда | C75: Вес блюда | D75: Пищевые вещества (г) | G75: Энерге- тическая ценность (ккал) | H75: № рецептуры
D76: Б | E76: Ж | F76: У
A77: 1 | B77: 2 | C77: 3 | D77: 4 | E77: 5 | F77: 6 | G77: 7
A78: Завтрак
D79: =IFERROR(VLOOKUP($B79,блюда!$B$11:$I$65,4,FALSE)*$C79/100,"") | E79: =IFERROR(VLOOKUP($B79,блюда!$B$11:$I$65,5,FALSE)*$C79/100,"") | F79: =IFERROR(VLOOKUP($B79,блюда!$B$11:$I$65,6,FALSE)*$C79/100,"") | G79: =IFERROR(VLOOKUP($B79,блюда!$B$11:$I$65,7,FALSE)*$C79/100,"") | H79: =IFERROR(VLOOKUP($B79,блюда!$B$11:$I$65,8,FALSE),"")
D80: =IFERROR(VLOOKUP($B80,блюда!$B$11:$I$65,4,FALSE)*$C80/100,"") | E80: =IFERROR(VLOOKUP($B80,блюда!$B$11:$I$65,5,FALSE)*$C80/100,"") | F80: =IFERROR(VLOOKUP($B80,блюда!$B$11:$I$65,6,FALSE)*$C80/100,"") | G80: =IFERROR(VLOOKUP($B80,блюда!$B$11:$I$65,7,FALSE)*$C80/100,"") | H80: =IFERROR(VLOOKUP($B80,блюда!$B$11:$I$65,8,FALSE),"")
D81: =IFERROR(VLOOKUP($B81,блюда!$B$11:$I$65,4,FALSE)*$C81/100,"") | E81: =IFERROR(VLOOKUP($B81,блюда!$B$11:$I$65,5,FALSE)*$C81/100,"") | F81: =IFERROR(VLOOKUP($B81,блюда!$B$11:$I$65,6,FALSE)*$C81/100,"") | G81: =IFERROR(VLOOKUP($B81,блюда!$B$11:$I$65,7,FALSE)*$C81/100,"") | H81: =IFERROR(VLOOKUP($B81,блюда!$B$11:$I$65,8,FALSE),"")
D82: =IFERROR(VLOOKUP($B82,блюда!$B$11:$I$65,4,FALSE)*$C82/100,"") | E82: =IFERROR(VLOOKUP($B82,блюда!$B$11:$I$65,5,FALSE)*$C82/100,"") | F82: =IFERROR(VLOOKUP($B82,блюда!$B$11:$I$65,6,FALSE)*$C82/100,"") | G82: =IFERROR(VLOOKUP($B82,блюда!$B$11:$I$65,7,FALSE)*$C82/100,"") | H82: =IFERROR(VLOOKUP($B82,блюда!$B$11:$I$65,8,FALSE),"")
D83: =IFERROR(VLOOKUP($B83,блюда!$B$11:$I$65,4,FALSE)*$C83/100,"") | E83: =IFERROR(VLOOKUP($B83,блюда!$B$11:$I$65,5,FALSE)*$C83/100,"") | F83: =IFERROR(VLOOKUP($B83,блюда!$B$11:$I$65,6,FALSE)*$C83/100,"") | G83: =IFERROR(VLOOKUP($B83,блюда!$B$11:$I$65,7,FALSE)*$C83/100,"") | H83: =IFERROR(VLOOKUP($B83,блюда!$B$11:$I$65,8,FALSE),"")
D84: =IFERROR(VLOOKUP($B84,блюда!$B$11:$I$65,4,FALSE)*$C84/100,"") | E84: =IFERROR(VLOOKUP($B84,блюда!$B$11:$I$65,5,FALSE)*$C84/100,"") | F84: =IFERROR(VLOOKUP($B84,блюда!$B$11:$I$65,6,FALSE)*$C84/100,"") | G84: =IFERROR(VLOOKUP($B84,блюда!$B$11:$I$65,7,FALSE)*$C84/100,"") | H84: =IFERROR(VLOOKUP($B84,блюда!$B$11:$I$65,8,FALSE),"")
A85: Итого за Завтрак | C85: =SUM(C79:C84) -> 0 | D85: =SUM(D79:D84) -> 0 | E85: =SUM(E79:E84) -> 0 | F85: =SUM(F79:F84) -> 0 | G85: =SUM(G79:G84) -> 0
A86: Обед
B87: Суп картофельный с крупой, мясом курицы и сметаной | C87: 250 | D87: =IFERROR(VLOOKUP($B87,блюда!$B$11:$I$65,4,FALSE)*$C87/100,"") -> 7.5 | E87: =IFERROR(VLOOKUP($B87,блюда!$B$11:$I$65,5,FALSE)*$C87/100,"") -> 5 | F87: =IFERROR(VLOOKUP($B87,блюда!$B$11:$I$65,6,FALSE)*$C87/100,"") -> 20 | G87: =IFERROR(VLOOKUP($B87,блюда!$B$11:$I$65,7,FALSE)*$C87/100,"") -> 167.5 | H87: =IFERROR(VLOOKUP($B87,блюда!$B$11:$I$65,8,FALSE),"") -> 138(1) / 107(1)
B88: Каша гречневая рассыпчатая | C88: 180 | D88: =IFERROR(VLOOKUP($B88,блюда!$B$11:$I$65,4,FALSE)*$C88/100,"") -> 9 | E88: =IFERROR(VLOOKUP($B88,блюда!$B$11:$I$65,5,FALSE)*$C88/100,"") -> 7.2 | F88: =IFERROR(VLOOKUP($B88,блюда!$B$11:$I$65,6,FALSE)*$C88/100,"") -> 52.2 | G88: =IFERROR(VLOOKUP($B88,блюда!$B$11:$I$65,7,FALSE)*$C88/100,"") -> 315 | H88: =IFERROR(VLOOKUP($B88,блюда!$B$11:$I$65,8,FALSE),"") -> 302 (3)
B89: Рыба тушеная в томате с овощами | C89: 100 | D89: =IFERROR(VLOOKUP($B89,блюда!$B$11:$I$65,4,FALSE)*$C89/100,"") -> 1 | E89: =IFERROR(VLOOKUP($B89,блюда!$B$11:$I$65,5,FALSE)*$C89/100,"") -> 0 | F89: =IFERROR(VLOOKUP($B89,блюда!$B$11:$I$65,6,FALSE)*$C89/100,"") -> 3 | G89: =IFERROR(VLOOKUP($B89,блюда!$B$11:$I$65,7,FALSE)*$C89/100,"") -> 92.5 | H89: =IFERROR(VLOOKUP($B89,блюда!$B$11:$I$65,8,FALSE),"") -> 229 (6)
B90: Чай черный байховый с лимоном и сахаром | C90: 200 | D90: =IFERROR(VLOOKUP($B90,блюда!$B$11:$I$65,4,FALSE)*$C90/100,"") -> 0.3 | E90: =IFERROR(VLOOKUP($B90,блюда!$B$11:$I$65,5,FALSE)*$C90/100,"") -> 0 | F90: =IFERROR(VLOOKUP($B90,блюда!$B$11:$I$65,6,FALSE)*$C90/100,"") -> 6.7 | G90: =IFERROR(VLOOKUP($B90,блюда!$B$11:$I$65,7,FALSE)*$C90/100,"") -> 27.6 | H90: =IFERROR(VLOOKUP($B90,блюда!$B$11:$I$65,8,FALSE),"") -> 686 (1)
B91: Хлеб пшеничный | C91: 30 | D91: =IFERROR(VLOOKUP($B91,блюда!$B$11:$I$65,4,FALSE)*$C91/100,"") -> 2.7 | E91: =IFERROR(VLOOKUP($B91,блюда!$B$11:$I$65,5,FALSE)*$C91/100,"") -> 0.3 | F91: =IFERROR(VLOOKUP($B91,блюда!$B$11:$I$65,6,FALSE)*$C91/100,"") -> 17.1 | G91: =IFERROR(VLOOKUP($B91,блюда!$B$11:$I$65,7,FALSE)*$C91/100,"") -> 94.8 | H91: =IFERROR(VLOOKUP($B91,блюда!$B$11:$I$65,8,FALSE),"") -> т/н
B92: Хлеб ржаной | C92: 30 | D92: =IFERROR(VLOOKUP($B92,блюда!$B$11:$I$65,4,FALSE)*$C92/100,"") -> 0.3 | E92: =IFERROR(VLOOKUP($B92,блюда!$B$11:$I$65,5,FALSE)*$C92/100,"") -> 0.3 | F92: =IFERROR(VLOOKUP($B92,блюда!$B$11:$I$65,6,FALSE)*$C92/100,"") -> 9.9 | G92: =IFERROR(VLOOKUP($B92,блюда!$B$11:$I$65,7,FALSE)*$C92/100,"") -> 81.9 | H92: =IFERROR(VLOOKUP($B92,блюда!$B$11:$I$65,8,FALSE),"") -> т/н
C93: 30 | D93: =IFERROR(VLOOKUP($B93,блюда!$B$11:$I$65,4,FALSE)*$C93/100,"") | E93: =IFERROR(VLOOKUP($B93,блюда!$B$11:$I$65,5,FALSE)*$C93/100,"") | F93: =IFERROR(VLOOKUP($B93,блюда!$B$11:$I$65,6,FALSE)*$C93/100,"") | G93: =IFERROR(VLOOKUP($B93,блюда!$B$11:$I$65,7,FALSE)*$C93/100,"") | H93: =IFERROR(VLOOKUP($B93,блюда!$B$11:$I$65,8,FALSE),"")
A94: Итого за Обед | C94: =SUM(C87:C93) -> 820 | D94: =SUM(D87:D93) -> 20.8 | E94: =SUM(E87:E93) -> 12.8 | F94: =SUM(F87:F93) -> 108.9 | G94: =SUM(G87:G93) -> 779.3
A95: Итого за День | C95: =SUM(C85,C94) -> 820 | D95: =SUM(D85,D94) -> 20.8 | E95: =SUM(E85,E94) -> 12.8 | F95: =SUM(F85,F94) -> 108.9 | G95: =SUM(G85,G94) -> 779.3
A105: МОБУ "Нурминская средняя общеобразовательная школа" Приложение 8 к СанПиН 2.3/2.4.3590-20
A106: Примерное меню и пищевая ценность приготовляемых блюд (лист 1)
A108: Рацион: основной | C108: День: | D108: четверг | F108: Возраст: | G108: 7-11 | H108: лет
C109: Неделя: | D109: 1
A110: Прием пищи | B110: Наименование блюда | C110: Вес блюда | D110: Пищевые вещества (г) | G110: Энерге- тическая ценность (ккал) | H110: № рецептуры
D111: Б | E111: Ж | F111: У
A112: 1 | B112: 2 | C112: 3 | D112: 4 | E112: 5 | F112: 6 | G112: 7
A113: Завтрак
D114: =IFERROR(VLOOKUP($B114,блюда!$B$11:$I$65,4,FALSE)*$C114/100,"") | E114: =IFERROR(VLOOKUP($B114,блюда!$B$11:$I$65,5,FALSE)*$C114/100,"") | F114: =IFERROR(VLOOKUP($B114,блюда!$B$11:$I$65,6,FALSE)*$C114/100,"") | G114: =IFERROR(VLOOKUP($B114,блюда!$B$11:$I$65,7,FALSE)*$C114/100,"") | H114: =IFERROR(VLOOKUP($B114,блюда!$B$11:$I$65,8,FALSE),"")
D115: =IFERROR(VLOOKUP($B115,блюда!$B$11:$I$65,4,FALSE)*$C115/100,"") | E115: =IFERROR(VLOOKUP($B115,блюда!$B$11:$I$65,5,FALSE)*$C115/100,"") | F115: =IFERROR(VLOOKUP($B115,блюда!$B$11:$I$65,6,FALSE)*$C115/100,"") | G115: =IFERROR(VLOOKUP($B115,блюда!$B$11:$I$65,7,FALSE)*$C115/100,"") | H115: =IFERROR(VLOOKUP($B115,блюда!$B$11:$I$65,8,FALSE),"")
D116: =IFERROR(VLOOKUP($B116,блюда!$B$11:$I$65,4,FALSE)*$C116/100,"") | E116: =IFERROR(VLOOKUP($B116,блюда!$B$11:$I$65,5,FALSE)*$C116/100,"") | F116: =IFERROR(VLOOKUP($B116,блюда!$B$11:$I$65,6,FALSE)*$C116/100,"") | G116: =IFERROR(VLOOKUP($B116,блюда!$B$11:$I$65,7,FALSE)*$C116/100,"") | H116: =IFERROR(VLOOKUP($B116,блюда!$B$11:$I$65,8,FALSE),"")
D117: =IFERROR(VLOOKUP($B117,блюда!$B$11:$I$65,4,FALSE)*$C117/100,"") | E117: =IFERROR(VLOOKUP($B117,блюда!$B$11:$I$65,5,FALSE)*$C117/100,"") | F117: =IFERROR(VLOOKUP($B117,блюда!$B$11:$I$65,6,FALSE)*$C117/100,"") | G117: =IFERROR(VLOOKUP($B117,блюда!$B$11:$I$65,7,FALSE)*$C117/100,"") | H117: =IFERROR(VLOOKUP($B117,блюда!$B$11:$I$65,8,FALSE),"")
D118: =IFERROR(VLOOKUP($B118,блюда!$B$11:$I$65,4,FALSE)*$C118/100,"") | E118: =IFERROR(VLOOKUP($B118,блюда!$B$11:$I$65,5,FALSE)*$C118/100,"") | F118: =IFERROR(VLOOKUP($B118,блюда!$B$11:$I$65,6,FALSE)*$C118/100,"") | G118: =IFERROR(VLOOKUP($B118,блюда!$B$11:$I$65,7,FALSE)*$C118/100,"") | H118: =IFERROR(VLOOKUP($B118,блюда!$B$11:$I$65,8,FALSE),"")
D119: =IFERROR(VLOOKUP($B119,блюда!$B$11:$I$65,4,FALSE)*$C119/100,"") | E119: =IFERROR(VLOOKUP($B119,блюда!$B$11:$I$65,5,FALSE)*$C119/100,"") | F119: =IFERROR(VLOOKUP($B119,блюда!$B$11:$I$65,6,FALSE)*$C119/100,"") | G119: =IFERROR(VLOOKUP($B119,блюда!$B$11:$I$65,7,FALSE)*$C119/100,"") | H119: =IFERROR(VLOOKUP($B119,блюда!$B$11:$I$65,8,FALSE),"")
A120: Итого за Завтрак | C120: =SUM(C114:C119) -> 0 | D120: =SUM(D114:D119) -> 0 | E120: =SUM(E114:E119) -> 0 | F120: =SUM(F114:F119) -> 0 | G120: =SUM(G114:G119) -> 0
A121: Обед
B122: Борщ с капустой, картофелем, мясом птицы и сметаной | C122: 250 | D122: =IFERROR(VLOOKUP($B122,блюда!$B$11:$I$65,4,FALSE)*$C122/100,"") -> 6.95 | E122: =IFERROR(VLOOKUP($B122,блюда!$B$11:$I$65,5,FALSE)*$C122/100,"") -> 7.95 | F122: =IFERROR(VLOOKUP($B122,блюда!$B$11:$I$65,6,FALSE)*$C122/100,"") -> 13.125 | G122: =IFERROR(VLOOKUP($B122,блюда!$B$11:$I$65,7,FALSE)*$C122/100,"") -> 152.925 | H122: =IFERROR(VLOOKUP($B122,блюда!$B$11:$I$65,8,FALSE),"") -> 110(1) / 107(1)
B123: Плов из птицы | C123: 200 | D123: =IFERROR(VLOOKUP($B123,блюда!$B$11:$I$65,4,FALSE)*$C123/100,"") -> 28 | E123: =IFERROR(VLOOKUP($B123,блюда!$B$11:$I$65,5,FALSE)*$C123/100,"") -> 8 | F123: =IFERROR(VLOOKUP($B123,блюда!$B$11:$I$65,6,FALSE)*$C123/100,"") -> 34 | G123: =IFERROR(VLOOKUP($B123,блюда!$B$11:$I$65,7,FALSE)*$C123/100,"") -> 340 | H123: =IFERROR(VLOOKUP($B123,блюда!$B$11:$I$65,8,FALSE),"") -> 291(2)
B124: Сок фруктовый (яблочный) | C124: 200 | D124: =IFERROR(VLOOKUP($B124,блюда!$B$11:$I$65,4,FALSE)*$C124/100,"") -> 1 | E124: =IFERROR(VLOOKUP($B124,блюда!$B$11:$I$65,5,FALSE)*$C124/100,"") -> 0 | F124: =IFERROR(VLOOKUP($B124,блюда!$B$11:$I$65,6,FALSE)*$C124/100,"") -> 20 | G124: =IFERROR(VLOOKUP($B124,блюда!$B$11:$I$65,7,FALSE)*$C124/100,"") -> 84.8 | H124: =IFERROR(VLOOKUP($B124,блюда!$B$11:$I$65,8,FALSE),"") -> 389(3)
B125: Хлеб пшеничный | C125: 30 | D125: =IFERROR(VLOOKUP($B125,блюда!$B$11:$I$65,4,FALSE)*$C125/100,"") -> 2.7 | E125: =IFERROR(VLOOKUP($B125,блюда!$B$11:$I$65,5,FALSE)*$C125/100,"") -> 0.3 | F125: =IFERROR(VLOOKUP($B125,блюда!$B$11:$I$65,6,FALSE)*$C125/100,"") -> 17.1 | G125: =IFERROR(VLOOKUP($B125,блюда!$B$11:$I$65,7,FALSE)*$C125/100,"") -> 94.8 | H125: =IFERROR(VLOOKUP($B125,блюда!$B$11:$I$65,8,FALSE),"") -> т/н
B126: Хлеб ржаной | C126: 30 | D126: =IFERROR(VLOOKUP($B126,блюда!$B$11:$I$65,4,FALSE)*$C126/100,"") -> 0.3 | E126: =IFERROR(VLOOKUP($B126,блюда!$B$11:$I$65,5,FALSE)*$C126/100,"") -> 0.3 | F126: =IFERROR(VLOOKUP($B126,блюда!$B$11:$I$65,6,FALSE)*$C126/100,"") -> 9.9 | G126: =IFERROR(VLOOKUP($B126,блюда!$B$11:$I$65,7,FALSE)*$C126/100,"") -> 81.9 | H126: =IFERROR(VLOOKUP($B126,блюда!$B$11:$I$65,8,FALSE),"") -> т/н
D127: =IFERROR(VLOOKUP($B127,блюда!$B$11:$I$65,4,FALSE)*$C127/100,"") | E127: =IFERROR(VLOOKUP($B127,блюда!$B$11:$I$65,5,FALSE)*$C127/100,"") | F127: =IFERROR(VLOOKUP($B127,блюда!$B$11:$I$65,6,FALSE)*$C127/100,"") | G127: =IFERROR(VLOOKUP($B127,блюда!$B$11:$I$65,7,FALSE)*$C127/100,"") | H127: =IFERROR(VLOOKUP($B127,блюда!$B$11:$I$65,8,FALSE),"")
D128: =IFERROR(VLOOKUP($B128,блюда!$B$11:$I$65,4,FALSE)*$C128/100,"") | E128: =IFERROR(VLOOKUP($B128,блюда!$B$11:$I$65,5,FALSE)*$C128/100,"") | F128: =IFERROR(VLOOKUP($B128,блюда!$B$11:$I$65,6,FALSE)*$C128/100,"") | G128: =IFERROR(VLOOKUP($B128,блюда!$B$11:$I$65,7,FALSE)*$C128/100,"") | H128: =IFERROR(VLOOKUP($B128,блюда!$B$11:$I$65,8,FALSE),"")
A129: Итого за Обед | C129: =SUM(C122:C128) -> 710 | D129: =SUM(D122:D128) -> 38.95 | E129: =SUM(E122:E128) -> 16.55 | F129: =SUM(F122:F128) -> 94.125 | G129: =SUM(G122:G128) -> 754.425
A130: Итого за День | C130: =SUM(C120,C129) -> 710 | D130: =SUM(D120,D129) -> 38.95 | E130: =SUM(E120,E129) -> 16.55 | F130: =SUM(F120,F129) -> 94.125 | G130: =SUM(G120,G129) -> 754.425
...

Sheet 12-18 лет, овз, сво
A1: МОБУ "Нурминская средняя общеобразовательная школа" Приложение 8 к СанПиН 2.3/2.4.3590-20
A2: Примерное меню и пищевая ценность приготовляемых блюд (лист 1)
A4: Рацион: основной | C4: День: | D4: понедельник | F4: Возраст: | G4: 12-18 | H4: лет
C5: Неделя: | D5: 1
A6: Прием пищи | B6: Наименование блюда | C6: Вес блюда | D6: Пищевые вещества (г) | G6: Энерге- тическая ценность (ккал) | H6: № рецептуры
D7: Б | E7: Ж | F7: У
A8: 1 | B8: 2 | C8: 3 | D8: 4 | E8: 5 | F8: 6 | G8: 7
A9: Завтрак
D10: =IFERROR(VLOOKUP($B10,блюда!$B$11:$I$65,4,FALSE)*$C10/100,"") | E10: =IFERROR(VLOOKUP($B10,блюда!$B$11:$I$65,5,FALSE)*$C10/100,"") | F10: =IFERROR(VLOOKUP($B10,блюда!$B$11:$I$65,6,FALSE)*$C10/100,"") | G10: =IFERROR(VLOOKUP($B10,блюда!$B$11:$I$65,7,FALSE)*$C10/100,"") | H10: =IFERROR(VLOOKUP($B10,блюда!$B$11:$I$65,8,FALSE),"")
D11: =IFERROR(VLOOKUP($B11,блюда!$B$11:$I$65,4,FALSE)*$C11/100,"") | E11: =IFERROR(VLOOKUP($B11,блюда!$B$11:$I$65,5,FALSE)*$C11/100,"") | F11: =IFERROR(VLOOKUP($B11,блюда!$B$11:$I$65,6,FALSE)*$C11/100,"") | G11: =IFERROR(VLOOKUP($B11,блюда!$B$11:$I$65,7,FALSE)*$C11/100,"") | H11: =IFERROR(VLOOKUP($B11,блюда!$B$11:$I$65,8,FALSE),"")
D12: =IFERROR(VLOOKUP($B12,блюда!$B$11:$I$65,4,FALSE)*$C12/100,"") | E12: =IFERROR(VLOOKUP($B12,блюда!$B$11:$I$65,5,FALSE)*$C12/100,"") | F12: =IFERROR(VLOOKUP($B12,блюда!$B$11:$I$65,6,FALSE)*$C12/100,"") | G12: =IFERROR(VLOOKUP($B12,блюда!$B$11:$I$65,7,FALSE)*$C12/100,"") | H12: =IFERROR(VLOOKUP($B12,блюда!$B$11:$I$65,8,FALSE),"")
D13: =IFERROR(VLOOKUP($B13,блюда!$B$11:$I$65,4,FALSE)*$C13/100,"") | E13: =IFERROR(VLOOKUP($B13,блюда!$B$11:$I$65,5,FALSE)*$C13/100,"") | F13: =IFERROR(VLOOKUP($B13,блюда!$B$11:$I$65,6,FALSE)*$C13/100,"") | G13: =IFERROR(VLOOKUP($B13,блюда!$B$11:$I$65,7,FALSE)*$C13/100,"") | H13: =IFERROR(VLOOKUP($B13,блюда!$B$11:$I$65,8,FALSE),"")
D14: =IFERROR(VLOOKUP($B14,блюда!$B$11:$I$65,4,FALSE)*$C14/100,"") | E14: =IFERROR(VLOOKUP($B14,блюда!$B$11:$I$65,5,FALSE)*$C14/100,"") | F14: =IFERROR(VLOOKUP($B14,блюда!$B$11:$I$65,6,FALSE)*$C14/100,"") | G14: =IFERROR(VLOOKUP($B14,блюда!$B$11:$I$65,7,FALSE)*$C14/100,"") | H14: =IFERROR(VLOOKUP($B14,блюда!$B$11:$I$65,8,FALSE),"")
D15: =IFERROR(VLOOKUP($B15,блюда!$B$11:$I$65,4,FALSE)*$C15/100,"") | E15: =IFERROR(VLOOKUP($B15,блюда!$B$11:$I$65,5,FALSE)*$C15/100,"") | F15: =IFERROR(VLOOKUP($B15,блюда!$B$11:$I$65,6,FALSE)*$C15/100,"") | G15: =IFERROR(VLOOKUP($B15,блюда!$B$11:$I$65,7,FALSE)*$C15/100,"") | H15: =IFERROR(VLOOKUP($B15,блюда!$B$11:$I$65,8,FALSE),"")
A16: Итого за Завтрак | C16: =SUM(C10:C15) -> 0 | D16: =SUM(D10:D15) -> 0 | E16: =SUM(E10:E15) -> 0 | F16: =SUM(F10:F15) -> 0 | G16: =SUM(G10:G15) -> 0
A17: Обед
B18: Суп с рыбными консервами | C18: 250 | D18: =IFERROR(VLOOKUP($B18,блюда!$B$11:$I$65,4,FALSE)*$C18/100,"") -> 10 | E18: =IFERROR(VLOOKUP($B18,блюда!$B$11:$I$65,5,FALSE)*$C18/100,"") -> 5 | F18: =IFERROR(VLOOKUP($B18,блюда!$B$11:$I$65,6,FALSE)*$C18/100,"") -> 17.5 | G18: =IFERROR(VLOOKUP($B18,блюда!$B$11:$I$65,7,FALSE)*$C18/100,"") -> 155 | H18: =IFERROR(VLOOKUP($B18,блюда!$B$11:$I$65,8,FALSE),"") -> 87 (5)
B19: Макаронные изделия отварные с маслом | C19: 180 | D19: =IFERROR(VLOOKUP($B19,блюда!$B$11:$I$65,4,FALSE)*$C19/100,"") -> 5.94 | E19: =IFERROR(VLOOKUP($B19,блюда!$B$11:$I$65,5,FALSE)*$C19/100,"") -> 5.94 | F19: =IFERROR(VLOOKUP($B19,блюда!$B$11:$I$65,6,FALSE)*$C19/100,"") -> 38.16 | G19: =IFERROR(VLOOKUP($B19,блюда!$B$11:$I$65,7,FALSE)*$C19/100,"") -> 250.2 | H19: =IFERROR(VLOOKUP($B19,блюда!$B$11:$I$65,8,FALSE),"") -> 203 (2)
B20: Котлеты из курицы | C20: 100 | D20: =IFERROR(VLOOKUP($B20,блюда!$B$11:$I$65,4,FALSE)*$C20/100,"") -> 19.33 | E20: =IFERROR(VLOOKUP($B20,блюда!$B$11:$I$65,5,FALSE)*$C20/100,"") -> 4.92 | F20: =IFERROR(VLOOKUP($B20,блюда!$B$11:$I$65,6,FALSE)*$C20/100,"") -> 12.67 | G20: =IFERROR(VLOOKUP($B20,блюда!$B$11:$I$65,7,FALSE)*$C20/100,"") -> 171.07 | H20: =IFERROR(VLOOKUP($B20,блюда!$B$11:$I$65,8,FALSE),"") -> 295 (3)
B21: Капуста тушеная (закуска) | C21: 60 | D21: =IFERROR(VLOOKUP($B21,блюда!$B$11:$I$65,4,FALSE)*$C21/100,"") -> 3 | E21: =IFERROR(VLOOKUP($B21,блюда!$B$11:$I$65,5,FALSE)*$C21/100,"") -> 4.98 | F21: =IFERROR(VLOOKUP($B21,блюда!$B$11:$I$65,6,FALSE)*$C21/100,"") -> 15 | G21: =IFERROR(VLOOKUP($B21,блюда!$B$11:$I$65,7,FALSE)*$C21/100,"") -> 40.02 | H21: =IFERROR(VLOOKUP($B21,блюда!$B$11:$I$65,8,FALSE),"") -> 321 (3)
B22: Компот из смеси сухофруктов | C22: 200 | D22: =IFERROR(VLOOKUP($B22,блюда!$B$11:$I$65,4,FALSE)*$C22/100,"") -> 0.6 | E22: =IFERROR(VLOOKUP($B22,блюда!$B$11:$I$65,5,FALSE)*$C22/100,"") -> 0 | F22: =IFERROR(VLOOKUP($B22,блюда!$B$11:$I$65,6,FALSE)*$C22/100,"") -> 22.8 | G22: =IFERROR(VLOOKUP($B22,блюда!$B$11:$I$65,7,FALSE)*$C22/100,"") -> 93.2 | H22: =IFERROR(VLOOKUP($B22,блюда!$B$11:$I$65,8,FALSE),"") -> 349 (3)
B23: Хлеб пшеничный | C23: 30 | D23: =IFERROR(VLOOKUP($B23,блюда!$B$11:$I$65,4,FALSE)*$C23/100,"") -> 2.7 | E23: =IFERROR(VLOOKUP($B23,блюда!$B$11:$I$65,5,FALSE)*$C23/100,"") -> 0.3 | F23: =IFERROR(VLOOKUP($B23,блюда!$B$11:$I$65,6,FALSE)*$C23/100,"") -> 17.1 | G23: =IFERROR(VLOOKUP($B23,блюда!$B$11:$I$65,7,FALSE)*$C23/100,"") -> 94.8 | H23: =IFERROR(VLOOKUP($B23,блюда!$B$11:$I$65,8,FALSE),"") -> т/н
B24: Хлеб ржаной | C24: 30 | D24: =IFERROR(VLOOKUP($B24,блюда!$B$11:$I$65,4,FALSE)*$C24/100,"") -> 0.3 | E24: =IFERROR(VLOOKUP($B24,блюда!$B$11:$I$65,5,FALSE)*$C24/100,"") -> 0.3 | F24: =IFERROR(VLOOKUP($B24,блюда!$B$11:$I$65,6,FALSE)*$C24/100,"") -> 9.9 | G24: =IFERROR(VLOOKUP($B24,блюда!$B$11:$I$65,7,FALSE)*$C24/100,"") -> 81.9 | H24: =IFERROR(VLOOKUP($B24,блюда!$B$11:$I$65,8,FALSE),"") -> т/н
A25: Итого за Обед | C25: =SUM(C18:C24) -> 850 | D25: =SUM(D18:D24) -> 41.87 | E25: =SUM(E18:E24) -> 21.44 | F25: =SUM(F18:F24) -> 133.13 | G25: =SUM(G18:G24) -> 886.19
A26: Итого за День | C26: =SUM(C16,C25) -> 850 | D26: =SUM(D16,D25) -> 41.87 | E26: =SUM(E16,E25) -> 21.44 | F26: =SUM(F16,F25) -> 133.13 | G26: =SUM(G16,G25) -> 886.19
A35: МОБУ "Нурминская средняя общеобразовательная школа" Приложение 8 к СанПиН 2.3/2.4.3590-20
A36: Примерное меню и пищевая ценность приготовляемых блюд (лист 1)
A38: Рацион: основной | C38: День: | D38: вторник | F38: Возраст: | G38: 12-18 | H38: лет
C39: Неделя: | D39: 1
A40: Прием пищи | B40: Наименование блюда | C40: Вес блюда | D40: Пищевые вещества (г) | G40: Энерге- тическая ценность (ккал) | H40: № рецептуры
D41: Б | E41: Ж | F41: У
A42: 1 | B42: 2 | C42: 3 | D42: 4 | E42: 5 | F42: 6 | G42: 7
A43: Завтрак
D44: =IFERROR(VLOOKUP($B44,блюда!$B$11:$I$65,4,FALSE)*$C44/100,"") | E44: =IFERROR(VLOOKUP($B44,блюда!$B$11:$I$65,5,FALSE)*$C44/100,"") | F44: =IFERROR(VLOOKUP($B44,блюда!$B$11:$I$65,6,FALSE)*$C44/100,"") | G44: =IFERROR(VLOOKUP($B44,блюда!$B$11:$I$65,7,FALSE)*$C44/100,"") | H44: =IFERROR(VLOOKUP($B44,блюда!$B$11:$I$65,8,FALSE),"")
D45: =IFERROR(VLOOKUP($B45,блюда!$B$11:$I$65,4,FALSE)*$C45/100,"") | E45: =IFERROR(VLOOKUP($B45,блюда!$B$11:$I$65,5,FALSE)*$C45/100,"") | F45: =IFERROR(VLOOKUP($B45,блюда!$B$11:$I$65,6,FALSE)*$C45/100,"") | G45: =IFERROR(VLOOKUP($B45,блюда!$B$11:$I$65,7,FALSE)*$C45/100,"") | H45: =IFERROR(VLOOKUP($B45,блюда!$B$11:$I$65,8,FALSE),"")
D46: =IFERROR(VLOOKUP($B46,блюда!$B$11:$I$65,4,FALSE)*$C46/100,"") | E46: =IFERROR(VLOOKUP($B46,блюда!$B$11:$I$65,5,FALSE)*$C46/100,"") | F46: =IFERROR(VLOOKUP($B46,блюда!$B$11:$I$65,6,FALSE)*$C46/100,"") | G46: =IFERROR(VLOOKUP($B46,блюда!$B$11:$I$65,7,FALSE)*$C46/100,"") | H46: =IFERROR(VLOOKUP($B46,блюда!$B$11:$I$65,8,FALSE),"")
D47: =IFERROR(VLOOKUP($B47,блюда!$B$11:$I$65,4,FALSE)*$C47/100,"") | E47: =IFERROR(VLOOKUP($B47,блюда!$B$11:$I$65,5,FALSE)*$C47/100,"") | F47: =IFERROR(VLOOKUP($B47,блюда!$B$11:$I$65,6,FALSE)*$C47/100,"") | G47: =IFERROR(VLOOKUP($B47,блюда!$B$11:$I$65,7,FALSE)*$C47/100,"") | H47: =IFERROR(VLOOKUP($B47,блюда!$B$11:$I$65,8,FALSE),"")
D48: =IFERROR(VLOOKUP($B48,блюда!$B$11:$I$65,4,FALSE)*$C48/100,"") | E48: =IFERROR(VLOOKUP($B48,блюда!$B$11:$I$65,5,FALSE)*$C48/100,"") | F48: =IFERROR(VLOOKUP($B48,блюда!$B$11:$I$65,6,FALSE)*$C48/100,"") | G48: =IFERROR(VLOOKUP($B48,блюда!$B$11:$I$65,7,FALSE)*$C48/100,"") | H48: =IFERROR(VLOOKUP($B48,блюда!$B$11:$I$65,8,FALSE),"")
D49: =IFERROR(VLOOKUP($B49,блюда!$B$11:$I$65,4,FALSE)*$C49/100,"") | E49: =IFERROR(VLOOKUP($B49,блюда!$B$11:$I$65,5,FALSE)*$C49/100,"") | F49: =IFERROR(VLOOKUP($B49,блюда!$B$11:$I$65,6,FALSE)*$C49/100,"") | G49: =IFERROR(VLOOKUP($B49,блюда!$B$11:$I$65,7,FALSE)*$C49/100,"") | H49: =IFERROR(VLOOKUP($B49,блюда!$B$11:$I$65,8,FALSE),"")
A50: Итого за Завтрак | C50: =SUM(C44:C49) -> 0 | D50: =SUM(D44:D49) -> 0 | E50: =SUM(E44:E49) -> 0 | F50: =SUM(F44:F49) -> 0 | G50: =SUM(G44:G49) -> 0
A51: Обед
B52: Рассольник ленинградский с мясом курицы и сметаной | C52: 200 | D52: =IFERROR(VLOOKUP($B52,блюда!$B$11:$I$65,4,FALSE)*$C52/100,"") -> 6 | E52: =IFERROR(VLOOKUP($B52,блюда!$B$11:$I$65,5,FALSE)*$C52/100,"") -> 6 | F52: =IFERROR(VLOOKUP($B52,блюда!$B$11:$I$65,6,FALSE)*$C52/100,"") -> 16 | G52: =IFERROR(VLOOKUP($B52,блюда!$B$11:$I$65,7,FALSE)*$C52/100,"") -> 144 | H52: =IFERROR(VLOOKUP($B52,блюда!$B$11:$I$65,8,FALSE),"") -> 132 (1) /107 (1)
B53: Рис отварной с маслом | C53: 200 | D53: =IFERROR(VLOOKUP($B53,блюда!$B$11:$I$65,4,FALSE)*$C53/100,"") -> 4 | E53: =IFERROR(VLOOKUP($B53,блюда!$B$11:$I$65,5,FALSE)*$C53/100,"") -> 6 | F53: =IFERROR(VLOOKUP($B53,блюда!$B$11:$I$65,6,FALSE)*$C53/100,"") -> 50 | G53: =IFERROR(VLOOKUP($B53,блюда!$B$11:$I$65,7,FALSE)*$C53/100,"") -> 284 | H53: =IFERROR(VLOOKUP($B53,блюда!$B$11:$I$65,8,FALSE),"") -> 304 (3)
B54: Гуляш | C54: 100 | D54: =IFERROR(VLOOKUP($B54,блюда!$B$11:$I$65,4,FALSE)*$C54/100,"") -> 17.25 | E54: =IFERROR(VLOOKUP($B54,блюда!$B$11:$I$65,5,FALSE)*$C54/100,"") -> 14 | F54: =IFERROR(VLOOKUP($B54,блюда!$B$11:$I$65,6,FALSE)*$C54/100,"") -> 4.125 | G54: =IFERROR(VLOOKUP($B54,блюда!$B$11:$I$65,7,FALSE)*$C54/100,"") -> 211.75 | H54: =IFERROR(VLOOKUP($B54,блюда!$B$11:$I$65,8,FALSE),"") -> 260 (2)
B55: Чай черный байховый с сахаром | C55: 200 | D55: =IFERROR(VLOOKUP($B55,блюда!$B$11:$I$65,4,FALSE)*$C55/100,"") -> 0.2 | E55: =IFERROR(VLOOKUP($B55,блюда!$B$11:$I$65,5,FALSE)*$C55/100,"") -> 0 | F55: =IFERROR(VLOOKUP($B55,блюда!$B$11:$I$65,6,FALSE)*$C55/100,"") -> 6.5 | G55: =IFERROR(VLOOKUP($B55,блюда!$B$11:$I$65,7,FALSE)*$C55/100,"") -> 26.4 | H55: =IFERROR(VLOOKUP($B55,блюда!$B$11:$I$65,8,FALSE),"") -> 685 (1)
B56: Хлеб пшеничный | C56: 30 | D56: =IFERROR(VLOOKUP($B56,блюда!$B$11:$I$65,4,FALSE)*$C56/100,"") -> 2.7 | E56: =IFERROR(VLOOKUP($B56,блюда!$B$11:$I$65,5,FALSE)*$C56/100,"") -> 0.3 | F56: =IFERROR(VLOOKUP($B56,блюда!$B$11:$I$65,6,FALSE)*$C56/100,"") -> 17.1 | G56: =IFERROR(VLOOKUP($B56,блюда!$B$11:$I$65,7,FALSE)*$C56/100,"") -> 94.8 | H56: =IFERROR(VLOOKUP($B56,блюда!$B$11:$I$65,8,FALSE),"") -> т/н
B57: Хлеб ржаной | C57: 30 | D57: =IFERROR(VLOOKUP($B57,блюда!$B$11:$I$65,4,FALSE)*$C57/100,"") -> 0.3 | E57: =IFERROR(VLOOKUP($B57,блюда!$B$11:$I$65,5,FALSE)*$C57/100,"") -> 0.3 | F57: =IFERROR(VLOOKUP($B57,блюда!$B$11:$I$65,6,FALSE)*$C57/100,"") -> 9.9 | G57: =IFERROR(VLOOKUP($B57,блюда!$B$11:$I$65,7,FALSE)*$C57/100,"") -> 81.9 | H57: =IFERROR(VLOOKUP($B57,блюда!$B$11:$I$65,8,FALSE),"") -> т/н
D58: =IFERROR(VLOOKUP($B58,блюда!$B$11:$I$65,4,FALSE)*$C58/100,"") | E58: =IFERROR(VLOOKUP($B58,блюда!$B$11:$I$65,5,FALSE)*$C58/100,"") | F58: =IFERROR(VLOOKUP($B58,блюда!$B$11:$I$65,6,FALSE)*$C58/100,"") | G58: =IFERROR(VLOOKUP($B58,блюда!$B$11:$I$65,7,FALSE)*$C58/100,"") | H58: =IFERROR(VLOOKUP($B58,блюда!$B$11:$I$65,8,FALSE),"")
A59: Итого за Обед | C59: =SUM(C52:C58) -> 760 | D59: =SUM(D52:D58) -> 30.45 | E59: =SUM(E52:E58) -> 26.6 | F59: =SUM(F52:F58) -> 103.625 | G59: =SUM(G52:G58) -> 842.85
A60: Итого за День | C60: =SUM(C50,C59) -> 760 | D60: =SUM(D50,D59) -> 30.45 | E60: =SUM(E50,E59) -> 26.6 | F60: =SUM(F50,F59) -> 103.625 | G60: =SUM(G50,G59) -> 842.85
A70: МОБУ "Нурминская средняя общеобразовательная школа" Приложение 8 к СанПиН 2.3/2.4.3590-20
A71: Примерное меню и пищевая ценность приготовляемых блюд (лист 1)
A73: Рацион: основной | C73: День: | D73: среда | F73: Возраст: | G73: 12-18 | H73: лет
C74: Неделя: | D74: 1
A75: Прием пищи | B75: Наименование блюда | C75: Вес блюда | D75: Пищевые вещества (г) | G75: Энерге- тическая ценность (ккал) | H75: № рецептуры
D76: Б | E76: Ж | F76: У
A77: 1 | B77: 2 | C77: 3 | D77: 4 | E77: 5 | F77: 6 | G77: 7
A78: Завтрак
D79: =IFERROR(VLOOKUP($B79,блюда!$B$11:$I$65,4,FALSE)*$C79/100,"") | E79: =IFERROR(VLOOKUP($B79,блюда!$B$11:$I$65,5,FALSE)*$C79/100,"") | F79: =IFERROR(VLOOKUP($B79,блюда!$B$11:$I$65,6,FALSE)*$C79/100,"") | G79: =IFERROR(VLOOKUP($B79,блюда!$B$11:$I$65,7,FALSE)*$C79/100,"") | H79: =IFERROR(VLOOKUP($B79,блюда!$B$11:$I$65,8,FALSE),"")
D80: =IFERROR(VLOOKUP($B80,блюда!$B$11:$I$65,4,FALSE)*$C80/100,"") | E80: =IFERROR(VLOOKUP($B80,блюда!$B$11:$I$65,5,FALSE)*$C80/100,"") | F80: =IFERROR(VLOOKUP($B80,блюда!$B$11:$I$65,6,FALSE)*$C80/100,"") | G80: =IFERROR(VLOOKUP($B80,блюда!$B$11:$I$65,7,FALSE)*$C80/100,"") | H80: =IFERROR(VLOOKUP($B80,блюда!$B$11:$I$65,8,FALSE),"")
D81: =IFERROR(VLOOKUP($B81,блюда!$B$11:$I$65,4,FALSE)*$C81/100,"") | E81: =IFERROR(VLOOKUP($B81,блюда!$B$11:$I$65,5,FALSE)*$C81/100,"") | F81: =IFERROR(VLOOKUP($B81,блюда!$B$11:$I$65,6,FALSE)*$C81/100,"") | G81: =IFERROR(VLOOKUP($B81,блюда!$B$11:$I$65,7,FALSE)*$C81/100,"") | H81: =IFERROR(VLOOKUP($B81,блюда!$B$11:$I$65,8,FALSE),"")
D82: =IFERROR(VLOOKUP($B82,блюда!$B$11:$I$65,4,FALSE)*$C82/100,"") | E82: =IFERROR(VLOOKUP($B82,блюда!$B$11:$I$65,5,FALSE)*$C82/100,"") | F82: =IFERROR(VLOOKUP($B82,блюда!$B$11:$I$65,6,FALSE)*$C82/100,"") | G82: =IFERROR(VLOOKUP($B82,блюда!$B$11:$I$65,7,FALSE)*$C82/100,"") | H82: =IFERROR(VLOOKUP($B82,блюда!$B$11:$I$65,8,FALSE),"")
D83: =IFERROR(VLOOKUP($B83,блюда!$B$11:$I$65,4,FALSE)*$C83/100,"") | E83: =IFERROR(VLOOKUP($B83,блюда!$B$11:$I$65,5,FALSE)*$C83/100,"") | F83: =IFERROR(VLOOKUP($B83,блюда!$B$11:$I$65,6,FALSE)*$C83/100,"") | G83: =IFERROR(VLOOKUP($B83,блюда!$B$11:$I$65,7,FALSE)*$C83/100,"") | H83: =IFERROR(VLOOKUP($B83,блюда!$B$11:$I$65,8,FALSE),"")
D84: =IFERROR(VLOOKUP($B84,блюда!$B$11:$I$65,4,FALSE)*$C84/100,"") | E84: =IFERROR(VLOOKUP($B84,блюда!$B$11:$I$65,5,FALSE)*$C84/100,"") | F84: =IFERROR(VLOOKUP($B84,блюда!$B$11:$I$65,6,FALSE)*$C84/100,"") | G84: =IFERROR(VLOOKUP($B84,блюда!$B$11:$I$65,7,FALSE)*$C84/100,"") | H84: =IFERROR(VLOOKUP($B84,блюда!$B$11:$I$65,8,FALSE),"")
A85: Итого за Завтрак | C85: =SUM(C79:C84) -> 0 | D85: =SUM(D79:D84) -> 0 | E85: =SUM(E79:E84) -> 0 | F85: =SUM(F79:F84) -> 0 | G85: =SUM(G79:G84) -> 0
A86: Обед
B87: Суп картофельный с крупой, мясом курицы и сметаной | C87: 250 | D87: =IFERROR(VLOOKUP($B87,блюда!$B$11:$I$65,4,FALSE)*$C87/100,"") -> 7.5 | E87: =IFERROR(VLOOKUP($B87,блюда!$B$11:$I$65,5,FALSE)*$C87/100,"") -> 5 | F87: =IFERROR(VLOOKUP($B87,блюда!$B$11:$I$65,6,FALSE)*$C87/100,"") -> 20 | G87: =IFERROR(VLOOKUP($B87,блюда!$B$11:$I$65,7,FALSE)*$C87/100,"") -> 167.5 | H87: =IFERROR(VLOOKUP($B87,блюда!$B$11:$I$65,8,FALSE),"") -> 138(1) / 107(1)
B88: Каша гречневая рассыпчатая | C88: 180 | D88: =IFERROR(VLOOKUP($B88,блюда!$B$11:$I$65,4,FALSE)*$C88/100,"") -> 9 | E88: =IFERROR(VLOOKUP($B88,блюда!$B$11:$I$65,5,FALSE)*$C88/100,"") -> 7.2 | F88: =IFERROR(VLOOKUP($B88,блюда!$B$11:$I$65,6,FALSE)*$C88/100,"") -> 52.2 | G88: =IFERROR(VLOOKUP($B88,блюда!$B$11:$I$65,7,FALSE)*$C88/100,"") -> 315 | H88: =IFERROR(VLOOKUP($B88,блюда!$B$11:$I$65,8,FALSE),"") -> 302 (3)
B89: Рыба тушеная в томате с овощами | C89: 100 | D89: =IFERROR(VLOOKUP($B89,блюда!$B$11:$I$65,4,FALSE)*$C89/100,"") -> 1 | E89: =IFERROR(VLOOKUP($B89,блюда!$B$11:$I$65,5,FALSE)*$C89/100,"") -> 0 | F89: =IFERROR(VLOOKUP($B89,блюда!$B$11:$I$65,6,FALSE)*$C89/100,"") -> 3 | G89: =IFERROR(VLOOKUP($B89,блюда!$B$11:$I$65,7,FALSE)*$C89/100,"") -> 92.5 | H89: =IFERROR(VLOOKUP($B89,блюда!$B$11:$I$65,8,FALSE),"") -> 229 (6)
B90: Чай черный байховый с лимоном и сахаром | C90: 200 | D90: =IFERROR(VLOOKUP($B90,блюда!$B$11:$I$65,4,FALSE)*$C90/100,"") -> 0.3 | E90: =IFERROR(VLOOKUP($B90,блюда!$B$11:$I$65,5,FALSE)*$C90/100,"") -> 0 | F90: =IFERROR(VLOOKUP($B90,блюда!$B$11:$I$65,6,FALSE)*$C90/100,"") -> 6.7 | G90: =IFERROR(VLOOKUP($B90,блюда!$B$11:$I$65,7,FALSE)*$C90/100,"") -> 27.6 | H90: =IFERROR(VLOOKUP($B90,блюда!$B$11:$I$65,8,FALSE),"") -> 686 (1)
B91: Хлеб пшеничный | C91: 30 | D91: =IFERROR(VLOOKUP($B91,блюда!$B$11:$I$65,4,FALSE)*$C91/100,"") -> 2.7 | E91: =IFERROR(VLOOKUP($B91,блюда!$B$11:$I$65,5,FALSE)*$C91/100,"") -> 0.3 | F91: =IFERROR(VLOOKUP($B91,блюда!$B$11:$I$65,6,FALSE)*$C91/100,"") -> 17.1 | G91: =IFERROR(VLOOKUP($B91,блюда!$B$11:$I$65,7,FALSE)*$C91/100,"") -> 94.8 | H91: =IFERROR(VLOOKUP($B91,блюда!$B$11:$I$65,8,FALSE),"") -> т/н
B92: Хлеб ржаной | C92: 30 | D92: =IFERROR(VLOOKUP($B92,блюда!$B$11:$I$65,4,FALSE)*$C92/100,"") -> 0.3 | E92: =IFERROR(VLOOKUP($B92,блюда!$B$11:$I$65,5,FALSE)*$C92/100,"") -> 0.3 | F92: =IFERROR(VLOOKUP($B92,блюда!$B$11:$I$65,6,FALSE)*$C92/100,"") -> 9.9 | G92: =IFERROR(VLOOKUP($B92,блюда!$B$11:$I$65,7,FALSE)*$C92/100,"") -> 81.9 | H92: =IFERROR(VLOOKUP($B92,блюда!$B$11:$I$65,8,FALSE),"") -> т/н
B93: Печенье овсяное | C93: 30 | D93: =IFERROR(VLOOKUP($B93,блюда!$B$11:$I$65,4,FALSE)*$C93/100,"") -> 2.37 | E93: =IFERROR(VLOOKUP($B93,блюда!$B$11:$I$65,5,FALSE)*$C93/100,"") -> 1.2 | F93: =IFERROR(VLOOKUP($B93,блюда!$B$11:$I$65,6,FALSE)*$C93/100,"") -> 16.8 | G93: =IFERROR(VLOOKUP($B93,блюда!$B$11:$I$65,7,FALSE)*$C93/100,"") -> 87 | H93: =IFERROR(VLOOKUP($B93,блюда!$B$11:$I$65,8,FALSE),"") -> т/н
A94: Итого за Обед | C94: =SUM(C87:C93) -> 820 | D94: =SUM(D87:D93) -> 23.17 | E94: =SUM(E87:E93) -> 14 | F94: =SUM(F87:F93) -> 125.7 | G94: =SUM(G87:G93) -> 866.3
A95: Итого за День | C95: =SUM(C85,C94) -> 820 | D95: =SUM(D85,D94) -> 23.17 | E95: =SUM(E85,E94) -> 14 | F95: =SUM(F85,F94) -> 125.7 | G95: =SUM(G85,G94) -> 866.3
A105: МОБУ "Нурминская средняя общеобразовательная школа" Приложение 8 к СанПиН 2.3/2.4.3590-20
A106: Примерное меню и пищевая ценность приготовляемых блюд (лист 1)
A108: Рацион: основной | C108: День: | D108: четверг | F108: Возраст: | G108: 12-18 | H108: лет
C109: Неделя: | D109: 1
A110: Прием пищи | B110: Наименование блюда | C110: Вес блюда | D110: Пищевые вещества (г) | G110: Энерге- тическая ценность (ккал) | H110: № рецептуры
D111: Б | E111: Ж | F111: У
A112: 1 | B112: 2 | C112: 3 | D112: 4 | E112: 5 | F112: 6 | G112: 7
A113: Завтрак
D114: =IFERROR(VLOOKUP($B114,блюда!$B$11:$I$65,4,FALSE)*$C114/100,"") | E114: =IFERROR(VLOOKUP($B114,блюда!$B$11:$I$65,5,FALSE)*$C114/100,"") | F114: =IFERROR(VLOOKUP($B114,блюда!$B$11:$I$65,6,FALSE)*$C114/100,"") | G114: =IFERROR(VLOOKUP($B114,блюда!$B$11:$I$65,7,FALSE)*$C114/100,"") | H114: =IFERROR(VLOOKUP($B114,блюда!$B$11:$I$65,8,FALSE),"")
D115: =IFERROR(VLOOKUP($B115,блюда!$B$11:$I$65,4,FALSE)*$C115/100,"") | E115: =IFERROR(VLOOKUP($B115,блюда!$B$11:$I$65,5,FALSE)*$C115/100,"") | F115: =IFERROR(VLOOKUP($B115,блюда!$B$11:$I$65,6,FALSE)*$C115/100,"") | G115: =IFERROR(VLOOKUP($B115,блюда!$B$11:$I$65,7,FALSE)*$C115/100,"") | H115: =IFERROR(VLOOKUP($B115,блюда!$B$11:$I$65,8,FALSE),"")
D116: =IFERROR(VLOOKUP($B116,блюда!$B$11:$I$65,4,FALSE)*$C116/100,"") | E116: =IFERROR(VLOOKUP($B116,блюда!$B$11:$I$65,5,FALSE)*$C116/100,"") | F116: =IFERROR(VLOOKUP($B116,блюда!$B$11:$I$65,6,FALSE)*$C116/100,"") | G116: =IFERROR(VLOOKUP($B116,блюда!$B$11:$I$65,7,FALSE)*$C116/100,"") | H116: =IFERROR(VLOOKUP($B116,блюда!$B$11:$I$65,8,FALSE),"")
D117: =IFERROR(VLOOKUP($B117,блюда!$B$11:$I$65,4,FALSE)*$C117/100,"") | E117: =IFERROR(VLOOKUP($B117,блюда!$B$11:$I$65,5,FALSE)*$C117/100,"") | F117: =IFERROR(VLOOKUP($B117,блюда!$B$11:$I$65,6,FALSE)*$C117/100,"") | G117: =IFERROR(VLOOKUP($B117,блюда!$B$11:$I$65,7,FALSE)*$C117/100,"") | H117: =IFERROR(VLOOKUP($B117,блюда!$B$11:$I$65,8,FALSE),"")
D118: =IFERROR(VLOOKUP($B118,блюда!$B$11:$I$65,4,FALSE)*$C118/100,"") | E118: =IFERROR(VLOOKUP($B118,блюда!$B$11:$I$65,5,FALSE)*$C118/100,"") | F118: =IFERROR(VLOOKUP($B118,блюда!$B$11:$I$65,6,FALSE)*$C118/100,"") | G118: =IFERROR(VLOOKUP($B118,блюда!$B$11:$I$65,7,FALSE)*$C118/100,"") | H118: =IFERROR(VLOOKUP($B118,блюда!$B$11:$I$65,8,FALSE),"")
D119: =IFERROR(VLOOKUP($B119,блюда!$B$11:$I$65,4,FALSE)*$C119/100,"") | E119: =IFERROR(VLOOKUP($B119,блюда!$B$11:$I$65,5,FALSE)*$C119/100,"") | F119: =IFERROR(VLOOKUP($B119,блюда!$B$11:$I$65,6,FALSE)*$C119/100,"") | G119: =IFERROR(VLOOKUP($B119,блюда!$B$11:$I$65,7,FALSE)*$C119/100,"") | H119: =IFERROR(VLOOKUP($B119,блюда!$B$11:$I$65,8,FALSE),"")
A120: Итого за Завтрак | C120: =SUM(C114:C119) -> 0 | D120: =SUM(D114:D119) -> 0 | E120: =SUM(E114:E119) -> 0 | F120: =SUM(F114:F119) -> 0 | G120: =SUM(G114:G119) -> 0
A121: Обед
B122: Борщ с капустой, картофелем, мясом птицы и сметаной | C122: 250 | D122: =IFERROR(VLOOKUP($B122,блюда!$B$11:$I$65,4,FALSE)*$C122/100,"") -> 6.95 | E122: =IFERROR(VLOOKUP($B122,блюда!$B$11:$I$65,5,FALSE)*$C122/100,"") -> 7.95 | F122: =IFERROR(VLOOKUP($B122,блюда!$B$11:$I$65,6,FALSE)*$C122/100,"") -> 13.125 | G122: =IFERROR(VLOOKUP($B122,блюда!$B$11:$I$65,7,FALSE)*$C122/100,"") -> 152.925 | H122: =IFERROR(VLOOKUP($B122,блюда!$B$11:$I$65,8,FALSE),"") -> 110(1) / 107(1)
B123: Плов из птицы | C123: 200 | D123: =IFERROR(VLOOKUP($B123,блюда!$B$11:$I$65,4,FALSE)*$C123/100,"") -> 28 | E123: =IFERROR(VLOOKUP($B123,блюда!$B$11:$I$65,5,FALSE)*$C123/100,"") -> 8 | F123: =IFERROR(VLOOKUP($B123,блюда!$B$11:$I$65,6,FALSE)*$C123/100,"") -> 34 | G123: =IFERROR(VLOOKUP($B123,блюда!$B$11:$I$65,7,FALSE)*$C123/100,"") -> 340 | H123: =IFERROR(VLOOKUP($B123,блюда!$B$11:$I$65,8,FALSE),"") -> 291(2)
B124: Сок фруктовый (яблочный) | C124: 200 | D124: =IFERROR(VLOOKUP($B124,блюда!$B$11:$I$65,4,FALSE)*$C124/100,"") -> 1 | E124: =IFERROR(VLOOKUP($B124,блюда!$B$11:$I$65,5,FALSE)*$C124/100,"") -> 0 | F124: =IFERROR(VLOOKUP($B124,блюда!$B$11:$I$65,6,FALSE)*$C124/100,"") -> 20 | G124: =IFERROR(VLOOKUP($B124,блюда!$B$11:$I$65,7,FALSE)*$C124/100,"") -> 84.8 | H124: =IFERROR(VLOOKUP($B124,блюда!$B$11:$I$65,8,FALSE),"") -> 389(3)
B125: Хлеб пшеничный | C125: 30 | D125: =IFERROR(VLOOKUP($B125,блюда!$B$11:$I$65,4,FALSE)*$C125/100,"") -> 2.7 | E125: =IFERROR(VLOOKUP($B125,блюда!$B$11:$I$65,5,FALSE)*$C125/100,"") -> 0.3 | F125: =IFERROR(VLOOKUP($B125,блюда!$B$11:$I$65,6,FALSE)*$C125/100,"") -> 17.1 | G125: =IFERROR(VLOOKUP($B125,блюда!$B$11:$I$65,7,FALSE)*$C125/100,"") -> 94.8 | H125: =IFERROR(VLOOKUP($B125,блюда!$B$11:$I$65,8,FALSE),"") -> т/н
B126: Хлеб ржаной | C126: 30 | D126: =IFERROR(VLOOKUP($B126,блюда!$B$11:$I$65,4,FALSE)*$C126/100,"") -> 0.3 | E126: =IFERROR(VLOOKUP($B126,блюда!$B$11:$I$65,5,FALSE)*$C126/100,"") -> 0.3 | F126: =IFERROR(VLOOKUP($B126,блюда!$B$11:$I$65,6,FALSE)*$C126/100,"") -> 9.9 | G126: =IFERROR(VLOOKUP($B126,блюда!$B$11:$I$65,7,FALSE)*$C126/100,"") -> 81.9 | H126: =IFERROR(VLOOKUP($B126,блюда!$B$11:$I$65,8,FALSE),"") -> т/н
B127: Печенье | C127: 30 | D127: =IFERROR(VLOOKUP($B127,блюда!$B$11:$I$65,4,FALSE)*$C127/100,"") -> 0.12 | E127: =IFERROR(VLOOKUP($B127,блюда!$B$11:$I$65,5,FALSE)*$C127/100,"") -> 0.12 | F127: =IFERROR(VLOOKUP($B127,блюда!$B$11:$I$65,6,FALSE)*$C127/100,"") -> 2.94 | G127: =IFERROR(VLOOKUP($B127,блюда!$B$11:$I$65,7,FALSE)*$C127/100,"") -> 132 | H127: =IFERROR(VLOOKUP($B127,блюда!$B$11:$I$65,8,FALSE),"") -> т/н
D128: =IFERROR(VLOOKUP($B128,блюда!$B$11:$I$65,4,FALSE)*$C128/100,"") | E128: =IFERROR(VLOOKUP($B128,блюда!$B$11:$I$65,5,FALSE)*$C128/100,"") | F128: =IFERROR(VLOOKUP($B128,блюда!$B$11:$I$65,6,FALSE)*$C128/100,"") | G128: =IFERROR(VLOOKUP($B128,блюда!$B$11:$I$65,7,FALSE)*$C128/100,"") | H128: =IFERROR(VLOOKUP($B128,блюда!$B$11:$I$65,8,FALSE),"")
A129: Итого за Обед | C129: =SUM(C122:C128) -> 740 | D129: =SUM(D122:D128) -> 39.07 | E129: =SUM(E122:E128) -> 16.67 | F129: =SUM(F122:F128) -> 97.065 | G129: =SUM(G122:G128) -> 886.425
A130: Итого за День | C130: =SUM(C120,C129) -> 740 | D130: =SUM(D120,D129) -> 39.07 | E130: =SUM(E120,E129) -> 16.67 | F130: =SUM(F120,F129) -> 97.065 | G130: =SUM(G120,G129) -> 886.425
...

Sheet платные
A1: МОБУ "Нурминская средняя общеобразовательная школа" Приложение 8 к СанПиН 2.3/2.4.3590-20
A2: Примерное меню и пищевая ценность приготовляемых блюд (лист 1)
A4: Рацион: основной | C4: День: | D4: понедельник | F4: Возраст: | G4: 12-18 | H4: лет
C5: Неделя: | D5: 1
A6: Прием пищи | B6: Наименование блюда | C6: Вес блюда | D6: Пищевые вещества (г) | G6: Энерге- тическая ценность (ккал) | H6: № рецептуры
D7: Б | E7: Ж | F7: У
A8: 1 | B8: 2 | C8: 3 | D8: 4 | E8: 5 | F8: 6 | G8: 7
A9: Завтрак
B10: Каша рисовая молочная (на сгущеном молоке) | C10: 200 | D10: =IFERROR(VLOOKUP($B10,блюда!$B$11:$I$65,4,FALSE)*$C10/100,"") -> 4.2 | E10: =IFERROR(VLOOKUP($B10,блюда!$B$11:$I$65,5,FALSE)*$C10/100,"") -> 2.8 | F10: =IFERROR(VLOOKUP($B10,блюда!$B$11:$I$65,6,FALSE)*$C10/100,"") -> 42.2 | G10: =IFERROR(VLOOKUP($B10,блюда!$B$11:$I$65,7,FALSE)*$C10/100,"") -> 198 | H10: =IFERROR(VLOOKUP($B10,блюда!$B$11:$I$65,8,FALSE),"") -> 54-4к-2020 (8)
B11: Какао со сгущеным молоком | C11: 200 | D11: =IFERROR(VLOOKUP($B11,блюда!$B$11:$I$65,4,FALSE)*$C11/100,"") -> 4.8 | E11: =IFERROR(VLOOKUP($B11,блюда!$B$11:$I$65,5,FALSE)*$C11/100,"") -> 3 | F11: =IFERROR(VLOOKUP($B11,блюда!$B$11:$I$65,6,FALSE)*$C11/100,"") -> 11.4 | G11: =IFERROR(VLOOKUP($B11,блюда!$B$11:$I$65,7,FALSE)*$C11/100,"") -> 90.6 | H11: =IFERROR(VLOOKUP($B11,блюда!$B$11:$I$65,8,FALSE),"") -> 54-2гн-2020 (8)
B12: Печенье | C12: 50 | D12: =IFERROR(VLOOKUP($B12,блюда!$B$11:$I$65,4,FALSE)*$C12/100,"") -> 0.2 | E12: =IFERROR(VLOOKUP($B12,блюда!$B$11:$I$65,5,FALSE)*$C12/100,"") -> 0.2 | F12: =IFERROR(VLOOKUP($B12,блюда!$B$11:$I$65,6,FALSE)*$C12/100,"") -> 4.9 | G12: =IFERROR(VLOOKUP($B12,блюда!$B$11:$I$65,7,FALSE)*$C12/100,"") -> 220 | H12: =IFERROR(VLOOKUP($B12,блюда!$B$11:$I$65,8,FALSE),"") -> т/н
B13: Хлеб пшеничный | C13: 30 | D13: =IFERROR(VLOOKUP($B13,блюда!$B$11:$I$65,4,FALSE)*$C13/100,"") -> 2.7 | E13: =IFERROR(VLOOKUP($B13,блюда!$B$11:$I$65,5,FALSE)*$C13/100,"") -> 0.3 | F13: =IFERROR(VLOOKUP($B13,блюда!$B$11:$I$65,6,FALSE)*$C13/100,"") -> 17.1 | G13: =IFERROR(VLOOKUP($B13,блюда!$B$11:$I$65,7,FALSE)*$C13/100,"") -> 94.8 | H13: =IFERROR(VLOOKUP($B13,блюда!$B$11:$I$65,8,FALSE),"") -> т/н
B14: Хлеб ржаной | C14: 30 | D14: =IFERROR(VLOOKUP($B14,блюда!$B$11:$I$65,4,FALSE)*$C14/100,"") -> 0.3 | E14: =IFERROR(VLOOKUP($B14,блюда!$B$11:$I$65,5,FALSE)*$C14/100,"") -> 0.3 | F14: =IFERROR(VLOOKUP($B14,блюда!$B$11:$I$65,6,FALSE)*$C14/100,"") -> 9.9 | G14: =IFERROR(VLOOKUP($B14,блюда!$B$11:$I$65,7,FALSE)*$C14/100,"") -> 81.9 | H14: =IFERROR(VLOOKUP($B14,блюда!$B$11:$I$65,8,FALSE),"") -> т/н
D15: =IFERROR(VLOOKUP($B15,блюда!$B$11:$I$65,4,FALSE)*$C15/100,"") | E15: =IFERROR(VLOOKUP($B15,блюда!$B$11:$I$65,5,FALSE)*$C15/100,"") | F15: =IFERROR(VLOOKUP($B15,блюда!$B$11:$I$65,6,FALSE)*$C15/100,"") | G15: =IFERROR(VLOOKUP($B15,блюда!$B$11:$I$65,7,FALSE)*$C15/100,"") | H15: =IFERROR(VLOOKUP($B15,блюда!$B$11:$I$65,8,FALSE),"")
A16: Итого за Завтрак | C16: =SUM(C10:C15) -> 510 | D16: =SUM(D10:D15) -> 12.2 | E16: =SUM(E10:E15) -> 6.6 | F16: =SUM(F10:F15) -> 85.5 | G16: =SUM(G10:G15) -> 685.3
A17: Обед
B18: Суп с рыбными консервами | C18: 250 | D18: =IFERROR(VLOOKUP($B18,блюда!$B$11:$I$65,4,FALSE)*$C18/100,"") -> 10 | E18: =IFERROR(VLOOKUP($B18,блюда!$B$11:$I$65,5,FALSE)*$C18/100,"") -> 5 | F18: =IFERROR(VLOOKUP($B18,блюда!$B$11:$I$65,6,FALSE)*$C18/100,"") -> 17.5 | G18: =IFERROR(VLOOKUP($B18,блюда!$B$11:$I$65,7,FALSE)*$C18/100,"") -> 155 | H18: =IFERROR(VLOOKUP($B18,блюда!$B$11:$I$65,8,FALSE),"") -> 87 (5)
B19: Макаронные изделия отварные с маслом | C19: 180 | D19: =IFERROR(VLOOKUP($B19,блюда!$B$11:$I$65,4,FALSE)*$C19/100,"") -> 5.94 | E19: =IFERROR(VLOOKUP($B19,блюда!$B$11:$I$65,5,FALSE)*$C19/100,"") -> 5.94 | F19: =IFERROR(VLOOKUP($B19,блюда!$B$11:$I$65,6,FALSE)*$C19/100,"") -> 38.16 | G19: =IFERROR(VLOOKUP($B19,блюда!$B$11:$I$65,7,FALSE)*$C19/100,"") -> 250.2 | H19: =IFERROR(VLOOKUP($B19,блюда!$B$11:$I$65,8,FALSE),"") -> 203 (2)
B20: Котлеты из курицы | C20: 100 | D20: =IFERROR(VLOOKUP($B20,блюда!$B$11:$I$65,4,FALSE)*$C20/100,"") -> 19.33 | E20: =IFERROR(VLOOKUP($B20,блюда!$B$11:$I$65,5,FALSE)*$C20/100,"") -> 4.92 | F20: =IFERROR(VLOOKUP($B20,блюда!$B$11:$I$65,6,FALSE)*$C20/100,"") -> 12.67 | G20: =IFERROR(VLOOKUP($B20,блюда!$B$11:$I$65,7,FALSE)*$C20/100,"") -> 171.07 | H20: =IFERROR(VLOOKUP($B20,блюда!$B$11:$I$65,8,FALSE),"") -> 295 (3)
B21: Капуста тушеная (закуска) | C21: 60 | D21: =IFERROR(VLOOKUP($B21,блюда!$B$11:$I$65,4,FALSE)*$C21/100,"") -> 3 | E21: =IFERROR(VLOOKUP($B21,блюда!$B$11:$I$65,5,FALSE)*$C21/100,"") -> 4.98 | F21: =IFERROR(VLOOKUP($B21,блюда!$B$11:$I$65,6,FALSE)*$C21/100,"") -> 15 | G21: =IFERROR(VLOOKUP($B21,блюда!$B$11:$I$65,7,FALSE)*$C21/100,"") -> 40.02 | H21: =IFERROR(VLOOKUP($B21,блюда!$B$11:$I$65,8,FALSE),"") -> 321 (3)
B22: Компот из смеси сухофруктов | C22: 200 | D22: =IFERROR(VLOOKUP($B22,блюда!$B$11:$I$65,4,FALSE)*$C22/100,"") -> 0.6 | E22: =IFERROR(VLOOKUP($B22,блюда!$B$11:$I$65,5,FALSE)*$C22/100,"") -> 0 | F22: =IFERROR(VLOOKUP($B22,блюда!$B$11:$I$65,6,FALSE)*$C22/100,"") -> 22.8 | G22: =IFERROR(VLOOKUP($B22,блюда!$B$11:$I$65,7,FALSE)*$C22/100,"") -> 93.2 | H22: =IFERROR(VLOOKUP($B22,блюда!$B$11:$I$65,8,FALSE),"") -> 349 (3)
B23: Хлеб пшеничный | C23: 30 | D23: =IFERROR(VLOOKUP($B23,блюда!$B$11:$I$65,4,FALSE)*$C23/100,"") -> 2.7 | E23: =IFERROR(VLOOKUP($B23,блюда!$B$11:$I$65,5,FALSE)*$C23/100,"") -> 0.3 | F23: =IFERROR(VLOOKUP($B23,блюда!$B$11:$I$65,6,FALSE)*$C23/100,"") -> 17.1 | G23: =IFERROR(VLOOKUP($B23,блюда!$B$11:$I$65,7,FALSE)*$C23/100,"") -> 94.8 | H23: =IFERROR(VLOOKUP($B23,блюда!$B$11:$I$65,8,FALSE),"") -> т/н
B24: Хлеб ржаной | C24: 30 | D24: =IFERROR(VLOOKUP($B24,блюда!$B$11:$I$65,4,FALSE)*$C24/100,"") -> 0.3 | E24: =IFERROR(VLOOKUP($B24,блюда!$B$11:$I$65,5,FALSE)*$C24/100,"") -> 0.3 | F24: =IFERROR(VLOOKUP($B24,блюда!$B$11:$I$65,6,FALSE)*$C24/100,"") -> 9.9 | G24: =IFERROR(VLOOKUP($B24,блюда!$B$11:$I$65,7,FALSE)*$C24/100,"") -> 81.9 | H24: =IFERROR(VLOOKUP($B24,блюда!$B$11:$I$65,8,FALSE),"") -> т/н
A25: Итого за Обед | C25: =SUM(C18:C24) -> 850 | D25: =SUM(D18:D24) -> 41.87 | E25: =SUM(E18:E24) -> 21.44 | F25: =SUM(F18:F24) -> 133.13 | G25: =SUM(G18:G24) -> 886.19
A26: Итого за День | C26: =SUM(C16,C25) -> 1360 | D26: =SUM(D16,D25) -> 54.07 | E26: =SUM(E16,E25) -> 28.04 | F26: =SUM(F16,F25) -> 218.63 | G26: =SUM(G16,G25) -> 1571.49
A35: МОБУ "Нурминская средняя общеобразовательная школа" Приложение 8 к СанПиН 2.3/2.4.3590-20
A36: Примерное меню и пищевая ценность приготовляемых блюд (лист 1)
A38: Рацион: основной | C38: День: | D38: вторник | F38: Возраст: | G38: 12-18 | H38: лет
C39: Неделя: | D39: 1
A40: Прием пищи | B40: Наименование блюда | C40: Вес блюда | D40: Пищевые вещества (г) | G40: Энерге- тическая ценность (ккал) | H40: № рецептуры
D41: Б | E41: Ж | F41: У
A42: 1 | B42: 2 | C42: 3 | D42: 4 | E42: 5 | F42: 6 | G42: 7
A43: Завтрак
B44: Запеканка из творога с молоком сгущенным | C44: 150 | D44: =IFERROR(VLOOKUP($B44,блюда!$B$11:$I$65,4,FALSE)*$C44/100,"") -> 24 | E44: =IFERROR(VLOOKUP($B44,блюда!$B$11:$I$65,5,FALSE)*$C44/100,"") -> 15 | F44: =IFERROR(VLOOKUP($B44,блюда!$B$11:$I$65,6,FALSE)*$C44/100,"") -> 48 | G44: =IFERROR(VLOOKUP($B44,блюда!$B$11:$I$65,7,FALSE)*$C44/100,"") -> 438 | H44: =IFERROR(VLOOKUP($B44,блюда!$B$11:$I$65,8,FALSE),"") -> 223 (2)
B45: Чай черный байховый с сахаром | C45: 200 | D45: =IFERROR(VLOOKUP($B45,блюда!$B$11:$I$65,4,FALSE)*$C45/100,"") -> 0.2 | E45: =IFERROR(VLOOKUP($B45,блюда!$B$11:$I$65,5,FALSE)*$C45/100,"") -> 0 | F45: =IFERROR(VLOOKUP($B45,блюда!$B$11:$I$65,6,FALSE)*$C45/100,"") -> 6.5 | G45: =IFERROR(VLOOKUP($B45,блюда!$B$11:$I$65,7,FALSE)*$C45/100,"") -> 26.4 | H45: =IFERROR(VLOOKUP($B45,блюда!$B$11:$I$65,8,FALSE),"") -> 685 (1)
B46: Хлеб пшеничный | C46: 30 | D46: =IFERROR(VLOOKUP($B46,блюда!$B$11:$I$65,4,FALSE)*$C46/100,"") -> 2.7 | E46: =IFERROR(VLOOKUP($B46,блюда!$B$11:$I$65,5,FALSE)*$C46/100,"") -> 0.3 | F46: =IFERROR(VLOOKUP($B46,блюда!$B$11:$I$65,6,FALSE)*$C46/100,"") -> 17.1 | G46: =IFERROR(VLOOKUP($B46,блюда!$B$11:$I$65,7,FALSE)*$C46/100,"") -> 94.8 | H46: =IFERROR(VLOOKUP($B46,блюда!$B$11:$I$65,8,FALSE),"") -> т/н
B47: Хлеб ржаной | C47: 30 | D47: =IFERROR(VLOOKUP($B47,блюда!$B$11:$I$65,4,FALSE)*$C47/100,"") -> 0.3 | E47: =IFERROR(VLOOKUP($B47,блюда!$B$11:$I$65,5,FALSE)*$C47/100,"") -> 0.3 | F47: =IFERROR(VLOOKUP($B47,блюда!$B$11:$I$65,6,FALSE)*$C47/100,"") -> 9.9 | G47: =IFERROR(VLOOKUP($B47,блюда!$B$11:$I$65,7,FALSE)*$C47/100,"") -> 81.9 | H47: =IFERROR(VLOOKUP($B47,блюда!$B$11:$I$65,8,FALSE),"") -> т/н
D48: =IFERROR(VLOOKUP($B48,блюда!$B$11:$I$65,4,FALSE)*$C48/100,"") | E48: =IFERROR(VLOOKUP($B48,блюда!$B$11:$I$65,5,FALSE)*$C48/100,"") | F48: =IFERROR(VLOOKUP($B48,блюда!$B$11:$I$65,6,FALSE)*$C48/100,"") | G48: =IFERROR(VLOOKUP($B48,блюда!$B$11:$I$65,7,FALSE)*$C48/100,"") | H48: =IFERROR(VLOOKUP($B48,блюда!$B$11:$I$65,8,FALSE),"")
D49: =IFERROR(VLOOKUP($B49,блюда!$B$11:$I$65,4,FALSE)*$C49/100,"") | E49: =IFERROR(VLOOKUP($B49,блюда!$B$11:$I$65,5,FALSE)*$C49/100,"") | F49: =IFERROR(VLOOKUP($B49,блюда!$B$11:$I$65,6,FALSE)*$C49/100,"") | G49: =IFERROR(VLOOKUP($B49,блюда!$B$11:$I$65,7,FALSE)*$C49/100,"") | H49: =IFERROR(VLOOKUP($B49,блюда!$B$11:$I$65,8,FALSE),"")
A50: Итого за Завтрак | C50: =SUM(C44:C49) -> 410 | D50: =SUM(D44:D49) -> 27.2 | E50: =SUM(E44:E49) -> 15.6 | F50: =SUM(F44:F49) -> 81.5 | G50: =SUM(G44:G49) -> 641.1
A51: Обед
B52: Рассольник ленинградский с мясом курицы и сметаной | C52: 200 | D52: =IFERROR(VLOOKUP($B52,блюда!$B$11:$I$65,4,FALSE)*$C52/100,"") -> 6 | E52: =IFERROR(VLOOKUP($B52,блюда!$B$11:$I$65,5,FALSE)*$C52/100,"") -> 6 | F52: =IFERROR(VLOOKUP($B52,блюда!$B$11:$I$65,6,FALSE)*$C52/100,"") -> 16 | G52: =IFERROR(VLOOKUP($B52,блюда!$B$11:$I$65,7,FALSE)*$C52/100,"") -> 144 | H52: =IFERROR(VLOOKUP($B52,блюда!$B$11:$I$65,8,FALSE),"") -> 132 (1) /107 (1)
B53: Рис отварной с маслом | C53: 200 | D53: =IFERROR(VLOOKUP($B53,блюда!$B$11:$I$65,4,FALSE)*$C53/100,"") -> 4 | E53: =IFERROR(VLOOKUP($B53,блюда!$B$11:$I$65,5,FALSE)*$C53/100,"") -> 6 | F53: =IFERROR(VLOOKUP($B53,блюда!$B$11:$I$65,6,FALSE)*$C53/100,"") -> 50 | G53: =IFERROR(VLOOKUP($B53,блюда!$B$11:$I$65,7,FALSE)*$C53/100,"") -> 284 | H53: =IFERROR(VLOOKUP($B53,блюда!$B$11:$I$65,8,FALSE),"") -> 304 (3)
B54: Гуляш | C54: 100 | D54: =IFERROR(VLOOKUP($B54,блюда!$B$11:$I$65,4,FALSE)*$C54/100,"") -> 17.25 | E54: =IFERROR(VLOOKUP($B54,блюда!$B$11:$I$65,5,FALSE)*$C54/100,"") -> 14 | F54: =IFERROR(VLOOKUP($B54,блюда!$B$11:$I$65,6,FALSE)*$C54/100,"") -> 4.125 | G54: =IFERROR(VLOOKUP($B54,блюда!$B$11:$I$65,7,FALSE)*$C54/100,"") -> 211.75 | H54: =IFERROR(VLOOKUP($B54,блюда!$B$11:$I$65,8,FALSE),"") -> 260 (2)
B55: Чай черный байховый с сахаром | C55: 200 | D55: =IFERROR(VLOOKUP($B55,блюда!$B$11:$I$65,4,FALSE)*$C55/100,"") -> 0.2 | E55: =IFERROR(VLOOKUP($B55,блюда!$B$11:$I$65,5,FALSE)*$C55/100,"") -> 0 | F55: =IFERROR(VLOOKUP($B55,блюда!$B$11:$I$65,6,FALSE)*$C55/100,"") -> 6.5 | G55: =IFERROR(VLOOKUP($B55,блюда!$B$11:$I$65,7,FALSE)*$C55/100,"") -> 26.4 | H55: =IFERROR(VLOOKUP($B55,блюда!$B$11:$I$65,8,FALSE),"") -> 685 (1)
B56: Хлеб пшеничный | C56: 30 | D56: =IFERROR(VLOOKUP($B56,блюда!$B$11:$I$65,4,FALSE)*$C56/100,"") -> 2.7 | E56: =IFERROR(VLOOKUP($B56,блюда!$B$11:$I$65,5,FALSE)*$C56/100,"") -> 0.3 | F56: =IFERROR(VLOOKUP($B56,блюда!$B$11:$I$65,6,FALSE)*$C56/100,"") -> 17.1 | G56: =IFERROR(VLOOKUP($B56,блюда!$B$11:$I$65,7,FALSE)*$C56/100,"") -> 94.8 | H56: =IFERROR(VLOOKUP($B56,блюда!$B$11:$I$65,8,FALSE),"") -> т/н
B57: Хлеб ржаной | C57: 30 | D57: =IFERROR(VLOOKUP($B57,блюда!$B$11:$I$65,4,FALSE)*$C57/100,"") -> 0.3 | E57: =IFERROR(VLOOKUP($B57,блюда!$B$11:$I$65,5,FALSE)*$C57/100,"") -> 0.3 | F57: =IFERROR(VLOOKUP($B57,блюда!$B$11:$I$65,6,FALSE)*$C57/100,"") -> 9.9 | G57: =IFERROR(VLOOKUP($B57,блюда!$B$11:$I$65,7,FALSE)*$C57/100,"") -> 81.9 | H57: =IFERROR(VLOOKUP($B57,блюда!$B$11:$I$65,8,FALSE),"") -> т/н
D58: =IFERROR(VLOOKUP($B58,блюда!$B$11:$I$65,4,FALSE)*$C58/100,"") | E58: =IFERROR(VLOOKUP($B58,блюда!$B$11:$I$65,5,FALSE)*$C58/100,"") | F58: =IFERROR(VLOOKUP($B58,блюда!$B$11:$I$65,6,FALSE)*$C58/100,"") | G58: =IFERROR(VLOOKUP($B58,блюда!$B$11:$I$65,7,FALSE)*$C58/100,"") | H58: =IFERROR(VLOOKUP($B58,блюда!$B$11:$I$65,8,FALSE),"")
A59: Итого за Обед | C59: =SUM(C52:C58) -> 760 | D59: =SUM(D52:D58) -> 30.45 | E59: =SUM(E52:E58) -> 26.6 | F59: =SUM(F52:F58) -> 103.625 | G59: =SUM(G52:G58) -> 842.85
A60: Итого за День | C60: =SUM(C50,C59) -> 1170 | D60: =SUM(D50,D59) -> 57.65 | E60: =SUM(E50,E59) -> 42.2 | F60: =SUM(F50,F59) -> 185.125 | G60: =SUM(G50,G59) -> 1483.95
A70: МОБУ "Нурминская средняя общеобразовательная школа" Приложение 8 к СанПиН 2.3/2.4.3590-20
A71: Примерное меню и пищевая ценность приготовляемых блюд (лист 1)
A73: Рацион: основной | C73: День: | D73: среда | F73: Возраст: | G73: 12-18 | H73: лет
C74: Неделя: | D74: 1
A75: Прием пищи | B75: Наименование блюда | C75: Вес блюда | D75: Пищевые вещества (г) | G75: Энерге- тическая ценность (ккал) | H75: № рецептуры
D76: Б | E76: Ж | F76: У
A77: 1 | B77: 2 | C77: 3 | D77: 4 | E77: 5 | F77: 6 | G77: 7
A78: Завтрак
B79: Каша вязкая молочная из овсяной крупы (с маслом и сахаром) | C79: 200 | D79: =IFERROR(VLOOKUP($B79,блюда!$B$11:$I$65,4,FALSE)*$C79/100,"") -> 5.46 | E79: =IFERROR(VLOOKUP($B79,блюда!$B$11:$I$65,5,FALSE)*$C79/100,"") -> 9.86 | F79: =IFERROR(VLOOKUP($B79,блюда!$B$11:$I$65,6,FALSE)*$C79/100,"") -> 48 | G79: =IFERROR(VLOOKUP($B79,блюда!$B$11:$I$65,7,FALSE)*$C79/100,"") -> 304 | H79: =IFERROR(VLOOKUP($B79,блюда!$B$11:$I$65,8,FALSE),"") -> 1⁵
B80: Чай черный байховый с лимоном и сахаром | C80: 200 | D80: =IFERROR(VLOOKUP($B80,блюда!$B$11:$I$65,4,FALSE)*$C80/100,"") -> 0.3 | E80: =IFERROR(VLOOKUP($B80,блюда!$B$11:$I$65,5,FALSE)*$C80/100,"") -> 0 | F80: =IFERROR(VLOOKUP($B80,блюда!$B$11:$I$65,6,FALSE)*$C80/100,"") -> 6.7 | G80: =IFERROR(VLOOKUP($B80,блюда!$B$11:$I$65,7,FALSE)*$C80/100,"") -> 27.6 | H80: =IFERROR(VLOOKUP($B80,блюда!$B$11:$I$65,8,FALSE),"") -> 686 (1)
B81: Хлеб пшеничный | C81: 30 | D81: =IFERROR(VLOOKUP($B81,блюда!$B$11:$I$65,4,FALSE)*$C81/100,"") -> 2.7 | E81: =IFERROR(VLOOKUP($B81,блюда!$B$11:$I$65,5,FALSE)*$C81/100,"") -> 0.3 | F81: =IFERROR(VLOOKUP($B81,блюда!$B$11:$I$65,6,FALSE)*$C81/100,"") -> 17.1 | G81: =IFERROR(VLOOKUP($B81,блюда!$B$11:$I$65,7,FALSE)*$C81/100,"") -> 94.8 | H81: =IFERROR(VLOOKUP($B81,блюда!$B$11:$I$65,8,FALSE),"") -> т/н
B82: Хлеб ржаной | C82: 30 | D82: =IFERROR(VLOOKUP($B82,блюда!$B$11:$I$65,4,FALSE)*$C82/100,"") -> 0.3 | E82: =IFERROR(VLOOKUP($B82,блюда!$B$11:$I$65,5,FALSE)*$C82/100,"") -> 0.3 | F82: =IFERROR(VLOOKUP($B82,блюда!$B$11:$I$65,6,FALSE)*$C82/100,"") -> 9.9 | G82: =IFERROR(VLOOKUP($B82,блюда!$B$11:$I$65,7,FALSE)*$C82/100,"") -> 81.9 | H82: =IFERROR(VLOOKUP($B82,блюда!$B$11:$I$65,8,FALSE),"") -> т/н
B83: Груша свежая | C83: 100 | D83: =IFERROR(VLOOKUP($B83,блюда!$B$11:$I$65,4,FALSE)*$C83/100,"") -> 0.4 | E83: =IFERROR(VLOOKUP($B83,блюда!$B$11:$I$65,5,FALSE)*$C83/100,"") -> 0.3 | F83: =IFERROR(VLOOKUP($B83,блюда!$B$11:$I$65,6,FALSE)*$C83/100,"") -> 10.3 | G83: =IFERROR(VLOOKUP($B83,блюда!$B$11:$I$65,7,FALSE)*$C83/100,"") -> 46 | H83: =IFERROR(VLOOKUP($B83,блюда!$B$11:$I$65,8,FALSE),"") -> 338³
D84: =IFERROR(VLOOKUP($B84,блюда!$B$11:$I$65,4,FALSE)*$C84/100,"") | E84: =IFERROR(VLOOKUP($B84,блюда!$B$11:$I$65,5,FALSE)*$C84/100,"") | F84: =IFERROR(VLOOKUP($B84,блюда!$B$11:$I$65,6,FALSE)*$C84/100,"") | G84: =IFERROR(VLOOKUP($B84,блюда!$B$11:$I$65,7,FALSE)*$C84/100,"") | H84: =IFERROR(VLOOKUP($B84,блюда!$B$11:$I$65,8,FALSE),"")
A85: Итого за Завтрак | C85: =SUM(C79:C84) -> 560 | D85: =SUM(D79:D84) -> 9.16 | E85: =SUM(E79:E84) -> 10.76 | F85: =SUM(F79:F84) -> 92 | G85: =SUM(G79:G84) -> 554.3
A86: Обед
B87: Суп картофельный с крупой, мясом курицы и сметаной | C87: 250 | D87: =IFERROR(VLOOKUP($B87,блюда!$B$11:$I$65,4,FALSE)*$C87/100,"") -> 7.5 | E87: =IFERROR(VLOOKUP($B87,блюда!$B$11:$I$65,5,FALSE)*$C87/100,"") -> 5 | F87: =IFERROR(VLOOKUP($B87,блюда!$B$11:$I$65,6,FALSE)*$C87/100,"") -> 20 | G87: =IFERROR(VLOOKUP($B87,блюда!$B$11:$I$65,7,FALSE)*$C87/100,"") -> 167.5 | H87: =IFERROR(VLOOKUP($B87,блюда!$B$11:$I$65,8,FALSE),"") -> 138(1) / 107(1)
B88: Каша гречневая рассыпчатая | C88: 180 | D88: =IFERROR(VLOOKUP($B88,блюда!$B$11:$I$65,4,FALSE)*$C88/100,"") -> 9 | E88: =IFERROR(VLOOKUP($B88,блюда!$B$11:$I$65,5,FALSE)*$C88/100,"") -> 7.2 | F88: =IFERROR(VLOOKUP($B88,блюда!$B$11:$I$65,6,FALSE)*$C88/100,"") -> 52.2 | G88: =IFERROR(VLOOKUP($B88,блюда!$B$11:$I$65,7,FALSE)*$C88/100,"") -> 315 | H88: =IFERROR(VLOOKUP($B88,блюда!$B$11:$I$65,8,FALSE),"") -> 302 (3)
B89: Рыба тушеная в томате с овощами | C89: 100 | D89: =IFERROR(VLOOKUP($B89,блюда!$B$11:$I$65,4,FALSE)*$C89/100,"") -> 1 | E89: =IFERROR(VLOOKUP($B89,блюда!$B$11:$I$65,5,FALSE)*$C89/100,"") -> 0 | F89: =IFERROR(VLOOKUP($B89,блюда!$B$11:$I$65,6,FALSE)*$C89/100,"") -> 3 | G89: =IFERROR(VLOOKUP($B89,блюда!$B$11:$I$65,7,FALSE)*$C89/100,"") -> 92.5 | H89: =IFERROR(VLOOKUP($B89,блюда!$B$11:$I$65,8,FALSE),"") -> 229 (6)
B90: Чай черный байховый с лимоном и сахаром | C90: 200 | D90: =IFERROR(VLOOKUP($B90,блюда!$B$11:$I$65,4,FALSE)*$C90/100,"") -> 0.3 | E90: =IFERROR(VLOOKUP($B90,блюда!$B$11:$I$65,5,FALSE)*$C90/100,"") -> 0 | F90: =IFERROR(VLOOKUP($B90,блюда!$B$11:$I$65,6,FALSE)*$C90/100,"") -> 6.7 | G90: =IFERROR(VLOOKUP($B90,блюда!$B$11:$I$65,7,FALSE)*$C90/100,"") -> 27.6 | H90: =IFERROR(VLOOKUP($B90,блюда!$B$11:$I$65,8,FALSE),"") -> 686 (1)
B91: Хлеб пшеничный | C91: 30 | D91: =IFERROR(VLOOKUP($B91,блюда!$B$11:$I$65,4,FALSE)*$C91/100,"") -> 2.7 | E91: =IFERROR(VLOOKUP($B91,блюда!$B$11:$I$65,5,FALSE)*$C91/100,"") -> 0.3 | F91: =IFERROR(VLOOKUP($B91,блюда!$B$11:$I$65,6,FALSE)*$C91/100,"") -> 17.1 | G91: =IFERROR(VLOOKUP($B91,блюда!$B$11:$I$65,7,FALSE)*$C91/100,"") -> 94.8 | H91: =IFERROR(VLOOKUP($B91,блюда!$B$11:$I$65,8,FALSE),"") -> т/н
B92: Хлеб ржаной | C92: 30 | D92: =IFERROR(VLOOKUP($B92,блюда!$B$11:$I$65,4,FALSE)*$C92/100,"") -> 0.3 | E92: =IFERROR(VLOOKUP($B92,блюда!$B$11:$I$65,5,FALSE)*$C92/100,"") -> 0.3 | F92: =IFERROR(VLOOKUP($B92,блюда!$B$11:$I$65,6,FALSE)*$C92/100,"") -> 9.9 | G92: =IFERROR(VLOOKUP($B92,блюда!$B$11:$I$65,7,FALSE)*$C92/100,"") -> 81.9 | H92: =IFERROR(VLOOKUP($B92,блюда!$B$11:$I$65,8,FALSE),"") -> т/н
B93: Печенье овсяное | C93: 30 | D93: =IFERROR(VLOOKUP($B93,блюда!$B$11:$I$65,4,FALSE)*$C93/100,"") -> 2.37 | E93: =IFERROR(VLOOKUP($B93,блюда!$B$11:$I$65,5,FALSE)*$C93/100,"") -> 1.2 | F93: =IFERROR(VLOOKUP($B93,блюда!$B$11:$I$65,6,FALSE)*$C93/100,"") -> 16.8 | G93: =IFERROR(VLOOKUP($B93,блюда!$B$11:$I$65,7,FALSE)*$C93/100,"") -> 87 | H93: =IFERROR(VLOOKUP($B93,блюда!$B$11:$I$65,8,FALSE),"") -> т/н
A94: Итого за Обед | C94: =SUM(C87:C93) -> 820 | D94: =SUM(D87:D93) -> 23.17 | E94: =SUM(E87:E93) -> 14 | F94: =SUM(F87:F93) -> 125.7 | G94: =SUM(G87:G93) -> 866.3
A95: Итого за День | C95: =SUM(C85,C94) -> 1380 | D95: =SUM(D85,D94) -> 32.33 | E95: =SUM(E85,E94) -> 24.76 | F95: =SUM(F85,F94) -> 217.7 | G95: =SUM(G85,G94) -> 1420.6
A105: МОБУ "Нурминская средняя общеобразовательная школа" Приложение 8 к СанПиН 2.3/2.4.3590-20
A106: Примерное меню и пищевая ценность приготовляемых блюд (лист 1)
A108: Рацион: основной | C108: День: | D108: четверг | F108: Возраст: | G108: 12-18 | H108: лет
C109: Неделя: | D109: 1
A110: Прием пищи | B110: Наименование блюда | C110: Вес блюда | D110: Пищевые вещества (г) | G110: Энерге- тическая ценность (ккал) | H110: № рецептуры
D111: Б | E111: Ж | F111: У
A112: 1 | B112: 2 | C112: 3 | D112: 4 | E112: 5 | F112: 6 | G112: 7
A113: Завтрак
B114: Бутерброд с сыром | C114: 55 | D114: =IFERROR(VLOOKUP($B114,блюда!$B$11:$I$65,4,FALSE)*$C114/100,"") -> 5.005 | E114: =IFERROR(VLOOKUP($B114,блюда!$B$11:$I$65,5,FALSE)*$C114/100,"") -> 7.975 | F114: =IFERROR(VLOOKUP($B114,блюда!$B$11:$I$65,6,FALSE)*$C114/100,"") -> 6.985 | G114: =IFERROR(VLOOKUP($B114,блюда!$B$11:$I$65,7,FALSE)*$C114/100,"") -> 122.98 | H114: =IFERROR(VLOOKUP($B114,блюда!$B$11:$I$65,8,FALSE),"") -> 3(2)
B115: Суп молочный с макаронными изделиями | C115: 250 | D115: =IFERROR(VLOOKUP($B115,блюда!$B$11:$I$65,4,FALSE)*$C115/100,"") -> 5.5 | E115: =IFERROR(VLOOKUP($B115,блюда!$B$11:$I$65,5,FALSE)*$C115/100,"") -> 4.75 | F115: =IFERROR(VLOOKUP($B115,блюда!$B$11:$I$65,6,FALSE)*$C115/100,"") -> 18 | G115: =IFERROR(VLOOKUP($B115,блюда!$B$11:$I$65,7,FALSE)*$C115/100,"") -> 237.5 | H115: =IFERROR(VLOOKUP($B115,блюда!$B$11:$I$65,8,FALSE),"") -> 160(1)
B116: Кофейный напиток с молоком | C116: 200 | D116: =IFERROR(VLOOKUP($B116,блюда!$B$11:$I$65,4,FALSE)*$C116/100,"") -> 3.8 | E116: =IFERROR(VLOOKUP($B116,блюда!$B$11:$I$65,5,FALSE)*$C116/100,"") -> 3.6 | F116: =IFERROR(VLOOKUP($B116,блюда!$B$11:$I$65,6,FALSE)*$C116/100,"") -> 11.2 | G116: =IFERROR(VLOOKUP($B116,блюда!$B$11:$I$65,7,FALSE)*$C116/100,"") -> 90.8 | H116: =IFERROR(VLOOKUP($B116,блюда!$B$11:$I$65,8,FALSE),"") -> 379(3)
B117: Хлеб ржаной | C117: 30 | D117: =IFERROR(VLOOKUP($B117,блюда!$B$11:$I$65,4,FALSE)*$C117/100,"") -> 0.3 | E117: =IFERROR(VLOOKUP($B117,блюда!$B$11:$I$65,5,FALSE)*$C117/100,"") -> 0.3 | F117: =IFERROR(VLOOKUP($B117,блюда!$B$11:$I$65,6,FALSE)*$C117/100,"") -> 9.9 | G117: =IFERROR(VLOOKUP($B117,блюда!$B$11:$I$65,7,FALSE)*$C117/100,"") -> 81.9 | H117: =IFERROR(VLOOKUP($B117,блюда!$B$11:$I$65,8,FALSE),"") -> т/н
B118: Пряник | C118: 60 | D118: =IFERROR(VLOOKUP($B118,блюда!$B$11:$I$65,4,FALSE)*$C118/100,"") -> 4.2 | E118: =IFERROR(VLOOKUP($B118,блюда!$B$11:$I$65,5,FALSE)*$C118/100,"") -> 4.8 | F118: =IFERROR(VLOOKUP($B118,блюда!$B$11:$I$65,6,FALSE)*$C118/100,"") -> 21 | G118: =IFERROR(VLOOKUP($B118,блюда!$B$11:$I$65,7,FALSE)*$C118/100,"") -> 105 | H118: =IFERROR(VLOOKUP($B118,блюда!$B$11:$I$65,8,FALSE),"") -> т/н
D119: =IFERROR(VLOOKUP($B119,блюда!$B$11:$I$65,4,FALSE)*$C119/100,"") | E119: =IFERROR(VLOOKUP($B119,блюда!$B$11:$I$65,5,FALSE)*$C119/100,"") | F119: =IFERROR(VLOOKUP($B119,блюда!$B$11:$I$65,6,FALSE)*$C119/100,"") | G119: =IFERROR(VLOOKUP($B119,блюда!$B$11:$I$65,7,FALSE)*$C119/100,"") | H119: =IFERROR(VLOOKUP($B119,блюда!$B$11:$I$65,8,FALSE),"")
A120: Итого за Завтрак | C120: =SUM(C114:C119) -> 595 | D120: =SUM(D114:D119) -> 18.805 | E120: =SUM(E114:E119) -> 21.425 | F120: =SUM(F114:F119) -> 67.085 | G120: =SUM(G114:G119) -> 638.18
A121: Обед
B122: Борщ с капустой, картофелем, мясом птицы и сметаной | C122: 250 | D122: =IFERROR(VLOOKUP($B122,блюда!$B$11:$I$65,4,FALSE)*$C122/100,"") -> 6.95 | E122: =IFERROR(VLOOKUP($B122,блюда!$B$11:$I$65,5,FALSE)*$C122/100,"") -> 7.95 | F122: =IFERROR(VLOOKUP($B122,блюда!$B$11:$I$65,6,FALSE)*$C122/100,"") -> 13.125 | G122: =IFERROR(VLOOKUP($B122,блюда!$B$11:$I$65,7,FALSE)*$C122/100,"") -> 152.925 | H122: =IFERROR(VLOOKUP($B122,блюда!$B$11:$I$65,8,FALSE),"") -> 110(1) / 107(1)
B123: Плов из птицы | C123: 200 | D123: =IFERROR(VLOOKUP($B123,блюда!$B$11:$I$65,4,FALSE)*$C123/100,"") -> 28 | E123: =IFERROR(VLOOKUP($B123,блюда!$B$11:$I$65,5,FALSE)*$C123/100,"") -> 8 | F123: =IFERROR(VLOOKUP($B123,блюда!$B$11:$I$65,6,FALSE)*$C123/100,"") -> 34 | G123: =IFERROR(VLOOKUP($B123,блюда!$B$11:$I$65,7,FALSE)*$C123/100,"") -> 340 | H123: =IFERROR(VLOOKUP($B123,блюда!$B$11:$I$65,8,FALSE),"") -> 291(2)
B124: Сок фруктовый (яблочный) | C124: 200 | D124: =IFERROR(VLOOKUP($B124,блюда!$B$11:$I$65,4,FALSE)*$C124/100,"") -> 1 | E124: =IFERROR(VLOOKUP($B124,блюда!$B$11:$I$65,5,FALSE)*$C124/100,"") -> 0 | F124: =IFERROR(VLOOKUP($B124,блюда!$B$11:$I$65,6,FALSE)*$C124/100,"") -> 20 | G124: =IFERROR(VLOOKUP($B124,блюда!$B$11:$I$65,7,FALSE)*$C124/100,"") -> 84.8 | H124: =IFERROR(VLOOKUP($B124,блюда!$B$11:$I$65,8,FALSE),"") -> 389(3)
B125: Хлеб пшеничный | C125: 30 | D125: =IFERROR(VLOOKUP($B125,блюда!$B$11:$I$65,4,FALSE)*$C125/100,"") -> 2.7 | E125: =IFERROR(VLOOKUP($B125,блюда!$B$11:$I$65,5,FALSE)*$C125/100,"") -> 0.3 | F125: =IFERROR(VLOOKUP($B125,блюда!$B$11:$I$65,6,FALSE)*$C125/100,"") -> 17.1 | G125: =IFERROR(VLOOKUP($B125,блюда!$B$11:$I$65,7,FALSE)*$C125/100,"") -> 94.8 | H125: =IFERROR(VLOOKUP($B125,блюда!$B$11:$I$65,8,FALSE),"") -> т/н
B126: Хлеб ржаной | C126: 30 | D126: =IFERROR(VLOOKUP($B126,блюда!$B$11:$I$65,4,FALSE)*$C126/100,"") -> 0.3 | E126: =IFERROR(VLOOKUP($B126,блюда!$B$11:$I$65,5,FALSE)*$C126/100,"") -> 0.3 | F126: =IFERROR(VLOOKUP($B126,блюда!$B$11:$I$65,6,FALSE)*$C126/100,"") -> 9.9 | G126: =IFERROR(VLOOKUP($B126,блюда!$B$11:$I$65,7,FALSE)*$C126/100,"") -> 81.9 | H126: =IFERROR(VLOOKUP($B126,блюда!$B$11:$I$65,8,FALSE),"") -> т/н
B127: Печенье | C127: 30 | D127: =IFERROR(VLOOKUP($B127,блюда!$B$11:$I$65,4,FALSE)*$C127/100,"") -> 0.12 | E127: =IFERROR(VLOOKUP($B127,блюда!$B$11:$I$65,5,FALSE)*$C127/100,"") -> 0.12 | F127: =IFERROR(VLOOKUP($B127,блюда!$B$11:$I$65,6,FALSE)*$C127/100,"") -> 2.94 | G127: =IFERROR(VLOOKUP($B127,блюда!$B$11:$I$65,7,FALSE)*$C127/100,"") -> 132 | H127: =IFERROR(VLOOKUP($B127,блюда!$B$11:$I$65,8,FALSE),"") -> т/н
D128: =IFERROR(VLOOKUP($B128,блюда!$B$11:$I$65,4,FALSE)*$C128/100,"") | E128: =IFERROR(VLOOKUP($B128,блюда!$B$11:$I$65,5,FALSE)*$C128/100,"") | F128: =IFERROR(VLOOKUP($B128,блюда!$B$11:$I$65,6,FALSE)*$C128/100,"") | G128: =IFERROR(VLOOKUP($B128,блюда!$B$11:$I$65,7,FALSE)*$C128/100,"") | H128: =IFERROR(VLOOKUP($B128,блюда!$B$11:$I$65,8,FALSE),"")
A129: Итого за Обед | C129: =SUM(C122:C128) -> 740 | D129: =SUM(D122:D128) -> 39.07 | E129: =SUM(E122:E128) -> 16.67 | F129: =SUM(F122:F128) -> 97.065 | G129: =SUM(G122:G128) -> 886.425
A130: Итого за День | C130: =SUM(C120,C129) -> 1335 | D130: =SUM(D120,D129) -> 57.875 | E130: =SUM(E120,E129) -> 38.095 | F130: =SUM(F120,F129) -> 164.15 | G130: =SUM(G120,G129) -> 1524.605
...
